BEGIN:VCALENDAR
VERSION:2.0
PRODID:-//Bellevue UKE&#039;sters - ECPv6.15.20//NONSGML v1.0//EN
CALSCALE:GREGORIAN
METHOD:PUBLISH
X-ORIGINAL-URL:https://ukesters.com
X-WR-CALDESC:Events for Bellevue UKE&#039;sters
REFRESH-INTERVAL;VALUE=DURATION:PT1H
X-Robots-Tag:noindex
X-PUBLISHED-TTL:PT1H
BEGIN:VTIMEZONE
TZID:UTC
BEGIN:STANDARD
TZOFFSETFROM:+0000
TZOFFSETTO:+0000
TZNAME:UTC
DTSTART:20210101T000000
END:STANDARD
END:VTIMEZONE
BEGIN:VEVENT
DTSTART;TZID=UTC:20220608T130000
DTEND;TZID=UTC:20220608T143000
DTSTAMP:20260426T041723
CREATED:20220606T182545Z
LAST-MODIFIED:20220606T191209Z
UID:1600-1654693200-1654698600@ukesters.com
SUMMARY:Song Circle
DESCRIPTION:An informal gathering to play and sing together. \nSongs were selected in advance by request. \nYou can download the song list in one PDF file here\, or use the list below to organize your sheet music. \nWe will start with warm up for body and vocal cords! \nGIG SONGS: \n_01 All My Loving \n_02 Life Could Be a Dream \n_03 Northshore Serenade \n_04 Octopus’s Garden \n_05 Rhythm of the Ocean \n_06 Somewhere Over the Rainbow/What a W.W. \n_07 U’lili E \n_08 White Sandy Beach \nREDMOND Sing Along SONGS: \n_09 Between the Devil & the Deep Blue Sea \n_10 Blue Bayou  (potential gig song) \n_11 Can’t Take My Eyes Off You \n_12 Come Monday \n_13 Dock of the Bay \n_14 I Believe in Music \n_15 I Remember Everything   https://www.youtube.com/watch?v=L21Tc_DtL6M \n_16 The Letter \n_17 Singing in the Rain \n_18 Singing the Blues \n_19 Under the Boardwalk (G) (potential gig song) \n_20 The Way \n_21 Aloha ‘Oe (F)
URL:https://ukesters.com/event/song-circle-12/
LOCATION:McNeill residence\, available by request\, Kirkland\, WA\, United States
ATTACH;FMTTYPE=image/jpeg:https://ukesters.com/wp-content/uploads/2021/06/21-6-2-UKEsters-together-agains-1.jpg
END:VEVENT
END:VCALENDAR