BEGIN:VCALENDAR
VERSION:2.0
PRODID:-//Bellevue UKE&#039;sters - ECPv6.15.20//NONSGML v1.0//EN
CALSCALE:GREGORIAN
METHOD:PUBLISH
X-ORIGINAL-URL:https://ukesters.com
X-WR-CALDESC:Events for Bellevue UKE&#039;sters
REFRESH-INTERVAL;VALUE=DURATION:PT1H
X-Robots-Tag:noindex
X-PUBLISHED-TTL:PT1H
BEGIN:VTIMEZONE
TZID:UTC
BEGIN:STANDARD
TZOFFSETFROM:+0000
TZOFFSETTO:+0000
TZNAME:UTC
DTSTART:20210101T000000
END:STANDARD
END:VTIMEZONE
BEGIN:VEVENT
DTSTART;TZID=UTC:20220615T130000
DTEND;TZID=UTC:20220615T143000
DTSTAMP:20260426T041820
CREATED:20220613T201859Z
LAST-MODIFIED:20220614T141453Z
UID:1657-1655298000-1655303400@ukesters.com
SUMMARY:Song Circle
DESCRIPTION:An informal gathering to sing and play together. \nSongs list is below. Songs were compiled by email request from our Gig songs and the Redmond Sing Along Songbook \nPlease organize your music ahead of time using the list below\, or download this PDF file for use with electronic devices. \nAs in weeks past\, we will again start with warm up for body and vocal cords! \nGIG SONGS: \n_01 Beautiful Kauai \n_02 Hele On To Kauai \n_03 Hanalei Moon \n_04 I Can’t Help Falling in Love With You \n_05 Sway \n_06 Sweet Lady of Waiahole  \n_07 This Magic Moment \n_08 Wahine Ilikea (G) \nREDMOND Sing Along SONGS: \n_09 Best Day of My Life (play along video in same key as our music:  https://www.youtube.com/watch?v=jAzqewpjji0) \n_10 Big Yellow Taxi \n_11 Edelweiss \n_12 Hello Muddah \n_13 I Remember Everything ( https://www.youtube.com/watch?v=L21Tc_DtL6M) \n_14 Singing the Blues \n_15 Sound of Silence \n_16 Tonight You Belong to Me \n_17 Under the Boardwalk \n_18 The Way \n_19 The Wellerman \n_20 Aloha ‘Oe in C
URL:https://ukesters.com/event/song-circle-13/
LOCATION:Aljoya Senior Living Community\, 2430 76th Avenue SE\, Mercer Island\, 98040\, United States
ATTACH;FMTTYPE=image/jpeg:https://ukesters.com/wp-content/uploads/2022/05/Aljoya-garden-patio.jpg
END:VEVENT
END:VCALENDAR