BEGIN:VCALENDAR
VERSION:2.0
PRODID:-//Bellevue UKE&#039;sters - ECPv6.15.20//NONSGML v1.0//EN
CALSCALE:GREGORIAN
METHOD:PUBLISH
X-ORIGINAL-URL:https://ukesters.com
X-WR-CALDESC:Events for Bellevue UKE&#039;sters
REFRESH-INTERVAL;VALUE=DURATION:PT1H
X-Robots-Tag:noindex
X-PUBLISHED-TTL:PT1H
BEGIN:VTIMEZONE
TZID:UTC
BEGIN:STANDARD
TZOFFSETFROM:+0000
TZOFFSETTO:+0000
TZNAME:UTC
DTSTART:20210101T000000
END:STANDARD
END:VTIMEZONE
BEGIN:VEVENT
DTSTART;TZID=UTC:20220622T130000
DTEND;TZID=UTC:20220622T143000
DTSTAMP:20260426T041754
CREATED:20220620T225858Z
LAST-MODIFIED:20220620T225858Z
UID:1667-1655902800-1655908200@ukesters.com
SUMMARY:Song Circle
DESCRIPTION:An informal gathering to sing and play together. We will  start with warm up for body and vocal cords. \nSongs list is below. Songs were compiled by email request from our Gig songs and the Redmond Sing Along Songbook \nPlease organize your music ahead of time using the list below\, or download this PDF file for use with electronic devices. \nGig Book (12 songs) \nBlue Skies \nBlue Bayou \nCount on Me \nDon’t Worry Be Happy \nI Can See Clearly Now \nI Miss You My Hawaii \nI’ll Remember You \nKa Ulu Wehi O Ke Kai \nStrolling on the Beach at Waikiki \nUlupalakua \nWaikiki \nYou Ku’uipo \nRedmond Song Book: (7 songs + Aloha ‘Oe) \nBetween the Devil and the Deep Blue Sea \nFreight Train \nHotel California \nI’m Yours \nLooking Out My Back Door \nSpanish Pipedream (play along in the same key: https://www.youtube.com/watch?v=GY0pM0H_rD0) \nThis Land is Your Land (the original version\, not Redmond version) \nAloha ‘Oe in C
URL:https://ukesters.com/event/song-circle-14/
LOCATION:McNeill residence\, available by request\, Kirkland\, WA\, United States
ATTACH;FMTTYPE=image/jpeg:https://ukesters.com/wp-content/uploads/2021/06/21-6-2-UKEsters-together-agains-1.jpg
END:VEVENT
END:VCALENDAR