BEGIN:VCALENDAR
VERSION:2.0
PRODID:-//Bellevue UKE&#039;sters - ECPv6.15.20//NONSGML v1.0//EN
CALSCALE:GREGORIAN
METHOD:PUBLISH
X-WR-CALNAME:Bellevue UKE&#039;sters
X-ORIGINAL-URL:https://ukesters.com
X-WR-CALDESC:Events for Bellevue UKE&#039;sters
REFRESH-INTERVAL;VALUE=DURATION:PT1H
X-Robots-Tag:noindex
X-PUBLISHED-TTL:PT1H
BEGIN:VTIMEZONE
TZID:UTC
BEGIN:STANDARD
TZOFFSETFROM:+0000
TZOFFSETTO:+0000
TZNAME:UTC
DTSTART:20210101T000000
END:STANDARD
END:VTIMEZONE
BEGIN:VEVENT
DTSTART;TZID=UTC:20220629T130000
DTEND;TZID=UTC:20220629T143000
DTSTAMP:20260426T025832
CREATED:20220627T201919Z
LAST-MODIFIED:20220628T174229Z
UID:1677-1656507600-1656513000@ukesters.com
SUMMARY:Song Circle
DESCRIPTION:An informal gathering to sing and play together. We will  start with warm up for body and vocal cords. \nSongs list is below. Songs were compiled by email request from our Gig songs and the Redmond Sing Along Songbook \nPlease organize your music ahead of time using the list below\, or download this PDF file for use with electronic devices. \nGIG SONGS:   (Following our 3 minute vocal warm up) \n_01 All My Loving \n_02 Beautiful Kauai \n_03 Count On Me \n_04 Heart and Soul/Blue Moon Medley \n_05 I Can See Clearly Now \n_06 Lahaina Luna \n_07 Pearly Shells \n_08 Strolling on the Beach at Waikiki \n_09 Sweet Lady of Waiahole  (can be downloaded from Aloha Friday list; for practice\, use this audio file) \n_10 Ulupalakua \n_11 You Ku’uipo \nNew: \n_12 Oh\, Shenandoah (download by clicking here) \nRedmond Song Book: \n_13 Blowing in the Wind \n_14 Cups   https://www.youtube.com/results?search_query=cups+sam+tsui+alex+g+kina \n_15 Day-O (Banana Boat Song) \n_16 El Condor Pasa \n_17 Folsom Prison \n_18 Puff the Magic Dragon \n_19 Spanish Pipedream \n_20 Where Have All the Flowers Gone? \n_21  Aloha ‘Oe  in C
URL:https://ukesters.com/event/song-circle-15/
LOCATION:Aljoya Senior Living Community\, 2430 76th Avenue SE\, Mercer Island\, 98040\, United States
ATTACH;FMTTYPE=image/jpeg:https://ukesters.com/wp-content/uploads/2022/05/Aljoya-garden-patio.jpg
END:VEVENT
END:VCALENDAR