BEGIN:VCALENDAR
VERSION:2.0
PRODID:-//Bellevue UKE&#039;sters - ECPv6.15.20//NONSGML v1.0//EN
CALSCALE:GREGORIAN
METHOD:PUBLISH
X-WR-CALNAME:Bellevue UKE&#039;sters
X-ORIGINAL-URL:https://ukesters.com
X-WR-CALDESC:Events for Bellevue UKE&#039;sters
REFRESH-INTERVAL;VALUE=DURATION:PT1H
X-Robots-Tag:noindex
X-PUBLISHED-TTL:PT1H
BEGIN:VTIMEZONE
TZID:UTC
BEGIN:STANDARD
TZOFFSETFROM:+0000
TZOFFSETTO:+0000
TZNAME:UTC
DTSTART:20210101T000000
END:STANDARD
END:VTIMEZONE
BEGIN:VEVENT
DTSTART;TZID=UTC:20220708T130000
DTEND;TZID=UTC:20220708T143000
DTSTAMP:20260426T025832
CREATED:20220628T172529Z
LAST-MODIFIED:20220707T192748Z
UID:1690-1657285200-1657290600@ukesters.com
SUMMARY:Aloha Pō'alima
DESCRIPTION:Aloha Pō’alima is an informal gathering to focus on Hawaiian music\, language\, and culture.  \nThe song list is below. Please use it to organize your music ahead of time.\n \nFor convenience\, the Phinney Ridge set list can be downloaded here for those using electronic devices. \n  \nSong Lists: \n1:00-1:30 \n                01_ UKEʻsters Aloha Friday \n                02_ Mahina_Aloha Wau Medley \n                03_ Na Pua_Gardenia_Red Hibiscus Medley \n                04_Model T \n1:35-2:05:Phinney Ridge Set List                                                2:10-2:40 \n                01_Blue Skies                                                                                    11_Donʻt Worry Be Happy \n                02_I Can see Clearly Now                                                             12_ Sweet Lady of Waiahole                                                         \n                03_Down on the Corner                                                                13_North Shore Serenade \n                04_Rythym of rhe Ocean                                                              14_You Kuʻu Ipo \n                05_Stolling on the Beach                                                              15_Ulupalakua \n                06_Waikiki                                                                                          16_Henehene Kou ʻAka \n                07_ Canʻt Help Falling in Love                                                     17_Blue Bayou \n                08_Count on Me                                                                              18_Sway \n                09_All My loving                                                                               19_Heart Soul_Blue Moon Medley \n                10_This Magic Moment                                                                20_Iʻll Remember You; 21_Somewher-Wonderful World Medley
URL:https://ukesters.com/event/aloha-friday/
ATTACH;FMTTYPE=image/jpeg:https://ukesters.com/wp-content/uploads/2022/06/AF.jpg
END:VEVENT
END:VCALENDAR