BEGIN:VCALENDAR
VERSION:2.0
PRODID:-//Bellevue UKE&#039;sters - ECPv6.15.20//NONSGML v1.0//EN
CALSCALE:GREGORIAN
METHOD:PUBLISH
X-WR-CALNAME:Bellevue UKE&#039;sters
X-ORIGINAL-URL:https://ukesters.com
X-WR-CALDESC:Events for Bellevue UKE&#039;sters
REFRESH-INTERVAL;VALUE=DURATION:PT1H
X-Robots-Tag:noindex
X-PUBLISHED-TTL:PT1H
BEGIN:VTIMEZONE
TZID:UTC
BEGIN:STANDARD
TZOFFSETFROM:+0000
TZOFFSETTO:+0000
TZNAME:UTC
DTSTART:20210101T000000
END:STANDARD
END:VTIMEZONE
BEGIN:VEVENT
DTSTART;TZID=UTC:20220827T133000
DTEND;TZID=UTC:20220827T143000
DTSTAMP:20260426T013810
CREATED:20220609T165455Z
LAST-MODIFIED:20220825T202334Z
UID:1637-1661607000-1661610600@ukesters.com
SUMMARY:Bellevue Botanical Gardens Gig
DESCRIPTION:The Bellevue UKE’sters are excited to be providing a part of the music entertainment at the Bellevue Botanical Gardens “Arts in the Garden 2022” event. \nThe three day event will feature live music\, food trucks\, 24 artists\, and a wide variety of 3-D garden art available for purchase. Event entry and parking are free. \nOur set is slated for Saturday 1:30 – 2:30 near the Aaron Education Center on the grounds and will include hula dancing! \nHere is the songlist in a single PDF file for download.
URL:https://ukesters.com/event/bellevue-botanical-gardens-gig/
LOCATION:Bellevue Botanical Gardens\, 12001 Main Street\, Bellevue\, WA\, 98005\, United States
ATTACH;FMTTYPE=image/jpeg:https://ukesters.com/wp-content/uploads/2022/05/BotanicalGardenLogo.jpg
END:VEVENT
END:VCALENDAR