BEGIN:VCALENDAR
VERSION:2.0
PRODID:-//Bellevue UKE&#039;sters - ECPv6.15.20//NONSGML v1.0//EN
CALSCALE:GREGORIAN
METHOD:PUBLISH
X-ORIGINAL-URL:https://ukesters.com
X-WR-CALDESC:Events for Bellevue UKE&#039;sters
REFRESH-INTERVAL;VALUE=DURATION:PT1H
X-Robots-Tag:noindex
X-PUBLISHED-TTL:PT1H
BEGIN:VTIMEZONE
TZID:UTC
BEGIN:STANDARD
TZOFFSETFROM:+0000
TZOFFSETTO:+0000
TZNAME:UTC
DTSTART:20210101T000000
END:STANDARD
END:VTIMEZONE
BEGIN:VEVENT
DTSTART;TZID=UTC:20220914T130000
DTEND;TZID=UTC:20220914T143000
DTSTAMP:20260426T002638
CREATED:20220826T234411Z
LAST-MODIFIED:20220912T224525Z
UID:1891-1663160400-1663165800@ukesters.com
SUMMARY:Song Circle - McNeil Residence
DESCRIPTION:Song Circle is an informal gathering to sing and play together. \nWe create a songlist ahead of time by compiling requests\, and  start with a warm up for body and vocal cords. \nPlease organize your music ahead of time using the list below\,  or DOWNLOAD THIS PDF FILE for use with electronic devices. \nIf you would like to print out just  the list of songs\, DOWNLOAD HERE. \nGig Book \n\nBlue Bayou – 9/22 gig\nSway – 9/22 gig\nWonderful World (History) – 9/22 gig\nSweet Caroline – 9/22 gig\nYou Belong to Me in D – 9/22 gig (DOWNLOAD HERE)\nMy Yellow Ginger Lei\nPili Mau Me ‘Oe in  key of C (https://www.youtube.com/watch?v=-p-NN959OC4)\n\nTeal Book \n\nIsland in the Sun p.84\nWaltzing Matilda p.143\nI’ll Never Find Another You p.79\nRhythm of the Falling Rain p. 117\nMr Tambourine Man p.100\nSilver Threads and Golden Needles p.124\nWho Put the Bomp p.150\nOn the Road Again p.110\nThree Little Birds p.137\n\nRedmond Sing Along Song Book \n\nPut Another Log on the Fire\nThe Letter\n\nEnding Song: \n\nAloha ‘Oe in C
URL:https://ukesters.com/event/song-circle-25/
LOCATION:McNeill residence\, available by request\, Kirkland\, WA\, United States
ATTACH;FMTTYPE=image/jpeg:https://ukesters.com/wp-content/uploads/2021/06/21-6-2-UKEsters-together-agains-1.jpg
END:VEVENT
END:VCALENDAR