BEGIN:VCALENDAR
VERSION:2.0
PRODID:-//Bellevue UKE&#039;sters - ECPv6.15.20//NONSGML v1.0//EN
CALSCALE:GREGORIAN
METHOD:PUBLISH
X-WR-CALNAME:Bellevue UKE&#039;sters
X-ORIGINAL-URL:https://ukesters.com
X-WR-CALDESC:Events for Bellevue UKE&#039;sters
REFRESH-INTERVAL;VALUE=DURATION:PT1H
X-Robots-Tag:noindex
X-PUBLISHED-TTL:PT1H
BEGIN:VTIMEZONE
TZID:UTC
BEGIN:STANDARD
TZOFFSETFROM:+0000
TZOFFSETTO:+0000
TZNAME:UTC
DTSTART:20210101T000000
END:STANDARD
END:VTIMEZONE
BEGIN:VEVENT
DTSTART;TZID=UTC:20221012T130000
DTEND;TZID=UTC:20221012T143000
DTSTAMP:20260425T230122
CREATED:20220905T184522Z
LAST-MODIFIED:20221008T173142Z
UID:1971-1665579600-1665585000@ukesters.com
SUMMARY:Song Circle - McNeil Residence
DESCRIPTION:Song Circle is an informal gathering to sing and play together. \nWe  start with a warm up for body and vocal cords. \nOctober is Recycle Music Month for UKE’sters! This week we are recycling music we played for Song Circle on July 20\, 2022. \nPlease organize your music ahead of time using the list below\, or DOWNLOAD THIS PDF FILE for use with electronic devices. \n**ALSO please add  (not included in PDF file above)** \n\nSONG OF CHRISTMAS by Kui Lee (if not familiar\, listen to versions by Ho’okena and / or Na Leo)\n\nGig Book     \n\nBeyond the Reef\nBye Bye Blackbird\nGreen Rose Hula (key of C)\nI Miss You My Hawaii\nI’ll Remember You\nKa Uluwehi O Ke Kai\nPuamana\nRainbow Connection\nToday\nUkulele Lady\nWahine Ilikea\nYesterdayMisc:\nOh\, Shenandoah – PDF can be DOWNLOADED HERE\n\nRedmond Book  \n\nDance Me to the End of Love\nDay-O (the Banana Boat Song)\nFriday I’m in Love\nThe Garden Song\nI Remember Everything\nRipple\nAloha ‘Oe in C
URL:https://ukesters.com/event/song-circle-29/
LOCATION:McNeill residence\, available by request\, Kirkland\, WA\, United States
ATTACH;FMTTYPE=image/jpeg:https://ukesters.com/wp-content/uploads/2021/06/21-6-2-UKEsters-together-agains-1.jpg
END:VEVENT
END:VCALENDAR