BEGIN:VCALENDAR
VERSION:2.0
PRODID:-//Bellevue UKE&#039;sters - ECPv6.15.20//NONSGML v1.0//EN
CALSCALE:GREGORIAN
METHOD:PUBLISH
X-ORIGINAL-URL:https://ukesters.com
X-WR-CALDESC:Events for Bellevue UKE&#039;sters
REFRESH-INTERVAL;VALUE=DURATION:PT1H
X-Robots-Tag:noindex
X-PUBLISHED-TTL:PT1H
BEGIN:VTIMEZONE
TZID:UTC
BEGIN:STANDARD
TZOFFSETFROM:+0000
TZOFFSETTO:+0000
TZNAME:UTC
DTSTART:20210101T000000
END:STANDARD
END:VTIMEZONE
BEGIN:VEVENT
DTSTART;TZID=UTC:20221102T130000
DTEND;TZID=UTC:20221102T143000
DTSTAMP:20260425T215404
CREATED:20220927T230028Z
LAST-MODIFIED:20221101T180831Z
UID:2120-1667394000-1667399400@ukesters.com
SUMMARY:Song Circle - Kitchen Shelter Lk Sammamish
DESCRIPTION:Song Circle is an informal gathering to sing and play together. \nIf you are  unfamiliar with Lake Sammamish State Park\, check out THIS MAP \nWe create a songlist ahead of time by compiling requests\, and start with a warm up for body and vocal cords. \nPlease organize your music ahead of time using the list below\, or DOWNLOAD THIS PDF FILE for use with electronic devices. \nIf you would like to print out the list of songs\, DOWNLOAD HERE. \n  \nWarm Up \n      UNCLE ROD’S BOOT CAMP WARM UP\n \n               NOTE: We will be singing it the way the chord sheet reads: C D F G A . \n               Rod’s AUDIO is ONLY to learn melody NOT for proper key progression. \n                It is in keys of C F G A D (modulating each time).  The chord sheet is in keys C D F G A (going up scale). \nChristmas Songs (Music/Christmas Songs) \n     01: Feliz Navidad \n     02: Mele Kalikimaka \n     03: Rockin’ Around the Christmas Tree \n     04: Christmas Island \n     05: Hawaiian Santa \n     06: Christmas Luau \n     07: Winter Wonderland Hula \n     08: Silent Night/Po La ‘ie  (Key of G) \n     09: Song of Christmas (Be sure to use Oct 15 2022 version) \nRed SUPA Book ( 2005-07): \n     10: Everybody Loves A Lover  p. 55 \n     11: Tennessee Waltz p. 203 \n     12: Somos El Barco p. 195 \n     13. Haole Hula p. 68 \n     14. Lazy John  (For cleaner version\, DOWNLOAD HERE; if not familiar: YouTube video  [skip 1 min for song start]) \n     15: Aloha ‘Oe in key of C \n 
URL:https://ukesters.com/event/song-circle-kitchen-shelter-lk-sammamish-2/
LOCATION:Kitchen Shelter Lake Sammamish State Park\, 2010 N.W. Sammamish Road\, Issaquah\, 98052\, United States
ATTACH;FMTTYPE=image/jpeg:https://ukesters.com/wp-content/uploads/2022/08/KitchenShelterLkSamm.jpg
END:VEVENT
END:VCALENDAR