BEGIN:VCALENDAR
VERSION:2.0
PRODID:-//Bellevue UKE&#039;sters - ECPv6.15.20//NONSGML v1.0//EN
CALSCALE:GREGORIAN
METHOD:PUBLISH
X-WR-CALNAME:Bellevue UKE&#039;sters
X-ORIGINAL-URL:https://ukesters.com
X-WR-CALDESC:Events for Bellevue UKE&#039;sters
REFRESH-INTERVAL;VALUE=DURATION:PT1H
X-Robots-Tag:noindex
X-PUBLISHED-TTL:PT1H
BEGIN:VTIMEZONE
TZID:UTC
BEGIN:STANDARD
TZOFFSETFROM:+0000
TZOFFSETTO:+0000
TZNAME:UTC
DTSTART:20210101T000000
END:STANDARD
END:VTIMEZONE
BEGIN:VEVENT
DTSTART;TZID=UTC:20221109T130000
DTEND;TZID=UTC:20221109T143000
DTSTAMP:20260425T215335
CREATED:20221103T163230Z
LAST-MODIFIED:20221108T035005Z
UID:2271-1667998800-1668004200@ukesters.com
SUMMARY:Song Circle - Kitchen Shelter Lk Sammamish
DESCRIPTION:Song Circle is an informal gathering to sing and play together. \nIf you are  unfamiliar with Lake Sammamish State Park\, check out THIS MAP \nWe create a songlist ahead of time by compiling requests\, and start with a warm up for playing and singing. \nYou can organize your music ahead of time using a list we will provide\, or DOWNLOAD THIS PDF for use with electronic devices. \nIf you would like to print out the list of songs\, DOWNLOAD HERE. \nThis month we are practicing songs for an upcoming gig at the Bellevue Botanical Gardens during Song Circle \nWarm Up: \n      UNCLE ROD’S BOOT CAMP WARM UP\n \n      (If unfamiliar\,  check out the information HERE) \n  \nChristmas Songs Practice for Dec 2 Garden d’Lights: \n\nFeliz Navidad/Mele Kalikimaka Medley\nSleigh Ride\nWinter Wonderland Hula\nLet It Snow Let It Snow Let It Snow\nSilver Bells\nSilent Night /Pō Laʻi Ē (here’s a nice version by Cynthia Lin if you want to practice)\nWe Wish You a Merry Christmas\nSong of Christmas\n\nRed Book: \n\nBack in the Saddle Again/Seattle Again p.19\nRed Roses for a Blue Lady  p.178\nMore p.138\nVolcano p. 213 (if unfamiliar\, listen to Jimmy Buffet sing)\n‘A’ You’re Adorable p. 7\nTumbling Tumbleweeds p. 208\nDon’t Fence Me In p. 48\n\nRedmond Sing Along Songbook: \n\nBorn to Be Wild\nSpanish Pipedream\nAloha ‘Oe in key of C)
URL:https://ukesters.com/event/song-circle-kitchen-shelter-lk-sammamish-3/
LOCATION:Kitchen Shelter Lake Sammamish State Park\, 2010 N.W. Sammamish Road\, Issaquah\, 98052\, United States
ATTACH;FMTTYPE=image/jpeg:https://ukesters.com/wp-content/uploads/2022/08/KitchenShelterLkSamm.jpg
END:VEVENT
END:VCALENDAR