BEGIN:VCALENDAR
VERSION:2.0
PRODID:-//Bellevue UKE&#039;sters - ECPv6.15.20//NONSGML v1.0//EN
CALSCALE:GREGORIAN
METHOD:PUBLISH
X-WR-CALNAME:Bellevue UKE&#039;sters
X-ORIGINAL-URL:https://ukesters.com
X-WR-CALDESC:Events for Bellevue UKE&#039;sters
REFRESH-INTERVAL;VALUE=DURATION:PT1H
X-Robots-Tag:noindex
X-PUBLISHED-TTL:PT1H
BEGIN:VTIMEZONE
TZID:UTC
BEGIN:STANDARD
TZOFFSETFROM:+0000
TZOFFSETTO:+0000
TZNAME:UTC
DTSTART:20210101T000000
END:STANDARD
END:VTIMEZONE
BEGIN:VEVENT
DTSTART;TZID=UTC:20221116T130000
DTEND;TZID=UTC:20221116T143000
DTSTAMP:20260425T215330
CREATED:20221103T163401Z
LAST-MODIFIED:20221113T001209Z
UID:2275-1668603600-1668609000@ukesters.com
SUMMARY:Song Circle - Kitchen Shelter Lk Sammamish
DESCRIPTION:Song Circle is an informal gathering to sing and play together. \nIf you are  unfamiliar with Lake Sammamish State Park\, check out THIS MAP \nWe create a songlist ahead of time by compiling requests\, and start with a warm up for playing and singing. \nYou can organize your music ahead of time using the list below\, or DOWNLOAD THIS PDF for use with electronic devices. \nThis month we are practicing songs for an upcoming gig at the Bellevue Botanical Gardens during Song Circle \nWarm Up: \n      UNCLE ROD’S BOOT CAMP WARM UP\n \n                    If unfamiliar\,  check out the information HERE \nPractice for upcoming Garden d’Lights gig: \n1. Feliz Navidad (medley with Mele Kalikimaka)\n2. Mele Kalikimaka\n3. Rudolph the Red-Nosed Reindeer\n4. Sleigh Ride\n5. Jingle Bells\n6. Rockin’ Around the Christmas Tree\n7. Christmas Island\n8. Hawaiian Santa Hula\n9. Christmas Luau\n10. Winter Wonderland Hula\n11. Let it Snow! Let it Snow! Let it Snow!\n12. Silver Bells\n13. Silent Night/Pō Laʻi Ē\n14. We Wish You a Merry Christmas\n15. Song of Christmas \n16. Aloha ‘Oe in C \n 
URL:https://ukesters.com/event/song-circle-kitchen-shelter-lk-sammamish-4/
LOCATION:Kitchen Shelter Lake Sammamish State Park\, 2010 N.W. Sammamish Road\, Issaquah\, 98052\, United States
ATTACH;FMTTYPE=image/jpeg:https://ukesters.com/wp-content/uploads/2022/08/KitchenShelterLkSamm.jpg
END:VEVENT
END:VCALENDAR