BEGIN:VCALENDAR
VERSION:2.0
PRODID:-//Bellevue UKE&#039;sters - ECPv6.15.20//NONSGML v1.0//EN
CALSCALE:GREGORIAN
METHOD:PUBLISH
X-ORIGINAL-URL:https://ukesters.com
X-WR-CALDESC:Events for Bellevue UKE&#039;sters
REFRESH-INTERVAL;VALUE=DURATION:PT1H
X-Robots-Tag:noindex
X-PUBLISHED-TTL:PT1H
BEGIN:VTIMEZONE
TZID:UTC
BEGIN:STANDARD
TZOFFSETFROM:+0000
TZOFFSETTO:+0000
TZNAME:UTC
DTSTART:20210101T000000
END:STANDARD
END:VTIMEZONE
BEGIN:VEVENT
DTSTART;TZID=UTC:20221123T130000
DTEND;TZID=UTC:20221123T143000
DTSTAMP:20260425T215453
CREATED:20221103T163717Z
LAST-MODIFIED:20221121T160846Z
UID:2279-1669208400-1669213800@ukesters.com
SUMMARY:Informal practice - Silver Glen
DESCRIPTION:This is an opportunity to come check out a new location we are considering for song circle in 2023. \nWe will meet in  “Glen Hall”  inside the building. If you have not been to Silver Glen\, scroll to bottom of this page for address and a link to google maps. \nOur friend Marilyn Duvall lives at Silver Glen and give this advice about parking: “There are three buildings (all close together). You may park in front of any building; however\, we are meeting in building 1750. You may also park along 152nd Avenue\, as long as you park on the Highline Middle School side. Our buildings are all locked\, but someone (probably me) will be at the door to let you in” \nWe will focus on practicing for our upcoming gig at the Garden d’Lights. \nPlease organize your music ahead of time to include the songs listed below\, or DOWNLOAD THIS PDF for use with electronic devices. \nWarm Up: \n   UNCLE ROD’S BOOT CAMP WARM UP\n \n      (If unfamiliar\,  check out the information HERE) \nInformal practice: \n1. Feliz Navidad (medley with Mele Kalikimaka)\n2. Mele Kalikimaka\n3. Rudolph the Red-Nosed Reindeer\n4. Sleigh Ride\n5. Jingle Bells\n6. Rockin’ Around the Christmas Tree\n7. Christmas Island\n8. Hawaiian Santa Hula\n9. Christmas Luau\n10. Winter Wonderland Hula\n11. Let it Snow! Let it Snow! Let it Snow!\n12. Silver Bells\n13. Silent Night/Pō Laʻi Ē\n14. We Wish You a Merry Christmas\n15. Song of Christmas \nAloha ‘Oe in key of C
URL:https://ukesters.com/event/no-song-circle-this-week/
LOCATION:Silver Glen\, 1750 152nd Ave NE\, Bellevue\, WA\, 98007\, United States
ATTACH;FMTTYPE=image/jpeg:https://ukesters.com/wp-content/uploads/2022/11/SilverGlen.jpg
END:VEVENT
END:VCALENDAR