BEGIN:VCALENDAR
VERSION:2.0
PRODID:-//Bellevue UKE&#039;sters - ECPv6.15.20//NONSGML v1.0//EN
CALSCALE:GREGORIAN
METHOD:PUBLISH
X-WR-CALNAME:Bellevue UKE&#039;sters
X-ORIGINAL-URL:https://ukesters.com
X-WR-CALDESC:Events for Bellevue UKE&#039;sters
REFRESH-INTERVAL;VALUE=DURATION:PT1H
X-Robots-Tag:noindex
X-PUBLISHED-TTL:PT1H
BEGIN:VTIMEZONE
TZID:UTC
BEGIN:STANDARD
TZOFFSETFROM:+0000
TZOFFSETTO:+0000
TZNAME:UTC
DTSTART:20210101T000000
END:STANDARD
END:VTIMEZONE
BEGIN:VEVENT
DTSTART;TZID=UTC:20221130T130000
DTEND;TZID=UTC:20221130T150000
DTSTAMP:20260425T203708
CREATED:20221103T163525Z
LAST-MODIFIED:20221129T185348Z
UID:2277-1669813200-1669820400@ukesters.com
SUMMARY:Song Circle - Silver Glen
DESCRIPTION:Due to cold weather concerns we are moving this weeks meeting place to Silver Glen. \nWe will meet in  “Glen Hall”  inside the building. If you have not been to Silver Glen\, scroll to bottom of this page for address and a link to google maps. \nOur friend Marilyn Duvall lives at Silver Glen and give this advice about parking: “There are three buildings (all close together). You may park in front of any building; however\, we are meeting in building 1750. You may also park along 152nd Avenue\, as long as you park on the Highline Middle School side. Our buildings are all locked\, but someone (probably me) will be at the door to let you in” \nThis is our final practice for the upcoming gig at the Bellevue Botanical Gardens. \nYou can organize your music ahead of time using the list below\, or DOWNLOAD THIS PDF FILE for use with electronic devices. \nWarm Up: \n      UNCLE ROD’S BOOT CAMP WARM UP\n \n                    If unfamiliar\,  check out the information HERE \nPractice for upcoming Garden d’Lights gig: \n1. Feliz Navidad (medley with Mele Kalikimaka)\n2. Mele Kalikimaka\n3. Rudolph the Red-Nosed Reindeer\n4. Sleigh Ride\n5. Jingle Bells\n6. Rockin’ Around the Christmas Tree\n7. Christmas Island\n8. Hawaiian Santa Hula\n9. Christmas Luau\n10. Winter Wonderland Hula\n11. Let it Snow! Let it Snow! Let it Snow!\n12. Silver Bells\n13. Silent Night/Pō Laʻi Ē\n14. We Wish You a Merry Christmas\n15. Song of Christmas \n16. Aloha ‘Oe in C \n 
URL:https://ukesters.com/event/song-circle-silver-glen/
LOCATION:Silver Glen\, 1750 152nd Ave NE\, Bellevue\, WA\, 98007\, United States
ATTACH;FMTTYPE=image/jpeg:https://ukesters.com/wp-content/uploads/2022/11/SilverGlen.jpg
END:VEVENT
END:VCALENDAR