BEGIN:VCALENDAR
VERSION:2.0
PRODID:-//Bellevue UKE&#039;sters - ECPv6.15.20//NONSGML v1.0//EN
CALSCALE:GREGORIAN
METHOD:PUBLISH
X-WR-CALNAME:Bellevue UKE&#039;sters
X-ORIGINAL-URL:https://ukesters.com
X-WR-CALDESC:Events for Bellevue UKE&#039;sters
REFRESH-INTERVAL;VALUE=DURATION:PT1H
X-Robots-Tag:noindex
X-PUBLISHED-TTL:PT1H
BEGIN:VTIMEZONE
TZID:UTC
BEGIN:STANDARD
TZOFFSETFROM:+0000
TZOFFSETTO:+0000
TZNAME:UTC
DTSTART:20210101T000000
END:STANDARD
END:VTIMEZONE
BEGIN:VEVENT
DTSTART;TZID=UTC:20221202T173000
DTEND;TZID=UTC:20221202T193000
DTSTAMP:20260425T203709
CREATED:20221007T232440Z
LAST-MODIFIED:20221202T165429Z
UID:2159-1670002200-1670009400@ukesters.com
SUMMARY:Garden d'Lights
DESCRIPTION:Bellevue UKE’sters have been invited to play at the Bellevue Botanical Gardens this December as part of  Garden d’Lights. \nThis date will feature  a 45 – 60 minute set of holiday songs. \nOur finalized song list can be downloaded HERE. \nPlease use the song list to organize your music ahead of time\, or you can DOWNLOAD THIS PDF  if using electronic devices. \nWe’ll play in the Aaron Education Center on the grounds (where we played last Summer for Arts in the Gardens). \nThose participating in the performance please arrive at 5:30 pm to be ready for a 6:00 pm showtime. \nParking is $5 in the upper lot\, and free in the lower lot. \nMusician passes have been distributed for site entrance (otherwise tickets must be purchased online).
URL:https://ukesters.com/event/garden-dlights/
LOCATION:Bellevue Botanical Gardens\, 12001 Main Street\, Bellevue\, WA\, 98005\, United States
ATTACH;FMTTYPE=image/jpeg:https://ukesters.com/wp-content/uploads/2022/05/BotanicalGardenLogo.jpg
END:VEVENT
END:VCALENDAR