BEGIN:VCALENDAR
VERSION:2.0
PRODID:-//Bellevue UKE&#039;sters - ECPv6.15.20//NONSGML v1.0//EN
CALSCALE:GREGORIAN
METHOD:PUBLISH
X-WR-CALNAME:Bellevue UKE&#039;sters
X-ORIGINAL-URL:https://ukesters.com
X-WR-CALDESC:Events for Bellevue UKE&#039;sters
REFRESH-INTERVAL;VALUE=DURATION:PT1H
X-Robots-Tag:noindex
X-PUBLISHED-TTL:PT1H
BEGIN:VTIMEZONE
TZID:UTC
BEGIN:STANDARD
TZOFFSETFROM:+0000
TZOFFSETTO:+0000
TZNAME:UTC
DTSTART:20210101T000000
END:STANDARD
END:VTIMEZONE
BEGIN:VEVENT
DTSTART;TZID=UTC:20221228T130000
DTEND;TZID=UTC:20221228T143000
DTSTAMP:20260425T191654
CREATED:20221208T171917Z
LAST-MODIFIED:20221208T172121Z
UID:2433-1672232400-1672237800@ukesters.com
SUMMARY:no song circle
DESCRIPTION:No song circle today. We will be at the Bellevue Botanical Gardens performing at Garden d’Lights later in the day.
URL:https://ukesters.com/event/no-song-circle/
END:VEVENT
END:VCALENDAR