BEGIN:VCALENDAR
VERSION:2.0
PRODID:-//Bellevue UKE&#039;sters - ECPv6.15.20//NONSGML v1.0//EN
CALSCALE:GREGORIAN
METHOD:PUBLISH
X-WR-CALNAME:Bellevue UKE&#039;sters
X-ORIGINAL-URL:https://ukesters.com
X-WR-CALDESC:Events for Bellevue UKE&#039;sters
REFRESH-INTERVAL;VALUE=DURATION:PT1H
X-Robots-Tag:noindex
X-PUBLISHED-TTL:PT1H
BEGIN:VTIMEZONE
TZID:UTC
BEGIN:STANDARD
TZOFFSETFROM:+0000
TZOFFSETTO:+0000
TZNAME:UTC
DTSTART:20220101T000000
END:STANDARD
END:VTIMEZONE
BEGIN:VEVENT
DTSTART;TZID=UTC:20230106T130000
DTEND;TZID=UTC:20230106T143000
DTSTAMP:20260425T191542
CREATED:20230104T173625Z
LAST-MODIFIED:20230104T173625Z
UID:2580-1673010000-1673015400@ukesters.com
SUMMARY:Aloha Pō’alima
DESCRIPTION:E Hele Mai Kakou (Come join us) for the first Aloha Friday of 2023. \nMusic to be used is listed below. Please organize your music ahead of time per the list\, or DOWNLOAD THIS FILE for use with electronic devices. \n                   12:50-1:00:      01: Oli Aloha\, Welcome \n                   1:00-1:50:        02: Aloha Friday\, UKEʻsters \n                                                03: Green Rose Hula \n                                                04: Henehene KouʻAka \n                                                05: Ka Uluwehi O Ke Kai \n                                                06: Ulili E \n                                                07: Mahina_Aloha Wau Medley \n                                               08: Noho Paipai \n               2:00-2:30             09: Na Pua Gardenia Hibiscus Medley \n                                                10: E Kailua E_ F \n                                                11: Kauoha Mai (Keyhole Hula) \n                                               12: Kauanoeanuhea \n                                               13: Model T \n                                                14: In A Little Hula Heaven \n                                                 15: Not Pau \n                                                 16: Hawaii Aloha
URL:https://ukesters.com/event/aloha-poalima-6/
LOCATION:Hale ‘o Kalena\, available by request\, Bellevue\, WA\, 98008
ATTACH;FMTTYPE=image/jpeg:https://ukesters.com/wp-content/uploads/2022/06/AF.jpg
END:VEVENT
END:VCALENDAR