BEGIN:VCALENDAR
VERSION:2.0
PRODID:-//Bellevue UKE&#039;sters - ECPv6.15.20//NONSGML v1.0//EN
CALSCALE:GREGORIAN
METHOD:PUBLISH
X-WR-CALNAME:Bellevue UKE&#039;sters
X-ORIGINAL-URL:https://ukesters.com
X-WR-CALDESC:Events for Bellevue UKE&#039;sters
REFRESH-INTERVAL;VALUE=DURATION:PT1H
X-Robots-Tag:noindex
X-PUBLISHED-TTL:PT1H
BEGIN:VTIMEZONE
TZID:UTC
BEGIN:STANDARD
TZOFFSETFROM:+0000
TZOFFSETTO:+0000
TZNAME:UTC
DTSTART:20220101T000000
END:STANDARD
END:VTIMEZONE
BEGIN:VEVENT
DTSTART;TZID=UTC:20230111T130000
DTEND;TZID=UTC:20230111T143000
DTSTAMP:20260425T191548
CREATED:20221208T172516Z
LAST-MODIFIED:20221208T172516Z
UID:2440-1673442000-1673447400@ukesters.com
SUMMARY:No Song Circle
DESCRIPTION:Following our pattern in 2021\, we are taking a Winter break the first two weeks of 2023. \nSee you January 18!
URL:https://ukesters.com/event/no-song-circle-3/
END:VEVENT
END:VCALENDAR