BEGIN:VCALENDAR
VERSION:2.0
PRODID:-//Bellevue UKE&#039;sters - ECPv6.15.20//NONSGML v1.0//EN
CALSCALE:GREGORIAN
METHOD:PUBLISH
X-ORIGINAL-URL:https://ukesters.com
X-WR-CALDESC:Events for Bellevue UKE&#039;sters
REFRESH-INTERVAL;VALUE=DURATION:PT1H
X-Robots-Tag:noindex
X-PUBLISHED-TTL:PT1H
BEGIN:VTIMEZONE
TZID:UTC
BEGIN:STANDARD
TZOFFSETFROM:+0000
TZOFFSETTO:+0000
TZNAME:UTC
DTSTART:20220101T000000
END:STANDARD
END:VTIMEZONE
BEGIN:VEVENT
DTSTART;TZID=UTC:20230118T130000
DTEND;TZID=UTC:20230118T143000
DTSTAMP:20260425T191710
CREATED:20221208T172851Z
LAST-MODIFIED:20230117T053527Z
UID:2443-1674046800-1674052200@ukesters.com
SUMMARY:Song Circle & Meeting - Kitchen Shelter Lk Sammamish
DESCRIPTION:If you are  unfamiliar with Lake Sammamish State Park\, check out THIS MAP \nSCHEDULE for January 18th: \n1:00 – 1:30 Hawaiian session (2 songs) \n\nHanalei Moon\nUlili E (we will spend time learning pronunciation of the Hawaiian)\n\n1:30 – 2:10 Song Circle \n2:10 – 2:30 UKEster meeting (discussion = looking ahead to 2023) \n  \nSong List : \nYou can organize your music ahead of time using the list below\, or DOWNLOAD THIS PDF for use with electronic devices. \nIf you would like to print out the list of songs\, DOWNLOAD THIS PDF. \n\nHanalei Moon (gig)\nUlili E (gig)\nRhythm of the Ocean (gig)\nHe Aloha Mele (p. 166) (if unfamiliar\, listen/play along with this)\nBad Moon Rising (gig)\nGreenfields (p.57)\nHoney Pie (p.69)\nYou Ku’uipo (gig)\nAbilene (p. 1)\nCity of New Orleans in C (p. 22)\nIn Your Hawaiian Way (gig)\nWagon Wheel (p. 142)\nRock and Roll Music (p.119)\nLaupahoehoe/Happy Me (p.176-177)\nAloha ‘Oe (gig)
URL:https://ukesters.com/event/song-circle-meeting-kitchen-shelter-lk-sammamish-5/
LOCATION:Kitchen Shelter Lake Sammamish State Park\, 2010 N.W. Sammamish Road\, Issaquah\, 98052\, United States
ATTACH;FMTTYPE=image/jpeg:https://ukesters.com/wp-content/uploads/2022/08/KitchenShelterLkSamm.jpg
END:VEVENT
END:VCALENDAR