BEGIN:VCALENDAR
VERSION:2.0
PRODID:-//Bellevue UKE&#039;sters - ECPv6.15.20//NONSGML v1.0//EN
CALSCALE:GREGORIAN
METHOD:PUBLISH
X-WR-CALNAME:Bellevue UKE&#039;sters
X-ORIGINAL-URL:https://ukesters.com
X-WR-CALDESC:Events for Bellevue UKE&#039;sters
REFRESH-INTERVAL;VALUE=DURATION:PT1H
X-Robots-Tag:noindex
X-PUBLISHED-TTL:PT1H
BEGIN:VTIMEZONE
TZID:UTC
BEGIN:STANDARD
TZOFFSETFROM:+0000
TZOFFSETTO:+0000
TZNAME:UTC
DTSTART:20220101T000000
END:STANDARD
END:VTIMEZONE
BEGIN:VEVENT
DTSTART;TZID=UTC:20230201T130000
DTEND;TZID=UTC:20230201T143000
DTSTAMP:20260425T174812
CREATED:20230126T010635Z
LAST-MODIFIED:20230131T035448Z
UID:2637-1675256400-1675261800@ukesters.com
SUMMARY:Song Circle - Rotunda Shelter Lk Sammamish State Park
DESCRIPTION:Song Circle is an informal gathering to sing and play together. \nIf you are  unfamiliar with Lake Sammamish State Park\, check out THIS MAP.   (The Rotunda is marked as “B” on the map). \nWe create a songlist ahead of time by compiling requests. \nPlease organize your music ahead of time using the list  provided below\, or you can DOWNLOAD THIS PDF file for use with electronic devices. \nIf you would like to print out just  the list of songs\, DOWNLOAD THIS. \nThis week’s songs: \n(Mostly from Red Book and Redmond Sing Along Book) \nHawaiian (1:00 – 1:30): \n\nSweet Lady of Waiahole (gig)\nUlili E (gig)\n\nSong Circle (1:30 – 2:30): \n\nThis Magic Moment (gig – to learn “by heart”)\nSan Antonio Rose (p.184)\nHawaiian Wedding Song (p.74)\nHelp Me Make It Through the Night (p.81)\nYou Belong to Me in key of D (gig)\nRainbow Connection (Redmond)\nFreight Train (Redmond)\nDaydream Believer (p.46)\nI’m a Believer (Redmond)\nHaole Hula (p.68)\nBesame Mucho (p.23)\nDream a Little Dream of Me (p.49)\nBlue Hawaiian Moonlight (p.33)\nE Huli Makou (p.52)\nAloha ‘Oe in C
URL:https://ukesters.com/event/song-circle-rotunda-shelter-lk-sammamish-state-park/
LOCATION:Rotunda Shelter Lake Sammamish State Park\, 2000 NW Sammamish Road\, Issaquah\, 98027\, United States
ATTACH;FMTTYPE=image/jpeg:https://ukesters.com/wp-content/uploads/2021/06/rotunda.jpg
END:VEVENT
END:VCALENDAR