BEGIN:VCALENDAR
VERSION:2.0
PRODID:-//Bellevue UKE&#039;sters - ECPv6.15.20//NONSGML v1.0//EN
CALSCALE:GREGORIAN
METHOD:PUBLISH
X-WR-CALNAME:Bellevue UKE&#039;sters
X-ORIGINAL-URL:https://ukesters.com
X-WR-CALDESC:Events for Bellevue UKE&#039;sters
REFRESH-INTERVAL;VALUE=DURATION:PT1H
X-Robots-Tag:noindex
X-PUBLISHED-TTL:PT1H
BEGIN:VTIMEZONE
TZID:UTC
BEGIN:STANDARD
TZOFFSETFROM:+0000
TZOFFSETTO:+0000
TZNAME:UTC
DTSTART:20220101T000000
END:STANDARD
END:VTIMEZONE
BEGIN:VEVENT
DTSTART;TZID=UTC:20230208T130000
DTEND;TZID=UTC:20230208T143000
DTSTAMP:20260425T174812
CREATED:20230126T011114Z
LAST-MODIFIED:20230207T031723Z
UID:2640-1675861200-1675866600@ukesters.com
SUMMARY:Song Circle - Silver Glen
DESCRIPTION:We will meet in  “Glen Hall”  inside the building. \nIf you have not been to Silver Glen\, scroll to bottom of this page for address and a link to google maps. \nYou may park in front of any building; however\, we are meeting in building 1750. You may also park along 152nd Avenue\, as long as you park on the Highline Middle School side. The buildings are all locked\, but arrangements will be made for you to be buzzed in. \nNote: Landmark to LOOK FOR when turning onto 152nd Ave off of Bel Red Road: SOKHU THAI RESTAURANT \nWe create a songlist ahead of time by compiling requests. \nPlease organize your music ahead of time using the list below\,  or  you can DOWNLOAD THIS FILE for use with electronic devices. \nIf you would like to print out just  the list of songs\, DOWNLOAD THIS. \n  \nHawaiian (1-1:30): Reminder- “help with olelo” audio files can be found at bottom of our Aloha Friday page. \n\nUlili E (gig)\nGreen Rose Hula (gig) [Learning Hawaiian pronunciation for Verses 1 & 2 ]\n\nSong Circle (2:30-3:30): \n\nThis Magic Moment (gig – to learn “by heart”)\nI Walk the Line (Red p. 105)\nI’ve Just Seen a Face (p. 104)\nDay O (Redmond)\nMr Bojangles (Redmond)\nPrincess Poo-Poo-Ly Has Plenty Pa-Pa-Ya (Red p. 167)\nYouTube: https://www.youtube.com/watch?v=ySXk7XGVV9k\nBetween the Devil and the Deep Blue Sea (Redmond)\nDance Me to the End of Love (Redmond)\nSloop John B (Redmond)\nRunaway (Red p. 182)\nRuby Tuesday (Redmond)\n(I Wonder Why) You’re Just in Love (Red p.108)\nAloha ‘Oe in C
URL:https://ukesters.com/event/song-circle-silver-glen-5/
LOCATION:Silver Glen\, 1750 152nd Ave NE\, Bellevue\, WA\, 98007\, United States
ATTACH;FMTTYPE=image/jpeg:https://ukesters.com/wp-content/uploads/2022/11/SilverGlen.jpg
END:VEVENT
END:VCALENDAR