BEGIN:VCALENDAR
VERSION:2.0
PRODID:-//Bellevue UKE&#039;sters - ECPv6.15.20//NONSGML v1.0//EN
CALSCALE:GREGORIAN
METHOD:PUBLISH
X-ORIGINAL-URL:https://ukesters.com
X-WR-CALDESC:Events for Bellevue UKE&#039;sters
REFRESH-INTERVAL;VALUE=DURATION:PT1H
X-Robots-Tag:noindex
X-PUBLISHED-TTL:PT1H
BEGIN:VTIMEZONE
TZID:UTC
BEGIN:STANDARD
TZOFFSETFROM:+0000
TZOFFSETTO:+0000
TZNAME:UTC
DTSTART:20220101T000000
END:STANDARD
END:VTIMEZONE
BEGIN:VEVENT
DTSTART;TZID=UTC:20230215T130000
DTEND;TZID=UTC:20230215T143000
DTSTAMP:20260425T174809
CREATED:20230126T042655Z
LAST-MODIFIED:20230213T214206Z
UID:2645-1676466000-1676471400@ukesters.com
SUMMARY:Song Circle - Rotunda Shelter Lk Sammamish
DESCRIPTION:Song Circle is an informal gathering to sing and play together. \nIf you are  unfamiliar with Lake Sammamish State Park\, check out THIS MAP.   (The Rotunda is marked as “B” on the map). \nWe create a songlist ahead of time by compiling requests. \nPlease organize your music ahead of time using the list  below\,  or  you can DOWNLOAD THIS FILE for use with electronic devices. \nIf you would like to print out just  the list of songs\, DOWNLOAD THIS FILE. \nHawaiian (1:00 – 1:30): \n\nUlili E (Gig)\nGreen Rose Hula (Gig)\n\nSong Circle (1:30 – 2:30): \n\nThis Magic Moment (Gig – to learn)\nWalk Right In (Misc Songs)\nMore (Red p. 138)\nThe Great Pretender (Red p. 63)\nEverybody Loves a Lover (Red p.55)\nSinging Bamboo  (Red p. 191)\nKainoa  (Red p. 111)\nBus Stop (Redmond)\nCome Monday (Redmond)\nLoves Me Like a Rock (Redmond)\nOpihi Man (Red p. 158) (If unfamiliar\, listen to Ka’au Crater Boys sing it)\nThe Way (Redmond)\nMy Girl (Redmond)\nThe Letter (Redmond)\nAloha ‘Oe in C (Gig)
URL:https://ukesters.com/event/song-circle-rotunda-shelter-lk-sammamish/
LOCATION:Rotunda Shelter Lake Sammamish State Park\, 2000 NW Sammamish Road\, Issaquah\, 98027\, United States
ATTACH;FMTTYPE=image/jpeg:https://ukesters.com/wp-content/uploads/2021/06/rotunda.jpg
END:VEVENT
END:VCALENDAR