BEGIN:VCALENDAR
VERSION:2.0
PRODID:-//Bellevue UKE&#039;sters - ECPv6.15.20//NONSGML v1.0//EN
CALSCALE:GREGORIAN
METHOD:PUBLISH
X-ORIGINAL-URL:https://ukesters.com
X-WR-CALDESC:Events for Bellevue UKE&#039;sters
REFRESH-INTERVAL;VALUE=DURATION:PT1H
X-Robots-Tag:noindex
X-PUBLISHED-TTL:PT1H
BEGIN:VTIMEZONE
TZID:America/Denver
BEGIN:DAYLIGHT
TZOFFSETFROM:-0700
TZOFFSETTO:-0600
TZNAME:MDT
DTSTART:20220313T090000
END:DAYLIGHT
BEGIN:STANDARD
TZOFFSETFROM:-0600
TZOFFSETTO:-0700
TZNAME:MST
DTSTART:20221106T080000
END:STANDARD
BEGIN:DAYLIGHT
TZOFFSETFROM:-0700
TZOFFSETTO:-0600
TZNAME:MDT
DTSTART:20230312T090000
END:DAYLIGHT
BEGIN:STANDARD
TZOFFSETFROM:-0600
TZOFFSETTO:-0700
TZNAME:MST
DTSTART:20231105T080000
END:STANDARD
BEGIN:DAYLIGHT
TZOFFSETFROM:-0700
TZOFFSETTO:-0600
TZNAME:MDT
DTSTART:20240310T090000
END:DAYLIGHT
BEGIN:STANDARD
TZOFFSETFROM:-0600
TZOFFSETTO:-0700
TZNAME:MST
DTSTART:20241103T080000
END:STANDARD
END:VTIMEZONE
BEGIN:VEVENT
DTSTART;TZID=America/Denver:20230329T130000
DTEND;TZID=America/Denver:20230329T143000
DTSTAMP:20260425T150323
CREATED:20230302T232411Z
LAST-MODIFIED:20230328T033052Z
UID:2760-1680094800-1680100200@ukesters.com
SUMMARY:Song Circle - Cascadia  Restaurant and Brewery
DESCRIPTION:Song Circle is an informal gathering to sing and play together. \nThis week we will try out a new venue! Beer and pizza available for purchase. \nWe create a songlist ahead of time by compiling requests. \nPlease organize your music ahead of time using the list provided below\, or you can download THIS PDF FILE for use with electronic devices. \nIf you would like to print out just the list of songs\, DOWNLOAD THIS. \nHawaiian: \n\nGreen Rose Hula (gig)\nKa Uluwehi O Ke Kai (gig)\n\nSong Circle: \n\nA Summer Song (green p.11)\nBeautiful Kauai (gig)\nI’ll Remember You (gig)\nI Can’t Give You Anything But Love (gig)\nLife Could Be a Dream (gig)\nSweet Someone (gig)\nSweet Pea (green p.100)\nSlow Boat to China in C (misc)\nSide by Side (green p. 87)\nAll I Have to Do is Dream (green p.4)\nBlame It on the Bossa Nova (green p.15)\nSecret Agent Man (green p. 84)\nThis Magic Moment (try to play from memory!)\nLahaina  (green p. 63)\nThat’s the Hawaiian in Me (green p. 103)\nDon’t Worry\, Be Happy (gig)\nI Only Want to Be with You (in C – misc)\nBurning Love (in D – misc)\nSummer Nights (misc)\nAloha ‘Oe in C (gig)
URL:https://ukesters.com/event/song-circle-cascadia-restaurant-and-brewery/
LOCATION:Cascadia Pizza and Brewery\, 1820 130th AVE NE\, Bellevue\, WA\, 98005\, United States
ATTACH;FMTTYPE=image/jpeg:https://ukesters.com/wp-content/uploads/2022/11/CascadiaPizzaBeer.jpg
END:VEVENT
END:VCALENDAR