BEGIN:VCALENDAR
VERSION:2.0
PRODID:-//Bellevue UKE&#039;sters - ECPv6.15.20//NONSGML v1.0//EN
CALSCALE:GREGORIAN
METHOD:PUBLISH
X-ORIGINAL-URL:https://ukesters.com
X-WR-CALDESC:Events for Bellevue UKE&#039;sters
REFRESH-INTERVAL;VALUE=DURATION:PT1H
X-Robots-Tag:noindex
X-PUBLISHED-TTL:PT1H
BEGIN:VTIMEZONE
TZID:America/Los_Angeles
BEGIN:DAYLIGHT
TZOFFSETFROM:-0800
TZOFFSETTO:-0700
TZNAME:PDT
DTSTART:20220313T100000
END:DAYLIGHT
BEGIN:STANDARD
TZOFFSETFROM:-0700
TZOFFSETTO:-0800
TZNAME:PST
DTSTART:20221106T090000
END:STANDARD
BEGIN:DAYLIGHT
TZOFFSETFROM:-0800
TZOFFSETTO:-0700
TZNAME:PDT
DTSTART:20230312T100000
END:DAYLIGHT
BEGIN:STANDARD
TZOFFSETFROM:-0700
TZOFFSETTO:-0800
TZNAME:PST
DTSTART:20231105T090000
END:STANDARD
BEGIN:DAYLIGHT
TZOFFSETFROM:-0800
TZOFFSETTO:-0700
TZNAME:PDT
DTSTART:20240310T100000
END:DAYLIGHT
BEGIN:STANDARD
TZOFFSETFROM:-0700
TZOFFSETTO:-0800
TZNAME:PST
DTSTART:20241103T090000
END:STANDARD
END:VTIMEZONE
BEGIN:VEVENT
DTSTART;TZID=America/Los_Angeles:20230405T130000
DTEND;TZID=America/Los_Angeles:20230405T143000
DTSTAMP:20260425T150324
CREATED:20230320T174932Z
LAST-MODIFIED:20230404T212153Z
UID:2839-1680699600-1680705000@ukesters.com
SUMMARY:Song Circle - Rotunda Shelter Lk. Sammamish State Park
DESCRIPTION:Song Circle is an informal gathering to sing and play together. \nWe create a songlist ahead of time by compiling requests. \nPlease organize your music ahead of time using the list provided below\, or you can download THIS PDF FILE for use with electronic devices. \nIf you would like to print out just the list of songs\, DOWNLOAD THIS. \n\nHawaiian: \n\nUlili E (gig)\nKa Uluwehi O Ke Kai (gig)\n\nSong Circle: \n\nDown by the Riverside (Teal p. 35)\nFour Strong Winds (Purple)\nLast Thing on My Mind (Purple)\nAll I Want is You (Misc) [Unfamiliar? Listen to this YouTube]\nDiana (Teal p. 30)\nGlory of Love (Teal p. 53)\nSwing on a Star (Purple)\nRing of Fire (Purple)\nCan’t Take My Eyes Off of You (Purple)\nDrop Baby Drop (Teal p. 38)\nBetween the Devil and the Deep Blue Sea (Purple)\nThe Wellerman (Purple)\nI Remember Everything (Purple)\nTequila Sunrise (Teal p. 133)\nPretty Woman (Purple)\nPeaceful Easy Feeling (Purple)\nWagon Wheel (Purple)\nIt’s a Heartache (Purple)\nAloha ‘Oe in C (gig)
URL:https://ukesters.com/event/song-circle-rotunda-shelter-lk-sammamish-state-park-3/
LOCATION:Rotunda Shelter Lake Sammamish State Park\, 2000 NW Sammamish Road\, Issaquah\, 98027\, United States
ATTACH;FMTTYPE=image/jpeg:https://ukesters.com/wp-content/uploads/2021/06/rotunda.jpg
END:VEVENT
END:VCALENDAR