BEGIN:VCALENDAR
VERSION:2.0
PRODID:-//Bellevue UKE&#039;sters - ECPv6.15.20//NONSGML v1.0//EN
CALSCALE:GREGORIAN
METHOD:PUBLISH
X-ORIGINAL-URL:https://ukesters.com
X-WR-CALDESC:Events for Bellevue UKE&#039;sters
REFRESH-INTERVAL;VALUE=DURATION:PT1H
X-Robots-Tag:noindex
X-PUBLISHED-TTL:PT1H
BEGIN:VTIMEZONE
TZID:America/Denver
BEGIN:DAYLIGHT
TZOFFSETFROM:-0700
TZOFFSETTO:-0600
TZNAME:MDT
DTSTART:20220313T090000
END:DAYLIGHT
BEGIN:STANDARD
TZOFFSETFROM:-0600
TZOFFSETTO:-0700
TZNAME:MST
DTSTART:20221106T080000
END:STANDARD
BEGIN:DAYLIGHT
TZOFFSETFROM:-0700
TZOFFSETTO:-0600
TZNAME:MDT
DTSTART:20230312T090000
END:DAYLIGHT
BEGIN:STANDARD
TZOFFSETFROM:-0600
TZOFFSETTO:-0700
TZNAME:MST
DTSTART:20231105T080000
END:STANDARD
BEGIN:DAYLIGHT
TZOFFSETFROM:-0700
TZOFFSETTO:-0600
TZNAME:MDT
DTSTART:20240310T090000
END:DAYLIGHT
BEGIN:STANDARD
TZOFFSETFROM:-0600
TZOFFSETTO:-0700
TZNAME:MST
DTSTART:20241103T080000
END:STANDARD
END:VTIMEZONE
BEGIN:VEVENT
DTSTART;TZID=America/Denver:20230503T130000
DTEND;TZID=America/Denver:20230503T143000
DTSTAMP:20260425T133750
CREATED:20230420T024537Z
LAST-MODIFIED:20230502T181547Z
UID:2962-1683118800-1683124200@ukesters.com
SUMMARY:Song Circle - Rotunda Shelter Lk. Sammamish St. Park
DESCRIPTION:Song Circle is an informal gathering to sing and play together. \nIf you are  unfamiliar with Lake Sammamish State Park\, check out THIS MAP.   (The Rotunda is marked as “B” on the map). \nWe create a songlist ahead of time by compiling requests. \nPlease organize your music ahead of time using the list once provided below\, or you can DOWNLOAD THIS FILE for use with electronic devices. \nIf you would like to print out just the list of songs\, DOWNLOAD THIS PDF. \n  \nHawaiian: \n\nJam da island (G) (Aloha Friday)\nMolokai Sweet Home (D) (Aloha Friday)\nE Kailua E (F) (Aloha Friday)\nWaikiki Hula (Aloha Friday)\n\nSong Circle: \n\nSixteen Tons (Red 2005-07 p. 192)\nGarden Song (Gig List)\nJamaica Farewell (Gig List)\nI Will Love You (Misc.)\nYou Ku’uipo (Gig List)\nZip a Dee Doo Dah (Red p. 234)\nSinging Bamboo (Red p. 191)\nHele on to Hawaii (A) (Misc.)\nNearness of You (C) (Misc.)\nI’ll See You In My Dreams (Misc.)    https://www.youtube.com/watch?v=CTWI28r5-ag\nStuck in the Middle with You (Misc)  https://www.youtube.com/watch?v=ln7Vn_WKkWU\nMy Waikiki Girl (A) New Key (Misc.)\nRunaway (Red p. 182)\nKainoa (Red p. 111)\nNowhere Man (Red p. 148)\nAloha Oe in C (Gig list)
URL:https://ukesters.com/event/song-circle-rotunda-shelter-lk-sammamish-st-park/
LOCATION:Rotunda Shelter Lake Sammamish State Park\, 2000 NW Sammamish Road\, Issaquah\, 98027\, United States
ATTACH;FMTTYPE=image/jpeg:https://ukesters.com/wp-content/uploads/2021/06/rotunda.jpg
END:VEVENT
END:VCALENDAR