BEGIN:VCALENDAR
VERSION:2.0
PRODID:-//Bellevue UKE&#039;sters - ECPv6.15.20//NONSGML v1.0//EN
CALSCALE:GREGORIAN
METHOD:PUBLISH
X-WR-CALNAME:Bellevue UKE&#039;sters
X-ORIGINAL-URL:https://ukesters.com
X-WR-CALDESC:Events for Bellevue UKE&#039;sters
REFRESH-INTERVAL;VALUE=DURATION:PT1H
X-Robots-Tag:noindex
X-PUBLISHED-TTL:PT1H
BEGIN:VTIMEZONE
TZID:America/Denver
BEGIN:DAYLIGHT
TZOFFSETFROM:-0700
TZOFFSETTO:-0600
TZNAME:MDT
DTSTART:20220313T090000
END:DAYLIGHT
BEGIN:STANDARD
TZOFFSETFROM:-0600
TZOFFSETTO:-0700
TZNAME:MST
DTSTART:20221106T080000
END:STANDARD
BEGIN:DAYLIGHT
TZOFFSETFROM:-0700
TZOFFSETTO:-0600
TZNAME:MDT
DTSTART:20230312T090000
END:DAYLIGHT
BEGIN:STANDARD
TZOFFSETFROM:-0600
TZOFFSETTO:-0700
TZNAME:MST
DTSTART:20231105T080000
END:STANDARD
BEGIN:DAYLIGHT
TZOFFSETFROM:-0700
TZOFFSETTO:-0600
TZNAME:MDT
DTSTART:20240310T090000
END:DAYLIGHT
BEGIN:STANDARD
TZOFFSETFROM:-0600
TZOFFSETTO:-0700
TZNAME:MST
DTSTART:20241103T080000
END:STANDARD
END:VTIMEZONE
BEGIN:VEVENT
DTSTART;TZID=America/Denver:20230602T130000
DTEND;TZID=America/Denver:20230602T143000
DTSTAMP:20260425T121849
CREATED:20230523T222819Z
LAST-MODIFIED:20230526T212340Z
UID:3070-1685710800-1685716200@ukesters.com
SUMMARY:Aloha Pō’alima - Cascadia Restaurant & Brewery
DESCRIPTION:Aloha Pō’alima (Aloha Friday) is an informal gathering to focus on Hawaiian music\, language\, and culture. \nThe song list is provided below. Please organize your music ahead of time\, or DOWNLOAD THIS PDF FILE for use on electronic devices. \n \nIf you want to print out just the list of songs\, DOWNLOAD THIS. \n\nAloha Friday\, UKEʻsters\nJam da Island (G)\nE Kailua E (F)\nWaikiki Hula\nWaikiki\nE Hihiwai\nRhythm of the Ocean\nKu’u Home O Kahalu’u\nMoloka’i Sweet Home (D)\nPua ‘Olena\nPua Tuberose\n\nLet’s take a break \n\nNoho Paipai\nUlili E\nSweet Lady of Waiahole\nLahaina Luna\nPuaMana\nBeautiful Kaua’i\nHanalei Moon\nKa Uluwehi O Ke Kai (in C for hula)\nE Nani E\nModel T\nNot Pau (F)
URL:https://ukesters.com/event/aloha-poalima-11/
ATTACH;FMTTYPE=image/jpeg:https://ukesters.com/wp-content/uploads/2022/11/CascadiaPizzaBeer.jpg
END:VEVENT
END:VCALENDAR