BEGIN:VCALENDAR
VERSION:2.0
PRODID:-//Bellevue UKE&#039;sters - ECPv6.15.20//NONSGML v1.0//EN
CALSCALE:GREGORIAN
METHOD:PUBLISH
X-ORIGINAL-URL:https://ukesters.com
X-WR-CALDESC:Events for Bellevue UKE&#039;sters
REFRESH-INTERVAL;VALUE=DURATION:PT1H
X-Robots-Tag:noindex
X-PUBLISHED-TTL:PT1H
BEGIN:VTIMEZONE
TZID:America/Denver
BEGIN:DAYLIGHT
TZOFFSETFROM:-0700
TZOFFSETTO:-0600
TZNAME:MDT
DTSTART:20220313T090000
END:DAYLIGHT
BEGIN:STANDARD
TZOFFSETFROM:-0600
TZOFFSETTO:-0700
TZNAME:MST
DTSTART:20221106T080000
END:STANDARD
BEGIN:DAYLIGHT
TZOFFSETFROM:-0700
TZOFFSETTO:-0600
TZNAME:MDT
DTSTART:20230312T090000
END:DAYLIGHT
BEGIN:STANDARD
TZOFFSETFROM:-0600
TZOFFSETTO:-0700
TZNAME:MST
DTSTART:20231105T080000
END:STANDARD
BEGIN:DAYLIGHT
TZOFFSETFROM:-0700
TZOFFSETTO:-0600
TZNAME:MDT
DTSTART:20240310T090000
END:DAYLIGHT
BEGIN:STANDARD
TZOFFSETFROM:-0600
TZOFFSETTO:-0700
TZNAME:MST
DTSTART:20241103T080000
END:STANDARD
END:VTIMEZONE
BEGIN:VEVENT
DTSTART;TZID=America/Denver:20230621T130000
DTEND;TZID=America/Denver:20230621T143000
DTSTAMP:20260425T122307
CREATED:20230603T044122Z
LAST-MODIFIED:20230620T191852Z
UID:3097-1687352400-1687357800@ukesters.com
SUMMARY:Song Circle - McNeill Residence
DESCRIPTION:Song Circle is an informal gathering to sing and play together. \nWe create a songlist ahead of time by compiling requests. \nPlease organize your music ahead of time using the list once provided below\, or you can DOWNLOAD THIS PDF for use with electronic devices. \nIf you would like to print out just the list of songs\, DOWNLOAD THIS. \n\nHawaiian: \n\nKaimana Hila https://youtu.be/JQ1-UUeK5zM\nWaikiki Hula\nE Kailua E (in F)\n\nSong Circle: \n\nA Summer Song (Green)\nLook What They’ve Done to My Song (Purple)\nCat Came Back (Purple)\nCount on Me (Purple)\nWagon Wheel (Purple)\nMe and Bobby McGee (Misc) [Kris Kristofferson version]\nSoft Spot (Purple) [Gary Nicholson version]\nSpanish Pipedream( Purple)\nWatching the River Run (Misc.)\nAloha Oe in C (Gig)
URL:https://ukesters.com/event/song-circle-mcneill-residence-2/
LOCATION:McNeill residence\, available by request\, Kirkland\, WA\, United States
ATTACH;FMTTYPE=image/jpeg:https://ukesters.com/wp-content/uploads/2021/06/21-6-2-UKEsters-together-agains-1.jpg
END:VEVENT
END:VCALENDAR