BEGIN:VCALENDAR
VERSION:2.0
PRODID:-//Bellevue UKE&#039;sters - ECPv6.15.20//NONSGML v1.0//EN
CALSCALE:GREGORIAN
METHOD:PUBLISH
X-ORIGINAL-URL:https://ukesters.com
X-WR-CALDESC:Events for Bellevue UKE&#039;sters
REFRESH-INTERVAL;VALUE=DURATION:PT1H
X-Robots-Tag:noindex
X-PUBLISHED-TTL:PT1H
BEGIN:VTIMEZONE
TZID:America/Denver
BEGIN:DAYLIGHT
TZOFFSETFROM:-0700
TZOFFSETTO:-0600
TZNAME:MDT
DTSTART:20220313T090000
END:DAYLIGHT
BEGIN:STANDARD
TZOFFSETFROM:-0600
TZOFFSETTO:-0700
TZNAME:MST
DTSTART:20221106T080000
END:STANDARD
BEGIN:DAYLIGHT
TZOFFSETFROM:-0700
TZOFFSETTO:-0600
TZNAME:MDT
DTSTART:20230312T090000
END:DAYLIGHT
BEGIN:STANDARD
TZOFFSETFROM:-0600
TZOFFSETTO:-0700
TZNAME:MST
DTSTART:20231105T080000
END:STANDARD
BEGIN:DAYLIGHT
TZOFFSETFROM:-0700
TZOFFSETTO:-0600
TZNAME:MDT
DTSTART:20240310T090000
END:DAYLIGHT
BEGIN:STANDARD
TZOFFSETFROM:-0600
TZOFFSETTO:-0700
TZNAME:MST
DTSTART:20241103T080000
END:STANDARD
END:VTIMEZONE
BEGIN:VEVENT
DTSTART;TZID=America/Denver:20230721T130000
DTEND;TZID=America/Denver:20230721T143000
DTSTAMP:20260425T110514
CREATED:20230619T185253Z
LAST-MODIFIED:20230720T215038Z
UID:3196-1689944400-1689949800@ukesters.com
SUMMARY:Aloha Pō’alima – Cascadia Restaurant & Brewery
DESCRIPTION:Aloha Pō’alima (Aloha Friday) is an informal gathering to focus on Hawaiian music\, language\, and culture. \nPlease organize your music ahead of time using the list once provided below\, or you can DOWNLOAD THIS PDF file for use with electronic devices. \nIf you would like to print out just the list of songs\, DOWNLOAD THIS. \n \n  \n\nAloha Friday\, UKEʻsters\nIsland Style\nE Kailua E (key of F) **\nWaikiki Hula (key of D)**\nWaikiki**\nKaimana Hila (key of D)** https://youtu.be/JQ1-UUeK5zM\nRhythm of the Ocean\nWhite Sandy Beach\nMoloka’i Sweet Home (D)\nStrolling on the Beach at Waikiki**\nE Hihiwai\nKa Pua E\n\n** these songs will be recorded so hula dancers can practice \nLet’s take a break \n\nHukilau\nLittle Grass Shack/Brown Gal Medley\nYou Ku’uipo\nUlupalakua\nLahaina Luna\nNoho Paipai\nHele on to Kaua’i (A)\nHanalei Moon\nKoke’e\nHenehene Kou ‘Aka\nGreen Rose Hula (key of A)\nI’ll Remember You\nRainbow/Wonderful Medley\nNot Pau (F)\n\n  \n  \n 
URL:https://ukesters.com/event/aloha-poalima-cascadia-restaurant-brewery-3/
LOCATION:Cascadia Pizza and Brewery\, 1820 130th AVE NE\, Bellevue\, WA\, 98005\, United States
ATTACH;FMTTYPE=image/jpeg:https://ukesters.com/wp-content/uploads/2022/11/CascadiaPizzaBeer.jpg
END:VEVENT
END:VCALENDAR