BEGIN:VCALENDAR
VERSION:2.0
PRODID:-//Bellevue UKE&#039;sters - ECPv6.15.20//NONSGML v1.0//EN
CALSCALE:GREGORIAN
METHOD:PUBLISH
X-WR-CALNAME:Bellevue UKE&#039;sters
X-ORIGINAL-URL:https://ukesters.com
X-WR-CALDESC:Events for Bellevue UKE&#039;sters
REFRESH-INTERVAL;VALUE=DURATION:PT1H
X-Robots-Tag:noindex
X-PUBLISHED-TTL:PT1H
BEGIN:VTIMEZONE
TZID:America/Los_Angeles
BEGIN:DAYLIGHT
TZOFFSETFROM:-0800
TZOFFSETTO:-0700
TZNAME:PDT
DTSTART:20230312T100000
END:DAYLIGHT
BEGIN:STANDARD
TZOFFSETFROM:-0700
TZOFFSETTO:-0800
TZNAME:PST
DTSTART:20231105T090000
END:STANDARD
BEGIN:DAYLIGHT
TZOFFSETFROM:-0800
TZOFFSETTO:-0700
TZNAME:PDT
DTSTART:20240310T100000
END:DAYLIGHT
BEGIN:STANDARD
TZOFFSETFROM:-0700
TZOFFSETTO:-0800
TZNAME:PST
DTSTART:20241103T090000
END:STANDARD
BEGIN:DAYLIGHT
TZOFFSETFROM:-0800
TZOFFSETTO:-0700
TZNAME:PDT
DTSTART:20250309T100000
END:DAYLIGHT
BEGIN:STANDARD
TZOFFSETFROM:-0700
TZOFFSETTO:-0800
TZNAME:PST
DTSTART:20251102T090000
END:STANDARD
END:VTIMEZONE
BEGIN:VEVENT
DTSTART;TZID=America/Los_Angeles:20240529T130000
DTEND;TZID=America/Los_Angeles:20240529T150000
DTSTAMP:20260424T202721
CREATED:20240427T225937Z
LAST-MODIFIED:20240525T200655Z
UID:4272-1716987600-1716994800@ukesters.com
SUMMARY:Song Circle & Performance - Silver Glen
DESCRIPTION:This week we will invite residents of Silver Glen to sit in and sing along! \nNOTE: We will gather at 1:00pm as usual\, but our “performance” will be from 2:00 to 3:00pm. \nThis session is a performance to THANK SILVER GLEN for allowing us to gather in the facility every Wednesday. \nPLEASE NOTE: \nAt 1:00 pm we will take our places on stage and run through a few songs. We expect residents to start trickling in any time after 1:30. \nIf you use paper copies\, please have songs ready per this SET LIST. If you are using an electronic device\, DOWNLOAD THIS PDF to use. \nThe notes on three songs have CHANGED since last week – links to those songs are provided below: \nThe Hukilau Song \nPearly Shells \nEverybody Loves a Lover \nPlus a typo was corrected on My Little Grass Shack \n 
URL:https://ukesters.com/event/song-circle-silver-glen-39/
LOCATION:Silver Glen\, 1750 152nd Ave NE\, Bellevue\, WA\, 98007\, United States
ATTACH;FMTTYPE=image/jpeg:https://ukesters.com/wp-content/uploads/2022/11/SilverGlen.jpg
END:VEVENT
END:VCALENDAR