BEGIN:VCALENDAR
VERSION:2.0
PRODID:-//Bellevue UKE&#039;sters - ECPv6.15.20//NONSGML v1.0//EN
CALSCALE:GREGORIAN
METHOD:PUBLISH
X-ORIGINAL-URL:https://ukesters.com
X-WR-CALDESC:Events for Bellevue UKE&#039;sters
REFRESH-INTERVAL;VALUE=DURATION:PT1H
X-Robots-Tag:noindex
X-PUBLISHED-TTL:PT1H
BEGIN:VTIMEZONE
TZID:America/Los_Angeles
BEGIN:DAYLIGHT
TZOFFSETFROM:-0800
TZOFFSETTO:-0700
TZNAME:PDT
DTSTART:20230312T100000
END:DAYLIGHT
BEGIN:STANDARD
TZOFFSETFROM:-0700
TZOFFSETTO:-0800
TZNAME:PST
DTSTART:20231105T090000
END:STANDARD
BEGIN:DAYLIGHT
TZOFFSETFROM:-0800
TZOFFSETTO:-0700
TZNAME:PDT
DTSTART:20240310T100000
END:DAYLIGHT
BEGIN:STANDARD
TZOFFSETFROM:-0700
TZOFFSETTO:-0800
TZNAME:PST
DTSTART:20241103T090000
END:STANDARD
BEGIN:DAYLIGHT
TZOFFSETFROM:-0800
TZOFFSETTO:-0700
TZNAME:PDT
DTSTART:20250309T100000
END:DAYLIGHT
BEGIN:STANDARD
TZOFFSETFROM:-0700
TZOFFSETTO:-0800
TZNAME:PST
DTSTART:20251102T090000
END:STANDARD
END:VTIMEZONE
BEGIN:VEVENT
DTSTART;TZID=America/Los_Angeles:20240724T130000
DTEND;TZID=America/Los_Angeles:20240724T160000
DTSTAMP:20260424T191634
CREATED:20240427T230939Z
LAST-MODIFIED:20240706T185051Z
UID:4276-1721826000-1721836800@ukesters.com
SUMMARY:Potluck and Song Circle
DESCRIPTION:Please join us for a Kanikapila. There will be music\, hula and good food! Plus 1’s are welcome. \nKathleen Sanders has invited us for an afternoon at her Lake Sammamish home. \nSong circle from 1:30 to 3:00 followed by open mic and socializing. \nSong circle choices can be from our   GIG SONGS or any of the books we use:RED BOOK\, GREEN  BOOK\, TEAL BOOK\, or PURPLE BOOK \nWHAT TO BRING:  Ukulele\, stand\, heavy hors d’ oeuvre\, and your beverage of choice. We could use 4 to 5 desserts if anyone would like to bring one. \nPARKING: Please let Kathleen know if you need to reserve parking in the driveway. A shuttle from the Spiritridge Elementary School parking lot (16401 SE 24th Street\, Bellevue 98008) will be available between 12:45 and 1:00 PM if you would like a lift; otherwise you can park on West Lake Sammamish Parkway. \nRSVP: Please let Kathleen know if you are coming and if you are bringing a “plus 1” by  July 15th.
URL:https://ukesters.com/event/potluck-and-song-circle/
LOCATION:Sanders Residence\, address available by request\, Bellevue\, WA\, 98008
ATTACH;FMTTYPE=image/jpeg:https://ukesters.com/wp-content/uploads/2021/06/2019Luau.jpg
END:VEVENT
END:VCALENDAR