BEGIN:VCALENDAR
VERSION:2.0
PRODID:-//Bellevue UKE&#039;sters - ECPv6.15.20//NONSGML v1.0//EN
CALSCALE:GREGORIAN
METHOD:PUBLISH
X-WR-CALNAME:Bellevue UKE&#039;sters
X-ORIGINAL-URL:https://ukesters.com
X-WR-CALDESC:Events for Bellevue UKE&#039;sters
REFRESH-INTERVAL;VALUE=DURATION:PT1H
X-Robots-Tag:noindex
X-PUBLISHED-TTL:PT1H
BEGIN:VTIMEZONE
TZID:America/Los_Angeles
BEGIN:DAYLIGHT
TZOFFSETFROM:-0800
TZOFFSETTO:-0700
TZNAME:PDT
DTSTART:20230312T100000
END:DAYLIGHT
BEGIN:STANDARD
TZOFFSETFROM:-0700
TZOFFSETTO:-0800
TZNAME:PST
DTSTART:20231105T090000
END:STANDARD
BEGIN:DAYLIGHT
TZOFFSETFROM:-0800
TZOFFSETTO:-0700
TZNAME:PDT
DTSTART:20240310T100000
END:DAYLIGHT
BEGIN:STANDARD
TZOFFSETFROM:-0700
TZOFFSETTO:-0800
TZNAME:PST
DTSTART:20241103T090000
END:STANDARD
BEGIN:DAYLIGHT
TZOFFSETFROM:-0800
TZOFFSETTO:-0700
TZNAME:PDT
DTSTART:20250309T100000
END:DAYLIGHT
BEGIN:STANDARD
TZOFFSETFROM:-0700
TZOFFSETTO:-0800
TZNAME:PST
DTSTART:20251102T090000
END:STANDARD
END:VTIMEZONE
BEGIN:VEVENT
DTSTART;TZID=America/Los_Angeles:20241111T160000
DTEND;TZID=America/Los_Angeles:20241111T170000
DTSTAMP:20260424T141506
CREATED:20241104T201044Z
LAST-MODIFIED:20241112T224729Z
UID:4742-1731340800-1731344400@ukesters.com
SUMMARY:Watermark at Bellevue (Gig)
DESCRIPTION:We are going to help The Watermark at Bellevue celebrate  Veterans Day \n(See address below) \nCall time: be in the lobby at 3:30 \nParking: Valet Parking between the 2 glass and steel Watermark buildings. Approach on 112th Ave from the north and turn right between the two buildings. If you get to the brick building on the corner you have gone too far. That building is attached to the southern watermark building where we will be playing \nAttire: Aloha shirt or bright colored clothing \nAdditional music: Please have THESE TWO SONGS  ready. We will play them before beginning our set to recognize Veterans Day. \nYou can organize your music ahead of time per the list below. If you use an electronic device for music\, DOWNLOAD THIS PDF. \nIf you want to print out the song list only\, DOWNLOAD THIS \n\nThis Magic Moment\nBye Bye Love\nPretty Woman\nA You’re Adorable (Marilyn and Alan solo)\nAin’t She Sweet\nSway (Suzanne and Ken solo)\nLion Sleeps Tonight\nWho Put the Bomp\nEverybody Loves a Lover\nSomewhere Overweight People (Marilyn solo)\nDon’t Worry be Happy\nMy Little Grass Shack (Hula: Glenn\, Alan\, Ken)\nHukilau (Hula: Glenn\,Hoku and Audience)\nPearly Shells (Hula: Hoku)\nHanalei Moon (Hula: Hoku)\nSomewhere Over the Rainbow/Wonderful World\n\n 
URL:https://ukesters.com/event/watermark-at-bellevue-gig/
LOCATION:Watermark at Bellevue\, 115 112th Ave NE\, Bellevue\, WA\, 98004\, United States
ATTACH;FMTTYPE=image/jpeg:https://ukesters.com/wp-content/uploads/2024/11/Watermark.jpg
END:VEVENT
END:VCALENDAR