BEGIN:VCALENDAR
VERSION:2.0
PRODID:-//Bellevue UKE&#039;sters - ECPv6.15.20//NONSGML v1.0//EN
CALSCALE:GREGORIAN
METHOD:PUBLISH
X-WR-CALNAME:Bellevue UKE&#039;sters
X-ORIGINAL-URL:https://ukesters.com
X-WR-CALDESC:Events for Bellevue UKE&#039;sters
REFRESH-INTERVAL;VALUE=DURATION:PT1H
X-Robots-Tag:noindex
X-PUBLISHED-TTL:PT1H
BEGIN:VTIMEZONE
TZID:America/Los_Angeles
BEGIN:DAYLIGHT
TZOFFSETFROM:-0800
TZOFFSETTO:-0700
TZNAME:PDT
DTSTART:20240310T100000
END:DAYLIGHT
BEGIN:STANDARD
TZOFFSETFROM:-0700
TZOFFSETTO:-0800
TZNAME:PST
DTSTART:20241103T090000
END:STANDARD
BEGIN:DAYLIGHT
TZOFFSETFROM:-0800
TZOFFSETTO:-0700
TZNAME:PDT
DTSTART:20250309T100000
END:DAYLIGHT
BEGIN:STANDARD
TZOFFSETFROM:-0700
TZOFFSETTO:-0800
TZNAME:PST
DTSTART:20251102T090000
END:STANDARD
BEGIN:DAYLIGHT
TZOFFSETFROM:-0800
TZOFFSETTO:-0700
TZNAME:PDT
DTSTART:20260308T100000
END:DAYLIGHT
BEGIN:STANDARD
TZOFFSETFROM:-0700
TZOFFSETTO:-0800
TZNAME:PST
DTSTART:20261101T090000
END:STANDARD
END:VTIMEZONE
BEGIN:VEVENT
DTSTART;TZID=America/Los_Angeles:20250910T130000
DTEND;TZID=America/Los_Angeles:20250910T143000
DTSTAMP:20260424T005902
CREATED:20250825T022114Z
LAST-MODIFIED:20250903T223534Z
UID:5637-1757509200-1757514600@ukesters.com
SUMMARY:Song Circle
DESCRIPTION:Our weekly gathering to practice gig songs and enjoy a song circle. \nThis week weather permitting\, April and Paul have offered to host the UKE’sters at their condo in Bellevue.  There is a large lawn area just off their patio and they have plenty of folding chairs available for folks who prefer to sit. There are some guest parking spaces and being during a work day\, likely there will be street parking right across the street.  Plus there may be some “owner” spots available. \nIf the weather is uncooperative\, we will meet at our regular meeting place. Watch your email for the address and a confirmation of where we will be meeting. \nPlease come prepared for when the song circle comes to you! \nThis week we will choose songs from the  PURPLE BOOK or the GIG SONGS
URL:https://ukesters.com/event/song-circle-63/
ATTACH;FMTTYPE=image/jpeg:https://ukesters.com/wp-content/uploads/2025/08/UkulelePlayer.jpg
END:VEVENT
END:VCALENDAR