BEGIN:VCALENDAR
VERSION:2.0
PRODID:-//Bellevue UKE&#039;sters - ECPv6.15.20//NONSGML v1.0//EN
CALSCALE:GREGORIAN
METHOD:PUBLISH
X-ORIGINAL-URL:https://ukesters.com
X-WR-CALDESC:Events for Bellevue UKE&#039;sters
REFRESH-INTERVAL;VALUE=DURATION:PT1H
X-Robots-Tag:noindex
X-PUBLISHED-TTL:PT1H
BEGIN:VTIMEZONE
TZID:America/Los_Angeles
BEGIN:DAYLIGHT
TZOFFSETFROM:-0800
TZOFFSETTO:-0700
TZNAME:PDT
DTSTART:20240310T100000
END:DAYLIGHT
BEGIN:STANDARD
TZOFFSETFROM:-0700
TZOFFSETTO:-0800
TZNAME:PST
DTSTART:20241103T090000
END:STANDARD
BEGIN:DAYLIGHT
TZOFFSETFROM:-0800
TZOFFSETTO:-0700
TZNAME:PDT
DTSTART:20250309T100000
END:DAYLIGHT
BEGIN:STANDARD
TZOFFSETFROM:-0700
TZOFFSETTO:-0800
TZNAME:PST
DTSTART:20251102T090000
END:STANDARD
BEGIN:DAYLIGHT
TZOFFSETFROM:-0800
TZOFFSETTO:-0700
TZNAME:PDT
DTSTART:20260308T100000
END:DAYLIGHT
BEGIN:STANDARD
TZOFFSETFROM:-0700
TZOFFSETTO:-0800
TZNAME:PST
DTSTART:20261101T090000
END:STANDARD
END:VTIMEZONE
BEGIN:VEVENT
DTSTART;TZID=America/Los_Angeles:20250917T130000
DTEND;TZID=America/Los_Angeles:20250917T143000
DTSTAMP:20260424T005932
CREATED:20250825T022233Z
LAST-MODIFIED:20250915T192706Z
UID:5639-1758114000-1758119400@ukesters.com
SUMMARY:Gig Practice
DESCRIPTION:Join us for gig song practice this week. \nWe will be practicing for our gig on 9/24 at Silver Glen.  Below is the list of songs we will play through. This is the tentative set. After we play through this list the set will be finalized and a PDF of all the songs will be posted before Wednesday next week. \n\n\nRock Around the Clock. 1954.\nHey Good Looking. 1951.\nBye-bye Love. 1957.\nI Walk the Line. 1956.\nHello Mary Lou. 1961.\nRunaway 1961.\nWho Put the Bomp 1961\nI Only Want to be With You. 1963\nPretty Woman. 1964.\nWoolly Bully. 1965\nThese Boots are Made for Walkin’ 1966\nRed Rubber Ball. 1968.\nSweet Caroline. 1969.\nGive Me That Old Time Rock ‘n’ Roll. 1979.\nCan’t Help Falling in Love With You. 1962.\nWhen You’re Smiling 1928.\n\n\n 
URL:https://ukesters.com/event/song-circle-64/
ATTACH;FMTTYPE=image/jpeg:https://ukesters.com/wp-content/uploads/2025/08/UkulelePlayer.jpg
END:VEVENT
END:VCALENDAR