BEGIN:VCALENDAR
VERSION:2.0
PRODID:-//Bellevue UKE&#039;sters - ECPv6.15.20//NONSGML v1.0//EN
CALSCALE:GREGORIAN
METHOD:PUBLISH
X-WR-CALNAME:Bellevue UKE&#039;sters
X-ORIGINAL-URL:https://ukesters.com
X-WR-CALDESC:Events for Bellevue UKE&#039;sters
REFRESH-INTERVAL;VALUE=DURATION:PT1H
X-Robots-Tag:noindex
X-PUBLISHED-TTL:PT1H
BEGIN:VTIMEZONE
TZID:America/Los_Angeles
BEGIN:DAYLIGHT
TZOFFSETFROM:-0800
TZOFFSETTO:-0700
TZNAME:PDT
DTSTART:20240310T100000
END:DAYLIGHT
BEGIN:STANDARD
TZOFFSETFROM:-0700
TZOFFSETTO:-0800
TZNAME:PST
DTSTART:20241103T090000
END:STANDARD
BEGIN:DAYLIGHT
TZOFFSETFROM:-0800
TZOFFSETTO:-0700
TZNAME:PDT
DTSTART:20250309T100000
END:DAYLIGHT
BEGIN:STANDARD
TZOFFSETFROM:-0700
TZOFFSETTO:-0800
TZNAME:PST
DTSTART:20251102T090000
END:STANDARD
BEGIN:DAYLIGHT
TZOFFSETFROM:-0800
TZOFFSETTO:-0700
TZNAME:PDT
DTSTART:20260308T100000
END:DAYLIGHT
BEGIN:STANDARD
TZOFFSETFROM:-0700
TZOFFSETTO:-0800
TZNAME:PST
DTSTART:20261101T090000
END:STANDARD
END:VTIMEZONE
BEGIN:VEVENT
DTSTART;TZID=America/Los_Angeles:20251112T130000
DTEND;TZID=America/Los_Angeles:20251112T143000
DTSTAMP:20260423T224804
CREATED:20251102T012627Z
LAST-MODIFIED:20251102T012627Z
UID:5820-1762952400-1762957800@ukesters.com
SUMMARY:Gig Practice and Song Circle
DESCRIPTION:This session is the start of practicing for our upcoming gig at the Botanical Gardens. \nIf time allows\, we will have a song circle using all of our song resources: TEAL BOOK\, PURPLE BOOK \, BROWN BOOK\, MISC SONGS or the GIG SONGS  \nCome with an idea or two to request!
URL:https://ukesters.com/event/gig-practice-and-song-circle-4/
ATTACH;FMTTYPE=image/jpeg:https://ukesters.com/wp-content/uploads/2025/08/UkulelePlayer.jpg
END:VEVENT
END:VCALENDAR