BEGIN:VCALENDAR
VERSION:2.0
PRODID:-//Bellevue UKE&#039;sters - ECPv6.15.20//NONSGML v1.0//EN
CALSCALE:GREGORIAN
METHOD:PUBLISH
X-WR-CALNAME:Bellevue UKE&#039;sters
X-ORIGINAL-URL:https://ukesters.com
X-WR-CALDESC:Events for Bellevue UKE&#039;sters
REFRESH-INTERVAL;VALUE=DURATION:PT1H
X-Robots-Tag:noindex
X-PUBLISHED-TTL:PT1H
BEGIN:VTIMEZONE
TZID:America/Los_Angeles
BEGIN:DAYLIGHT
TZOFFSETFROM:-0800
TZOFFSETTO:-0700
TZNAME:PDT
DTSTART:20250309T100000
END:DAYLIGHT
BEGIN:STANDARD
TZOFFSETFROM:-0700
TZOFFSETTO:-0800
TZNAME:PST
DTSTART:20251102T090000
END:STANDARD
BEGIN:DAYLIGHT
TZOFFSETFROM:-0800
TZOFFSETTO:-0700
TZNAME:PDT
DTSTART:20260308T100000
END:DAYLIGHT
BEGIN:STANDARD
TZOFFSETFROM:-0700
TZOFFSETTO:-0800
TZNAME:PST
DTSTART:20261101T090000
END:STANDARD
BEGIN:DAYLIGHT
TZOFFSETFROM:-0800
TZOFFSETTO:-0700
TZNAME:PDT
DTSTART:20270314T100000
END:DAYLIGHT
BEGIN:STANDARD
TZOFFSETFROM:-0700
TZOFFSETTO:-0800
TZNAME:PST
DTSTART:20271107T090000
END:STANDARD
END:VTIMEZONE
BEGIN:VEVENT
DTSTART;TZID=America/Los_Angeles:20260318T130000
DTEND;TZID=America/Los_Angeles:20260318T143000
DTSTAMP:20260423T203132
CREATED:20260207T231451Z
LAST-MODIFIED:20260207T231451Z
UID:6027-1773838800-1773844200@ukesters.com
SUMMARY:Song Circle
DESCRIPTION:If there is work to do on gig songs\, it will be first. \nAfter that – celebrate St. Patricks Day with a song circle! Music can be found under our THEME SONGS. (Songs for song circle can also be chosen from our GIG SONGS)
URL:https://ukesters.com/event/song-circle-84/
ATTACH;FMTTYPE=image/jpeg:https://ukesters.com/wp-content/uploads/2025/12/3ukes.jpg
END:VEVENT
BEGIN:VEVENT
DTSTART;TZID=America/Los_Angeles:20260325T130000
DTEND;TZID=America/Los_Angeles:20260325T143000
DTSTAMP:20260423T203132
CREATED:20260207T231104Z
LAST-MODIFIED:20260207T231104Z
UID:6025-1774443600-1774449000@ukesters.com
SUMMARY:Song Circle
DESCRIPTION:As we do\, first there will be some practice of gig songs. \nOnce that is done\, song circle! We will concentrate on songs from the TEAL BOOK\, and/or GIG SONGS
URL:https://ukesters.com/event/song-circle-83/
ATTACH;FMTTYPE=image/jpeg:https://ukesters.com/wp-content/uploads/2025/12/3ukes.jpg
END:VEVENT
BEGIN:VEVENT
DTSTART;TZID=America/Los_Angeles:20260401T130000
DTEND;TZID=America/Los_Angeles:20260401T143000
DTSTAMP:20260423T203132
CREATED:20260216T194123Z
LAST-MODIFIED:20260216T194123Z
UID:6035-1775048400-1775053800@ukesters.com
SUMMARY:Song Circle
DESCRIPTION:After we practice a little\, we’ll have a song circle. Come prepared with a few ideas! \nChoose from the PURPLE BOOK or the GIG SONGS when making your plan.
URL:https://ukesters.com/event/song-circle-81/
ATTACH;FMTTYPE=image/jpeg:https://ukesters.com/wp-content/uploads/2025/12/3ukes.jpg
END:VEVENT
BEGIN:VEVENT
DTSTART;TZID=America/Los_Angeles:20260403T130000
DTEND;TZID=America/Los_Angeles:20260403T150000
DTSTAMP:20260423T203132
CREATED:20260320T210608Z
LAST-MODIFIED:20260330T195545Z
UID:6148-1775221200-1775228400@ukesters.com
SUMMARY:Aloha Pō’alima
DESCRIPTION:Aloha Pō’alima (Aloha Friday) is an informal gathering to focus on Hawaiian music\, language\, and culture. \nWe will start playing music at 1:00pm (song circle style) using Aloha Friday music from the website. \nYolanda will join us as soon as she can.  Please try to review the two songs she gave us: “I Ola Kakou Na Hawai’i” and “Misty Rains and Lehua” \nThe room is booked from 12:30 – 3:30. Bring a snack to share and talk story after we put down our ‘ukuleles.
URL:https://ukesters.com/event/aloha-poalima-43/
LOCATION:LakeHills Library Meeting Room\, 15590 Lake Hills Boulevard\, Bellevue\, WA\, 98007\, United States
ATTACH;FMTTYPE=image/jpeg:https://ukesters.com/wp-content/uploads/2022/06/AF.jpg
END:VEVENT
BEGIN:VEVENT
DTSTART;TZID=America/Los_Angeles:20260408T130000
DTEND;TZID=America/Los_Angeles:20260408T143000
DTSTAMP:20260423T203132
CREATED:20260216T194341Z
LAST-MODIFIED:20260216T194341Z
UID:6037-1775653200-1775658600@ukesters.com
SUMMARY:Song Circle
DESCRIPTION:Following normal protocol\, we will practice a few songs that could be in an upcoming gig. \nSong circle will take place next. Songs may be chosen from the MISC SONGS or  GIG SONGS
URL:https://ukesters.com/event/song-circle-85/
ATTACH;FMTTYPE=image/jpeg:https://ukesters.com/wp-content/uploads/2025/12/3ukes.jpg
END:VEVENT
BEGIN:VEVENT
DTSTART;TZID=America/Los_Angeles:20260415T130000
DTEND;TZID=America/Los_Angeles:20260415T143000
DTSTAMP:20260423T203132
CREATED:20260216T194649Z
LAST-MODIFIED:20260216T194649Z
UID:6039-1776258000-1776263400@ukesters.com
SUMMARY:Song Circle
DESCRIPTION:After we spend time focusing on select potential gig songs\, we will enjoy a song circle. \nBring a list for when the circle comes to you! Make your choices from the BROWN BOOK or GIG SONGS
URL:https://ukesters.com/event/song-circle-86/
ATTACH;FMTTYPE=image/jpeg:https://ukesters.com/wp-content/uploads/2025/12/3ukes.jpg
END:VEVENT
BEGIN:VEVENT
DTSTART;TZID=America/Los_Angeles:20260422T130000
DTEND;TZID=America/Los_Angeles:20260422T143000
DTSTAMP:20260423T203132
CREATED:20260216T194927Z
LAST-MODIFIED:20260216T194927Z
UID:6041-1776862800-1776868200@ukesters.com
SUMMARY:Song Circle
DESCRIPTION:Once we have our focused practice time\, we’ll go around the room for song circle. \n  \nBring a list! Song circle songs may be chosen from the TEAL BOOK\, and GIG SONGS .
URL:https://ukesters.com/event/song-circle-87/
ATTACH;FMTTYPE=image/jpeg:https://ukesters.com/wp-content/uploads/2025/12/3ukes.jpg
END:VEVENT
BEGIN:VEVENT
DTSTART;TZID=America/Los_Angeles:20260429T130000
DTEND;TZID=America/Los_Angeles:20260429T143000
DTSTAMP:20260423T203132
CREATED:20260216T195128Z
LAST-MODIFIED:20260216T195128Z
UID:6043-1777467600-1777473000@ukesters.com
SUMMARY:Song Circle
DESCRIPTION:First some focused practice\, second….song circle! \nChoose from the PURPLE BOOK or the GIG SONGS when making your request list.
URL:https://ukesters.com/event/song-circle-88/
ATTACH;FMTTYPE=image/jpeg:https://ukesters.com/wp-content/uploads/2025/12/3ukes.jpg
END:VEVENT
BEGIN:VEVENT
DTSTART;TZID=America/Los_Angeles:20260501T130000
DTEND;TZID=America/Los_Angeles:20260501T150000
DTSTAMP:20260423T203132
CREATED:20260414T214522Z
LAST-MODIFIED:20260414T214522Z
UID:6186-1777640400-1777647600@ukesters.com
SUMMARY:Aloha Pō’alima
DESCRIPTION:
URL:https://ukesters.com/event/aloha-poalima-44/
LOCATION:LakeHills Library Meeting Room\, 15590 Lake Hills Boulevard\, Bellevue\, WA\, 98007\, United States
ATTACH;FMTTYPE=image/jpeg:https://ukesters.com/wp-content/uploads/2022/06/AF.jpg
END:VEVENT
BEGIN:VEVENT
DTSTART;TZID=America/Los_Angeles:20260506T130000
DTEND;TZID=America/Los_Angeles:20260506T143000
DTSTAMP:20260423T203132
CREATED:20260414T213300Z
LAST-MODIFIED:20260414T213300Z
UID:6174-1778072400-1778077800@ukesters.com
SUMMARY:Song Circle
DESCRIPTION:Per usual\, first some gig song practice. Then on to song circle! Songs may be chosen from the  GIG SONGS and MISC SONGS
URL:https://ukesters.com/event/song-circle-89/
ATTACH;FMTTYPE=image/jpeg:https://ukesters.com/wp-content/uploads/2025/12/3ukes.jpg
END:VEVENT
BEGIN:VEVENT
DTSTART;TZID=America/Los_Angeles:20260513T130000
DTEND;TZID=America/Los_Angeles:20260513T143000
DTSTAMP:20260423T203132
CREATED:20260414T213538Z
LAST-MODIFIED:20260414T213538Z
UID:6177-1778677200-1778682600@ukesters.com
SUMMARY:Song Circle
DESCRIPTION:Come join for some gig song practice followed by a song circle. Come with a list of your favorites from the BROWN BOOK or GIG SONGS
URL:https://ukesters.com/event/song-circle-90/
ATTACH;FMTTYPE=image/jpeg:https://ukesters.com/wp-content/uploads/2025/12/3ukes.jpg
END:VEVENT
BEGIN:VEVENT
DTSTART;TZID=America/Los_Angeles:20260520T130000
DTEND;TZID=America/Los_Angeles:20260520T143000
DTSTAMP:20260423T203132
CREATED:20260414T214258Z
LAST-MODIFIED:20260414T214258Z
UID:6184-1779282000-1779287400@ukesters.com
SUMMARY:Song Circle
DESCRIPTION:First we will review some gig songs\, then on to song circle. Come prepared! Songs may be chosen from the TEAL BOOK\, and GIG SONGS .
URL:https://ukesters.com/event/song-circle-92/
ATTACH;FMTTYPE=image/jpeg:https://ukesters.com/wp-content/uploads/2025/12/3ukes.jpg
END:VEVENT
BEGIN:VEVENT
DTSTART;TZID=America/Los_Angeles:20260527T130000
DTEND;TZID=America/Los_Angeles:20260527T143000
DTSTAMP:20260423T203132
CREATED:20260414T214043Z
LAST-MODIFIED:20260414T214043Z
UID:6181-1779886800-1779892200@ukesters.com
SUMMARY:Song Circle
DESCRIPTION:After some gig song practice\, join us for song circle. Choose from the PURPLE BOOK or the GIG SONGS when making your list of songs to request.
URL:https://ukesters.com/event/song-circle-91/
ATTACH;FMTTYPE=image/jpeg:https://ukesters.com/wp-content/uploads/2025/12/3ukes.jpg
END:VEVENT
BEGIN:VEVENT
DTSTART;TZID=America/Los_Angeles:20260603T130000
DTEND;TZID=America/Los_Angeles:20260603T143000
DTSTAMP:20260423T203132
CREATED:20260422T234117Z
LAST-MODIFIED:20260422T234117Z
UID:6189-1780491600-1780497000@ukesters.com
SUMMARY:Song Circle
DESCRIPTION:After we practice some gig songs\, we will enjoy a song circle. Songs may be chosen from the GIG SONGS and MISC SONGS. Come prepared with a list of your favorites!
URL:https://ukesters.com/event/song-circle-93/
ATTACH;FMTTYPE=image/jpeg:https://ukesters.com/wp-content/uploads/2025/08/UkulelePlayer.jpg
END:VEVENT
BEGIN:VEVENT
DTSTART;TZID=America/Los_Angeles:20260610T130000
DTEND;TZID=America/Los_Angeles:20260610T143000
DTSTAMP:20260423T203132
CREATED:20260422T234255Z
LAST-MODIFIED:20260422T234255Z
UID:6191-1781096400-1781101800@ukesters.com
SUMMARY:Song Circle
DESCRIPTION:This week a song circle will follow our usual gig practice. Come prepare with songs from the BROWN BOOK or GIG SONGS
URL:https://ukesters.com/event/song-circle-94/
ATTACH;FMTTYPE=image/jpeg:https://ukesters.com/wp-content/uploads/2025/08/UkulelePlayer.jpg
END:VEVENT
BEGIN:VEVENT
DTSTART;TZID=America/Los_Angeles:20260617T130000
DTEND;TZID=America/Los_Angeles:20260617T143000
DTSTAMP:20260423T203132
CREATED:20260422T234514Z
LAST-MODIFIED:20260422T234514Z
UID:6194-1781701200-1781706600@ukesters.com
SUMMARY:Song Circle
DESCRIPTION:Today we will practice a few gig songs\, then go around the circle. Please look for your favorites to request using the TEAL BOOK\, and GIG SONGS
URL:https://ukesters.com/event/song-circle-95/
ATTACH;FMTTYPE=image/jpeg:https://ukesters.com/wp-content/uploads/2025/08/UkulelePlayer.jpg
END:VEVENT
BEGIN:VEVENT
DTSTART;TZID=America/Los_Angeles:20260624T130000
DTEND;TZID=America/Los_Angeles:20260624T143000
DTSTAMP:20260423T203132
CREATED:20260422T234732Z
LAST-MODIFIED:20260422T234732Z
UID:6196-1782306000-1782311400@ukesters.com
SUMMARY:Song Circle
DESCRIPTION:We will start as usual with a few songs picked out for us to practice. \nChoose from the PURPLE BOOK or the GIG SONGS when looking for songs you’d like to sing at our song circle. \n 
URL:https://ukesters.com/event/song-circle-96/
ATTACH;FMTTYPE=image/jpeg:https://ukesters.com/wp-content/uploads/2025/08/UkulelePlayer.jpg
END:VEVENT
END:VCALENDAR