BEGIN:VCALENDAR
VERSION:2.0
PRODID:-//Bellevue UKE&#039;sters - ECPv6.15.20//NONSGML v1.0//EN
CALSCALE:GREGORIAN
METHOD:PUBLISH
X-WR-CALNAME:Bellevue UKE&#039;sters
X-ORIGINAL-URL:https://ukesters.com
X-WR-CALDESC:Events for Bellevue UKE&#039;sters
REFRESH-INTERVAL;VALUE=DURATION:PT1H
X-Robots-Tag:noindex
X-PUBLISHED-TTL:PT1H
BEGIN:VTIMEZONE
TZID:UTC
BEGIN:STANDARD
TZOFFSETFROM:+0000
TZOFFSETTO:+0000
TZNAME:UTC
DTSTART:20200101T000000
END:STANDARD
END:VTIMEZONE
BEGIN:VTIMEZONE
TZID:America/Los_Angeles
BEGIN:DAYLIGHT
TZOFFSETFROM:-0800
TZOFFSETTO:-0700
TZNAME:PDT
DTSTART:20200308T100000
END:DAYLIGHT
BEGIN:STANDARD
TZOFFSETFROM:-0700
TZOFFSETTO:-0800
TZNAME:PST
DTSTART:20201101T090000
END:STANDARD
BEGIN:DAYLIGHT
TZOFFSETFROM:-0800
TZOFFSETTO:-0700
TZNAME:PDT
DTSTART:20210314T100000
END:DAYLIGHT
BEGIN:STANDARD
TZOFFSETFROM:-0700
TZOFFSETTO:-0800
TZNAME:PST
DTSTART:20211107T090000
END:STANDARD
BEGIN:DAYLIGHT
TZOFFSETFROM:-0800
TZOFFSETTO:-0700
TZNAME:PDT
DTSTART:20220313T100000
END:DAYLIGHT
BEGIN:STANDARD
TZOFFSETFROM:-0700
TZOFFSETTO:-0800
TZNAME:PST
DTSTART:20221106T090000
END:STANDARD
END:VTIMEZONE
BEGIN:VEVENT
DTSTART;TZID=UTC:20210818T123000
DTEND;TZID=UTC:20210818T143000
DTSTAMP:20260425T115534
CREATED:20210802T190342Z
LAST-MODIFIED:20210802T190342Z
UID:997-1629289800-1629297000@ukesters.com
SUMMARY:Gig Practice & Song Circle
DESCRIPTION:Anyone participating in the Aug 26 gig at Timber Ridge is encouraged to come early for gig practice. \nPlease arrive at 12:15 as we will start gig practice at 12:30.\nFrom 12:30 to 1:30 we will work on gig songs. \nSong circle will start at 1:30. Bring Gig book and Red book and your selected songs! \nDisclaimer: If inclement weather\, we will meet on Zoom!
URL:https://ukesters.com/event/gig-practice-song-circle-5/
LOCATION:McNeill residence\, available by request\, Kirkland\, WA\, United States
END:VEVENT
BEGIN:VEVENT
DTSTART;TZID=UTC:20210811T123000
DTEND;TZID=UTC:20210811T143000
DTSTAMP:20260425T115534
CREATED:20210802T185853Z
LAST-MODIFIED:20210806T184059Z
UID:993-1628685000-1628692200@ukesters.com
SUMMARY:Gig Practice & Song Circle
DESCRIPTION:Anyone participating in the Aug 26 gig at Timber Ridge is encouraged to come early for gig practice. \nToday’s practice is at Shelter A at Crossroads Park  in Bellevue. See URL below for map to park\, or use this map for more specific insight to finding Shelter A. \nPlease arrive at 12:15 as we will start gig practice at 12:30.\nFrom 12:30 to 1:30 we will work on gig songs. \nSong circle will start at 1:30. Bring Gig book and Red book and your selected songs! \nDisclaimer: If inclement weather\, we will meet on Zoom!
URL:https://ukesters.com/event/gig-practice-song-circle-4/
LOCATION:Crossroads Park\, Shelter A\, 16140 NE 8th St\, Bellevue\, WA\, 98008\, United States
END:VEVENT
BEGIN:VEVENT
DTSTART;TZID=UTC:20210804T123000
DTEND;TZID=UTC:20210804T143000
DTSTAMP:20260425T115534
CREATED:20210721T180603Z
LAST-MODIFIED:20210802T190217Z
UID:953-1628080200-1628087400@ukesters.com
SUMMARY:Gig Practice & Song Circle
DESCRIPTION:Anyone participating in the Aug 26 gig at Timber Ridge is encouraged to come early for gig practice. \nPlease arrive at 12:15 as we will start gig practice at 12:30.\nFrom 12:30 to 1:30 we will work on gig songs. \nSong circle will start at 1:30. Bring Gig book and Red book and your selected songs! \nDisclaimer: If inclement weather\, we will meet on Zoom!
URL:https://ukesters.com/event/gig-practice-song-circle-3/
LOCATION:McNeill residence\, available by request\, Kirkland\, WA\, United States
ATTACH;FMTTYPE=image/jpeg:https://ukesters.com/wp-content/uploads/2021/06/21-6-2-UKEsters-together-agains-1.jpg
END:VEVENT
BEGIN:VEVENT
DTSTART;TZID=UTC:20210728T123000
DTEND;TZID=UTC:20210728T143000
DTSTAMP:20260425T115534
CREATED:20210721T180200Z
LAST-MODIFIED:20210721T180345Z
UID:949-1627475400-1627482600@ukesters.com
SUMMARY:Gig Practice & Song Circle
DESCRIPTION:Anyone participating in the Aug 26 gig at Timber Ridge is encouraged to come early for gig practice. \nPlease arrive at 12:15 as we will start gig practice at 12:30.\nFrom 12:30 to 1:30 we will work on gig songs. \nSong circle will start at 1:30. We will be playing songs from the Teal book and the Gig book\, so come prepared with your picks! \nDisclaimer: If inclement weather\, we will meet on Zoom!
URL:https://ukesters.com/event/gig-practice-song-circle-2/
LOCATION:McNeill residence\, available by request\, Kirkland\, WA\, United States
ATTACH;FMTTYPE=image/jpeg:https://ukesters.com/wp-content/uploads/2021/06/21-6-2-UKEsters-together-agains-1.jpg
END:VEVENT
BEGIN:VEVENT
DTSTART;TZID=UTC:20210724T170000
DTEND;TZID=UTC:20210724T213000
DTSTAMP:20260425T115534
CREATED:20210611T194738Z
LAST-MODIFIED:20210712T213001Z
UID:808-1627146000-1627162200@ukesters.com
SUMMARY:Potluck and Kanikapila
DESCRIPTION:WHAT TO BRING: Ukulele\, stand\, gig book\, a heavy hors d’ oeuvre\, your drink of choice (dessert and water to be provided as well as cups\, plates and utensils) \nThere will be a full moon on this night\, so come prepared for a nice show from Mother Nature!
URL:https://ukesters.com/event/potluck-and-kanikapila/
LOCATION:WA
ATTACH;FMTTYPE=image/jpeg:https://ukesters.com/wp-content/uploads/2021/06/2019Luau.jpg
END:VEVENT
BEGIN:VEVENT
DTSTART;TZID=UTC:20210721T123000
DTEND;TZID=UTC:20210721T143000
DTSTAMP:20260425T115534
CREATED:20210712T215318Z
LAST-MODIFIED:20210712T215409Z
UID:933-1626870600-1626877800@ukesters.com
SUMMARY:Gig practice & Song Circle
DESCRIPTION:Disclaimer: If inclement weather\, we will meet on Zoom! \nAnyone participating in the Aug 26 gig at Timber Ridge is encouraged to come early for gig practice. \nPlease arrive at 12:15 as we will start gig practice at 12:30.\nFrom 12:30 to 1:30 we will work on gig songs. \nSong circle will start and 1:30 and run until 2:30. We will be playing songs from the Teal book and the Gig book\, so come prepared with your picks!
URL:https://ukesters.com/event/gig-practice-song-circle/
LOCATION:McNeill residence\, available by request\, Kirkland\, WA\, United States
ATTACH;FMTTYPE=image/jpeg:https://ukesters.com/wp-content/uploads/2021/06/21-6-2-UKEsters-together-agains-1.jpg
END:VEVENT
BEGIN:VEVENT
DTSTART;TZID=UTC:20210714T123000
DTEND;TZID=UTC:20210714T143000
DTSTAMP:20260425T115534
CREATED:20210706T034625Z
LAST-MODIFIED:20210712T220119Z
UID:919-1626265800-1626273000@ukesters.com
SUMMARY:Gig practice & Song Circle
DESCRIPTION:Anyone participating in the Aug 26 gig at Timber Ridge is encouraged to come early for gig practice. Please arrive at 12:15 as we will start gig practice at 12:30. \nFrom 12:30 to 1:30 we will work on gig songs. This week it will be Rhythm of the Ocean\, Green Rose Hula (in C)\, and Pili Mau Me Oe. \nSong circle will start and 1:30 and run until 2:30. We will be playing songs from the Teal book and the Gig book\, so come prepared with your picks! \n 
URL:https://ukesters.com/event/song-circle-5/
LOCATION:McNeill residence\, available by request\, Kirkland\, WA\, United States
ATTACH;FMTTYPE=image/jpeg:https://ukesters.com/wp-content/uploads/2021/06/21-6-2-UKEsters-together-agains-1.jpg
END:VEVENT
BEGIN:VEVENT
DTSTART;TZID=UTC:20210707T130000
DTEND;TZID=UTC:20210707T143000
DTSTAMP:20260425T115534
CREATED:20210629T195124Z
LAST-MODIFIED:20210706T034408Z
UID:906-1625662800-1625668200@ukesters.com
SUMMARY:Song Circle
DESCRIPTION:An informal gathering to enjoy singing and playing together. \nBring your Teal book and pick out a song for the group to sing.
URL:https://ukesters.com/event/song-circle-4/
LOCATION:McNeill residence\, available by request\, Kirkland\, WA\, United States
ATTACH;FMTTYPE=image/jpeg:https://ukesters.com/wp-content/uploads/2021/06/21-6-2-UKEsters-together-agains-1.jpg
END:VEVENT
BEGIN:VEVENT
DTSTART;TZID=UTC:20210630T130000
DTEND;TZID=UTC:20210630T143000
DTSTAMP:20260425T115534
CREATED:20210622T194536Z
LAST-MODIFIED:20210629T195512Z
UID:883-1625058000-1625063400@ukesters.com
SUMMARY:Song Circle
DESCRIPTION:An informal gathering to enjoy singing and playing together. \nJune 3oth is celebrating the BEATLES! \nWe are re-living the session we did on March 21\, 2021\, but this time in person! \nIf you need the music\, find it on our website under Resources\, or click here
URL:https://ukesters.com/event/song-circle-2/
LOCATION:WA
ATTACH;FMTTYPE=image/jpeg:https://ukesters.com/wp-content/uploads/2021/06/21-6-2-UKEsters-together-agains-1.jpg
END:VEVENT
BEGIN:VEVENT
DTSTART;TZID=UTC:20210623T130000
DTEND;TZID=UTC:20210623T143000
DTSTAMP:20260425T115534
CREATED:20210622T194906Z
LAST-MODIFIED:20210622T194906Z
UID:885-1624453200-1624458600@ukesters.com
SUMMARY:Song Circle
DESCRIPTION:An informal gathering to enjoy singing and playing together.
URL:https://ukesters.com/event/song-circle-3/
LOCATION:McNeill residence\, available by request\, Kirkland\, WA\, United States
ATTACH;FMTTYPE=image/jpeg:https://ukesters.com/wp-content/uploads/2021/06/21-6-2-UKEsters-together-agains-1.jpg
END:VEVENT
BEGIN:VEVENT
DTSTART;TZID=America/Los_Angeles:20210616T130000
DTEND;TZID=America/Los_Angeles:20210616T143000
DTSTAMP:20260425T115534
CREATED:20210611T192524Z
LAST-MODIFIED:20210611T192524Z
UID:821-1623848400-1623853800@ukesters.com
SUMMARY:Song Circle
DESCRIPTION:An informal gathering to enjoy singing and playing together.
URL:https://ukesters.com/event/song-circle/
LOCATION:McNeill residence\, available by request\, Kirkland\, WA\, United States
ATTACH;FMTTYPE=image/jpeg:https://ukesters.com/wp-content/uploads/2021/06/21-6-2-UKEsters-together-agains-1.jpg
END:VEVENT
END:VCALENDAR