BEGIN:VCALENDAR
VERSION:2.0
PRODID:-//Bellevue UKE&#039;sters - ECPv6.15.20//NONSGML v1.0//EN
CALSCALE:GREGORIAN
METHOD:PUBLISH
X-WR-CALNAME:Bellevue UKE&#039;sters
X-ORIGINAL-URL:https://ukesters.com
X-WR-CALDESC:Events for Bellevue UKE&#039;sters
REFRESH-INTERVAL;VALUE=DURATION:PT1H
X-Robots-Tag:noindex
X-PUBLISHED-TTL:PT1H
BEGIN:VTIMEZONE
TZID:America/Los_Angeles
BEGIN:DAYLIGHT
TZOFFSETFROM:-0800
TZOFFSETTO:-0700
TZNAME:PDT
DTSTART:20240310T100000
END:DAYLIGHT
BEGIN:STANDARD
TZOFFSETFROM:-0700
TZOFFSETTO:-0800
TZNAME:PST
DTSTART:20241103T090000
END:STANDARD
BEGIN:DAYLIGHT
TZOFFSETFROM:-0800
TZOFFSETTO:-0700
TZNAME:PDT
DTSTART:20250309T100000
END:DAYLIGHT
BEGIN:STANDARD
TZOFFSETFROM:-0700
TZOFFSETTO:-0800
TZNAME:PST
DTSTART:20251102T090000
END:STANDARD
BEGIN:DAYLIGHT
TZOFFSETFROM:-0800
TZOFFSETTO:-0700
TZNAME:PDT
DTSTART:20260308T100000
END:DAYLIGHT
BEGIN:STANDARD
TZOFFSETFROM:-0700
TZOFFSETTO:-0800
TZNAME:PST
DTSTART:20261101T090000
END:STANDARD
END:VTIMEZONE
BEGIN:VTIMEZONE
TZID:UTC
BEGIN:STANDARD
TZOFFSETFROM:+0000
TZOFFSETTO:+0000
TZNAME:UTC
DTSTART:20240101T000000
END:STANDARD
END:VTIMEZONE
BEGIN:VEVENT
DTSTART;TZID=America/Los_Angeles:20250801T130000
DTEND;TZID=America/Los_Angeles:20250801T143000
DTSTAMP:20260424T002234
CREATED:20250728T214031Z
LAST-MODIFIED:20250730T154938Z
UID:5500-1754053200-1754058600@ukesters.com
SUMMARY:Aloha Pō’alima
DESCRIPTION:Aloha Pō’alima (Aloha Friday) is an informal gathering to focus on Hawaiian music\, language\, and culture. \nPlease organize your music ahead of time using the list  below\, or you can DOWNLOAD THIS PDF file for use with electronic devices. \nSong sheets can be found on the Aloha Friday page\, or the Gig Song PDFs page. \n\nOli Aloha\nAloha Friday UKEʻsters\nTewetewe\nFriends\nKe Aloha\nMy Tropical Bay\nIsland Style\nMy Waikiki Girl\nPretty Red Hibiscus\nMy Yellow Ginger Lei\nMy Sweet Gardenia Lei\nPua Tuberose\nMahina Hoku/Aloha Wau Medley\nPaniolo Country\nMele of my Tutu\nWaipiʻi\nPuamana\nMaikaʻi No Kauaʻi\nNoho Paipai\nNot Pau
URL:https://ukesters.com/event/aloha-poalima-35/
LOCATION:Hale ‘o Kalena\, available by request\, Bellevue\, WA\, 98008
ATTACH;FMTTYPE=image/jpeg:https://ukesters.com/wp-content/uploads/2022/06/AF.jpg
END:VEVENT
BEGIN:VEVENT
DTSTART;TZID=America/Los_Angeles:20250730T140000
DTEND;TZID=America/Los_Angeles:20250730T170000
DTSTAMP:20260424T002234
CREATED:20250321T044426Z
LAST-MODIFIED:20250729T182914Z
UID:5191-1753884000-1753894800@ukesters.com
SUMMARY:Potluck and Song Circle
DESCRIPTION:Kathleen Sanders has invited us for an afternoon kanikapila at her Lake Sammamish home. \nThere will be music\, hula and good food! Plus 1’s welcome. \nWHEN:  Wednesday\, July 30 from 2:00 to 5:00. Song circle from 2:30 to 3:30 followed by socializing. \nWHAT TO BRING:  Ukulele\, stand\, heavy hors d’ oeuvre\, and your beverage of choice. \n PARKING: Please let Kathleen know if you need to reserve parking in the driveway\, otherwise you can park on \n      West Lake Sammamish Parkway or the neighbor’s driveway to the south. Dick will be there to direct you. \nPlease RSVP by  July 25th. \nWhen it’s time for kanikapila\, we will play out of THIS SONGBOOK (you can download for use with electronic devices). \nIf you are using paper music\, you can download the SONGLIST to use to organize your music ahead of time. \nDon’t forget your ukulele!
URL:https://ukesters.com/event/potluck-and-song-circle-2/
LOCATION:Sanders Residence\, address available by request\, Bellevue\, WA\, 98008
END:VEVENT
BEGIN:VEVENT
DTSTART;TZID=America/Los_Angeles:20250723T130000
DTEND;TZID=America/Los_Angeles:20250723T143000
DTSTAMP:20260424T002234
CREATED:20250614T022141Z
LAST-MODIFIED:20250722T193904Z
UID:5406-1753275600-1753281000@ukesters.com
SUMMARY:Song Circle
DESCRIPTION:**CHANGE OF VENUE** \nPaving project is not yet completed where we have been meeting\, so \n                                                     Same time – different place! \nPlease join us in the meeting room at Lake Hills Library (15590 Lake Hills Blvd\, Bellevue\, WA 98007-5997) \nThe session will start with practicing Gig songs for the Aljoya Happy Hour gig that is coming up. \nBelow is the list of songs for Aljoya. You can DOWNLOAD THIS PDF of the practice set for use on electronic devices. \nAfter that – if time\, song circle! Bring a list of your favorites to request. \nSongs may be chosen from the TEAL BOOK\, and GIG SONGS . \nAljoya Happy Hour Set List: \n\nThis Magic Moment\nIn the Good Old Summertime\nAin’t She Sweet\nEverybody Loves a Lover\nUnder the Boardwalk\nWho Put the Bomp\nYou Belong to Me\nTiny Bubbles\nPearly Shells\nThe Hukilau Song\nMy Little Grass Shack\nBye Bye Love\nPretty Woman\nSweet Caroline\nCan’t Help Falling In Love\nWhen You’re Smiling
URL:https://ukesters.com/event/song-circle-58/
LOCATION:LakeHills Library Meeting Room\, 15590 Lake Hills Boulevard\, Bellevue\, WA\, 98007\, United States
ATTACH;FMTTYPE=image/jpeg:https://ukesters.com/wp-content/uploads/2025/06/song.circle.jpg
END:VEVENT
BEGIN:VEVENT
DTSTART;TZID=America/Los_Angeles:20250718T130000
DTEND;TZID=America/Los_Angeles:20250718T143000
DTSTAMP:20260424T002234
CREATED:20250624T192208Z
LAST-MODIFIED:20250717T185127Z
UID:5426-1752843600-1752849000@ukesters.com
SUMMARY:Aloha Pō’alima
DESCRIPTION:Aloha Pō’alima (Aloha Friday) is an informal gathering to focus on Hawaiian music\, language\, and culture. \nPlease organize your music ahead of time using the list (once provided) below\, or you can DOWNLOAD THIS PDF file for use with electronic devices. \nSong sheets can be found on the Aloha Friday page\, or the Gig Song PDFs page. \n\n\nAloha Friday Ukeʻsters\nFriends\nKe Aloha\nIsland Style\nMy Topical Baby\nE Nani E\nWaikiki\nPua Olena\nKuʻu Hoa\nNoho Paipaʻi\nHaleakala\nMakaha Moon\nUlili E\nE Kailua E\nMele of my Tutu E\nE Kuʻu Morning Dew (in G)\nIʻll Remember You\nHawaiʻi Aloha\nNot Pau
URL:https://ukesters.com/event/aloha-poalima-34/
LOCATION:Hale ‘o Kalena\, available by request\, Bellevue\, WA\, 98008
ATTACH;FMTTYPE=image/jpeg:https://ukesters.com/wp-content/uploads/2022/06/AF.jpg
END:VEVENT
BEGIN:VEVENT
DTSTART;TZID=America/Los_Angeles:20250717T140000
DTEND;TZID=America/Los_Angeles:20250717T150000
DTSTAMP:20260424T002234
CREATED:20250807T200251Z
LAST-MODIFIED:20250807T200251Z
UID:5544-1752760800-1752764400@ukesters.com
SUMMARY:Morningstar Luau (Gig)
DESCRIPTION:The Bellevue UKE’sters Nā Hoa Aloha were invited back to provide live entertainment for a lovely afternoon luau. \nNā Hoa Aloha \nThere was a full house\, lots of delicious food\, and plenty of Hawaiian music (and some hula too)! \nThe set list can be downloaded HERE. \nEnjoying luau food together afterwards \n 
URL:https://ukesters.com/event/morningstar-luau-gig/
LOCATION:Morningstar Kirkland\, Address11729 NE 118th Street\, Kirkland\, WA\, 98034\, United States
ATTACH;FMTTYPE=image/jpeg:https://ukesters.com/wp-content/uploads/2024/07/Morningstar-Kirkland.jpg
END:VEVENT
BEGIN:VEVENT
DTSTART;TZID=America/Los_Angeles:20250716T130000
DTEND;TZID=America/Los_Angeles:20250716T143000
DTSTAMP:20260424T002234
CREATED:20250614T021935Z
LAST-MODIFIED:20250614T021935Z
UID:5404-1752670800-1752676200@ukesters.com
SUMMARY:Song Circle
DESCRIPTION:Please come prepared with a few song titles to use in our song circle after we work on a few gig songs. \nThis week songs may be chosen from the MISC SONGS or  GIG SONGS
URL:https://ukesters.com/event/song-circle-57/
ATTACH;FMTTYPE=image/jpeg:https://ukesters.com/wp-content/uploads/2025/06/song.circle.jpg
END:VEVENT
BEGIN:VEVENT
DTSTART;TZID=America/Los_Angeles:20250709T130000
DTEND;TZID=America/Los_Angeles:20250709T143000
DTSTAMP:20260424T002234
CREATED:20250614T021752Z
LAST-MODIFIED:20250614T021752Z
UID:5402-1752066000-1752071400@ukesters.com
SUMMARY:Song Circle
DESCRIPTION:After gig song practice\, we will continue with a song circle. \nPlease come prepared with a few song titles. \nThis week songs may be chosen from the MISC SONGS or  GIG SONGS
URL:https://ukesters.com/event/song-circle-56/
ATTACH;FMTTYPE=image/jpeg:https://ukesters.com/wp-content/uploads/2025/06/song.circle.jpg
END:VEVENT
BEGIN:VEVENT
DTSTART;TZID=America/Los_Angeles:20250704T130000
DTEND;TZID=America/Los_Angeles:20250704T143000
DTSTAMP:20260424T002234
CREATED:20250624T192036Z
LAST-MODIFIED:20250702T182312Z
UID:5424-1751634000-1751639400@ukesters.com
SUMMARY:Aloha Pō’alima
DESCRIPTION:Aloha Pō’alima (Aloha Friday) is an informal gathering to focus on Hawaiian music\, language\, and culture. \nPlease organize your music ahead of time using the list (once provided) below\, or you can  DOWNLOAD THIS PDF file for use with electronic devices. \nSong sheets can be found on the Aloha Friday page\, or the Gig Song PDFs page. \n\nAloha Friday Ukeʻsters\nFriends\nKe Aloha\nSpread A Little Aloha\nBlue Hawaiʻi\nHukilau Song\nWaikiki\nTiny Bubbles\nPua Mana\nUlupalakua\nBeautiful Kauaʻi\nKa Pua E\nMolokaʻi Sweet Home\nWahine Ilikea\nMy Little Grass Shack/ Little Brown Gal\nKuhio Bay\nIʻll Remember You\nRainbow/ Wonderful World\nNot Pau
URL:https://ukesters.com/event/aloha-poalima-33/
LOCATION:Hale ‘o Kalena\, available by request\, Bellevue\, WA\, 98008
ATTACH;FMTTYPE=image/jpeg:https://ukesters.com/wp-content/uploads/2022/06/AF.jpg
END:VEVENT
BEGIN:VEVENT
DTSTART;TZID=America/Los_Angeles:20250702T130000
DTEND;TZID=America/Los_Angeles:20250702T143000
DTSTAMP:20260424T002234
CREATED:20250614T021535Z
LAST-MODIFIED:20250701T150943Z
UID:5399-1751461200-1751466600@ukesters.com
SUMMARY:Song Circle
DESCRIPTION:After we practice some gig songs\, we will go around the circle playing song requests. \nPlease come prepared with a song or two to suggest when it’s your turn! \nThis week you can pick songs from our ALOHA FRIDAY page\, or from the GIG SONGS list.
URL:https://ukesters.com/event/song-circle-55/
ATTACH;FMTTYPE=image/jpeg:https://ukesters.com/wp-content/uploads/2025/06/song.circle.jpg
END:VEVENT
BEGIN:VEVENT
DTSTART;TZID=America/Los_Angeles:20250625T130000
DTEND;TZID=America/Los_Angeles:20250625T143000
DTSTAMP:20260424T002234
CREATED:20250515T202602Z
LAST-MODIFIED:20250610T230736Z
UID:5331-1750856400-1750861800@ukesters.com
SUMMARY:Song Circle
DESCRIPTION:Come prepared with suggestions for a song circle after selected Gig songs that we will practice. \nUse the PURPLE BOOK or the GIG SONGS  when making your list of choices.
URL:https://ukesters.com/event/song-circle-54/
ATTACH;FMTTYPE=image/jpeg:https://ukesters.com/wp-content/uploads/2024/11/ukuleles.jpg
END:VEVENT
BEGIN:VEVENT
DTSTART;TZID=America/Los_Angeles:20250620T130000
DTEND;TZID=America/Los_Angeles:20250620T143000
DTSTAMP:20260424T002234
CREATED:20250515T201235Z
LAST-MODIFIED:20250619T022544Z
UID:5323-1750424400-1750429800@ukesters.com
SUMMARY:Aloha Pō’alima
DESCRIPTION:Aloha Pō’alima (Aloha Friday) is an informal gathering to focus on Hawaiian music\, language\, and culture. \nThis is our first time meeting at the Kirkland Library. Parking is on the East side of the building or underneath the building. There is an elevator from underground parking up to library level. Meeting room is to the left as you come in the main door. \nPlease organize your music ahead of time using the list below\, or you can DOWNLOAD THIS PDF file for use with electronic devices. \nSong sheets can be found on the Aloha Friday page\, or the Gig Song PDFs page. \n  \n\nAloha Friday UKEʻsters\nIsland Style\nMakee ‘Ailana\nHaleakalā (Kekona)\nNā Vaqueros\nPua Olena\nFriends\nPua Mana\nWaipiʻi\nE Hihiwai\nHe Aloha Mele\nPuaTuberose\nBlue Hawaii\nMoloka’i Sweet Home\nWahine Ilikea\nLittle Grass Shack / Brown Gal Medly\nNoho Paipai\nMy Yellow Ginger Lei\nHawai’i Aloha\nNot Pau
URL:https://ukesters.com/event/aloha-poalima-32/
LOCATION:Kirkland Public Library Meeting Rom\, 308 Kirkland Avenue\, Kirkland\, WA\, 98033\, United States
ATTACH;FMTTYPE=image/jpeg:https://ukesters.com/wp-content/uploads/2022/06/AF.jpg
END:VEVENT
BEGIN:VEVENT
DTSTART;TZID=America/Los_Angeles:20250618T130000
DTEND;TZID=America/Los_Angeles:20250618T143000
DTSTAMP:20260424T002234
CREATED:20250515T202150Z
LAST-MODIFIED:20250617T182925Z
UID:5329-1750251600-1750257000@ukesters.com
SUMMARY:Song Circle
DESCRIPTION:Song circle will commence after Gig song practice. \nHere are the gig songs we will review: \n\nTiny Bubbles\nPearly Shells (Silver Glen version)\nWhite Sandy Beach\nAin’t She Sweet\nEverybody Loves a Lover\n\nCome prepared for song circle with a list of songs you can pick from. \nUse the PURPLE BOOK or the GIG SONGS  when making your list.
URL:https://ukesters.com/event/song-circle-53/
ATTACH;FMTTYPE=image/jpeg:https://ukesters.com/wp-content/uploads/2024/11/ukuleles.jpg
END:VEVENT
BEGIN:VEVENT
DTSTART;TZID=America/Los_Angeles:20250611T130000
DTEND;TZID=America/Los_Angeles:20250611T143000
DTSTAMP:20260424T002234
CREATED:20250515T201941Z
LAST-MODIFIED:20250515T201941Z
UID:5327-1749646800-1749652200@ukesters.com
SUMMARY:Song Circle
DESCRIPTION:The session will start with Gig songs that we want to practice. After that – song circle! \nBring a list of your favorites to request. \nSongs may be chosen from the TEAL BOOK\, and GIG SONGS .
URL:https://ukesters.com/event/song-circle-52/
ATTACH;FMTTYPE=image/jpeg:https://ukesters.com/wp-content/uploads/2024/11/ukuleles.jpg
END:VEVENT
BEGIN:VEVENT
DTSTART;TZID=America/Los_Angeles:20250606T130000
DTEND;TZID=America/Los_Angeles:20250606T143000
DTSTAMP:20260424T002234
CREATED:20250515T201114Z
LAST-MODIFIED:20250604T155558Z
UID:5321-1749214800-1749220200@ukesters.com
SUMMARY:Aloha Pō’alima
DESCRIPTION:Aloha Pō’alima (Aloha Friday) is an informal gathering to focus on Hawaiian music\, language\, and culture. \nPlease organize your music ahead of time using the list (once provided) below\, or you can DOWNLOAD THIS PDF file for use with electronic devices. \nSong sheets can be found on the Aloha Friday page\, or the Gig Song PDFs page. \n\nOli Aloha\nAloha Friday UKEʻsters\nTewetewe\nWaipiʻi\nHaleakala (Kekona)\nMy Tropical Bay\nWaikiki\nMy Waikiki Girl\nIʻll remember You\nMy Yellow Ginger Lei\nKa Pua E\nMolokaʻi Sweet home\nMahina Hoku/Aloha Wau Medley\nPaniolo Country\nMele of my Tutu\nLahainaluna\nPuamana\nMy sweet Gardenia Lei\nNoho Paipai\nNot Pau
URL:https://ukesters.com/event/aloha-poalima-27/
LOCATION:LakeHills Library Meeting Room\, 15590 Lake Hills Boulevard\, Bellevue\, WA\, 98007\, United States
ATTACH;FMTTYPE=image/jpeg:https://ukesters.com/wp-content/uploads/2022/06/AF.jpg
END:VEVENT
BEGIN:VEVENT
DTSTART;TZID=America/Los_Angeles:20250604T130000
DTEND;TZID=America/Los_Angeles:20250604T143000
DTSTAMP:20260424T002234
CREATED:20250515T201609Z
LAST-MODIFIED:20250515T201609Z
UID:5325-1749042000-1749047400@ukesters.com
SUMMARY:Song Circle
DESCRIPTION:We will  have a song circle after practicing some selected gig songs. \nPlease come prepared with a few song titles. \nThis week songs may be chosen from the MISC SONGS or  GIG SONGS
URL:https://ukesters.com/event/song-circle-51/
ATTACH;FMTTYPE=image/jpeg:https://ukesters.com/wp-content/uploads/2024/11/ukuleles.jpg
END:VEVENT
BEGIN:VEVENT
DTSTART;TZID=America/Los_Angeles:20250528T130000
DTEND;TZID=America/Los_Angeles:20250528T143000
DTSTAMP:20260424T002234
CREATED:20250505T201006Z
LAST-MODIFIED:20250505T201006Z
UID:5301-1748437200-1748442600@ukesters.com
SUMMARY:Song Circle
DESCRIPTION:After gig song practice\, we will continue with a song circle. \nPlease come prepared with a few song titles. \nThis week songs may be chosen from the MISC SONGS or  GIG SONGS
URL:https://ukesters.com/event/song-circle-50/
ATTACH;FMTTYPE=image/jpeg:https://ukesters.com/wp-content/uploads/2024/11/ukuleles.jpg
END:VEVENT
BEGIN:VEVENT
DTSTART;TZID=America/Los_Angeles:20250523T130000
DTEND;TZID=America/Los_Angeles:20250523T143000
DTSTAMP:20260424T002234
CREATED:20250430T193147Z
LAST-MODIFIED:20250521T224527Z
UID:5289-1748005200-1748010600@ukesters.com
SUMMARY:Aloha Pō’alima
DESCRIPTION:Aloha Pō’alima (Aloha Friday) is an informal gathering to focus on Hawaiian music\, language\, and culture. \nPlease organize your music ahead of time using the list (once provided) below\, or you can DOWNLOAD THIS PDF file we will provide here for use with electronic devices. \nSong sheets can be found on the Aloha Friday page\, or the Gig Song PDFs page. \n\nAloha Friday UKEʻsters\nIsland Style\nI Miss You My Hawaii\nPearly Shells\nNā Vaqueros\nWaikiki\nSweet Someone\nLaupahoehoe Hula\nIʻll Remember You\nKuʻu Hoa\nRhythm of the Ocean\nKuʻu Home o Kahaluʻu\nHanalei Moon\nE Kailua E\nStrolling on the Beach at Waikiki\nUlili E\nMakaha Moon\nE Kuʻu Morning Dew (in C)\nWahine Ilikea\nNot Pau\nHawaii Aloha
URL:https://ukesters.com/event/aloha-poalima-31/
LOCATION:Hale ‘o Kalena\, available by request\, Bellevue\, WA\, 98008
ATTACH;FMTTYPE=image/jpeg:https://ukesters.com/wp-content/uploads/2022/06/AF.jpg
END:VEVENT
BEGIN:VEVENT
DTSTART;TZID=America/Los_Angeles:20250521T130000
DTEND;TZID=America/Los_Angeles:20250521T143000
DTSTAMP:20260424T002234
CREATED:20250505T200712Z
LAST-MODIFIED:20250505T200712Z
UID:5299-1747832400-1747837800@ukesters.com
SUMMARY:Song Circle
DESCRIPTION:After we practice some gig songs\, we will go around the circle playing song requests. \nPlease come prepared with a song or two to suggest when it’s your turn! \nThis week you can pick songs from our ALOHA FRIDAY page\, or from the GIG SONGS list.
URL:https://ukesters.com/event/song-circle-49/
ATTACH;FMTTYPE=image/jpeg:https://ukesters.com/wp-content/uploads/2024/11/ukuleles.jpg
END:VEVENT
BEGIN:VEVENT
DTSTART;TZID=America/Los_Angeles:20250514T130000
DTEND;TZID=America/Los_Angeles:20250514T143000
DTSTAMP:20260424T002234
CREATED:20250418T181153Z
LAST-MODIFIED:20250418T181153Z
UID:5264-1747227600-1747233000@ukesters.com
SUMMARY:Song Circle
DESCRIPTION:We’ll start out practicing a few gig songs\, then it’s time for song circle! \nCome prepared! Use the PURPLE BOOK or the GIG SONGS  when making your list of choices.
URL:https://ukesters.com/event/song-circle-48/
ATTACH;FMTTYPE=image/jpeg:https://ukesters.com/wp-content/uploads/2024/11/ukuleles.jpg
END:VEVENT
BEGIN:VEVENT
DTSTART;TZID=America/Los_Angeles:20250507T130000
DTEND;TZID=America/Los_Angeles:20250507T143000
DTSTAMP:20260424T002234
CREATED:20250418T180923Z
LAST-MODIFIED:20250418T180923Z
UID:5262-1746622800-1746628200@ukesters.com
SUMMARY:Song Circle
DESCRIPTION:After we practice selected gig songs\, we will go around the circle and play requests! \nPrepare your choices  from the PURPLE BOOK or the GIG SONGS
URL:https://ukesters.com/event/song-circle-47/
ATTACH;FMTTYPE=image/jpeg:https://ukesters.com/wp-content/uploads/2024/11/ukuleles.jpg
END:VEVENT
BEGIN:VEVENT
DTSTART;TZID=America/Los_Angeles:20250502T130000
DTEND;TZID=America/Los_Angeles:20250502T150000
DTSTAMP:20260424T002234
CREATED:20250419T004155Z
LAST-MODIFIED:20250430T195108Z
UID:5270-1746190800-1746198000@ukesters.com
SUMMARY:Aloha Pō’alima
DESCRIPTION:Aloha Pō’alima (Aloha Friday) is an informal gathering to focus on Hawaiian music\, language\, and culture. \nPlease organize your music ahead of time using the list (once provided) below\, or you can DOWNLOAD THIS PDF file for use with electronic devices. \nSong sheets can be found on the Aloha Friday page\, or the Gig Song PDFs page. \n\nAloha Friday UKEʻsters\nIsland Style\nKuʻu Hoa\nWaikiki\nE Kuʻu Morning Dew\nPearly Shells\nIʻll Remember You\nSweet Someone\nl Miss You My Hawaiʻi\nWahine Ilikea\nKuʻu Home o Kahaluʻu\nRhythm of the Ocean\nLaupahoehoe / Happy Me\nHanalei Moon\nE Kailua E\nMakaha Moon\nUlili E\nStrolling on the Beach at Waikiki\nWaipiʻi\nNot Pau
URL:https://ukesters.com/event/aloha-poalima-30/
LOCATION:LakeHills Library Meeting Room\, 15590 Lake Hills Boulevard\, Bellevue\, WA\, 98007\, United States
ATTACH;FMTTYPE=image/jpeg:https://ukesters.com/wp-content/uploads/2022/06/AF.jpg
END:VEVENT
BEGIN:VEVENT
DTSTART;TZID=UTC:20250430T130000
DTEND;TZID=UTC:20250430T143000
DTSTAMP:20260424T002234
CREATED:20250322T200303Z
LAST-MODIFIED:20250322T200303Z
UID:5205-1746018000-1746023400@ukesters.com
SUMMARY:Song Circle
DESCRIPTION:Bring a list of options for participating in our song circle. \nSongs may be chosen from the TEAL BOOK\, and GIG SONGS .
URL:https://ukesters.com/event/song-circle-46/
ATTACH;FMTTYPE=image/jpeg:https://ukesters.com/wp-content/uploads/2024/11/ukuleles.jpg
END:VEVENT
BEGIN:VEVENT
DTSTART;TZID=America/Los_Angeles:20250423T130000
DTEND;TZID=America/Los_Angeles:20250423T143000
DTSTAMP:20260424T002234
CREATED:20250322T200132Z
LAST-MODIFIED:20250322T200132Z
UID:5203-1745413200-1745418600@ukesters.com
SUMMARY:Song Circle
DESCRIPTION:After gig song practice\, we will continue with a song circle. \nBring a list of your favorites to be ready when your turn comes along! \nThis week songs may be chosen from the MISC SONGS or  GIG SONGS
URL:https://ukesters.com/event/song-circle-45/
ATTACH;FMTTYPE=image/jpeg:https://ukesters.com/wp-content/uploads/2024/11/ukuleles.jpg
END:VEVENT
BEGIN:VEVENT
DTSTART;TZID=America/Los_Angeles:20250418T130000
DTEND;TZID=America/Los_Angeles:20250418T143000
DTSTAMP:20260424T002234
CREATED:20250308T001751Z
LAST-MODIFIED:20250416T153317Z
UID:5167-1744981200-1744986600@ukesters.com
SUMMARY:Aloha Pō’alima
DESCRIPTION:Aloha Pō’alima (Aloha Friday) is an informal gathering to focus on Hawaiian music\, language\, and culture. \nPlease organize your music ahead of time using the list (once provided) below\, or you can DOWNLOAD THIS PDF file for use with electronic devices. \nSong sheets can be found on the Aloha Friday page\, or the Gig Song PDFs page \n\n  \n\nAloha Friday UKEʻsters\nIsland Style\nTewetewe\nHaleakala (Kekona)\nWaipiʻi\nKu’u Hoa\nMy Tropical Baby\nPua Tuberose\nSweet Lady of Waiahole\nJust Hang Loose\nKauoha Mai (Keyhole Hula)\nE Hihiwai\nMokihana Medley\nIn A Little Hula Heaven\nE Nani E\nE Ku’u Morning Dew\nMakaha Moon\nUlupalakua\nHe Hawai’i Au\nHawai’i Aloha
URL:https://ukesters.com/event/aloha-poalima-29/
LOCATION:Hale ‘o Kalena\, available by request\, Bellevue\, WA\, 98008
ATTACH;FMTTYPE=image/jpeg:https://ukesters.com/wp-content/uploads/2022/06/AF.jpg
END:VEVENT
BEGIN:VEVENT
DTSTART;TZID=America/Los_Angeles:20250416T130000
DTEND;TZID=America/Los_Angeles:20250416T133000
DTSTAMP:20260424T002234
CREATED:20250322T195927Z
LAST-MODIFIED:20250322T195927Z
UID:5201-1744808400-1744810200@ukesters.com
SUMMARY:Song Circle
DESCRIPTION:After we practice a few gig songs to keep them fresh\, we will continue with a song circle. \nBring a list of your favorites to be ready when your turn comes along! \nThis week songs may be chosen from the MISC SONGS or  GIG SONGS
URL:https://ukesters.com/event/song-circle-44/
ATTACH;FMTTYPE=image/jpeg:https://ukesters.com/wp-content/uploads/2024/11/ukuleles.jpg
END:VEVENT
BEGIN:VEVENT
DTSTART;TZID=America/Los_Angeles:20250409T130000
DTEND;TZID=America/Los_Angeles:20250409T143000
DTSTAMP:20260424T002234
CREATED:20250322T195653Z
LAST-MODIFIED:20250322T195653Z
UID:5196-1744203600-1744209000@ukesters.com
SUMMARY:Song Circle
DESCRIPTION:We will start by practicing selections from our Gig Song repertoire\, and then go around the circle to play requests. \nCome prepared with a list of songs for when it is your turn! \nThis week\, choose from the PURPLE BOOK or the GIG SONGS
URL:https://ukesters.com/event/song-circle-43/
ATTACH;FMTTYPE=image/jpeg:https://ukesters.com/wp-content/uploads/2024/11/ukuleles.jpg
END:VEVENT
BEGIN:VEVENT
DTSTART;TZID=America/Los_Angeles:20250404T130000
DTEND;TZID=America/Los_Angeles:20250404T143000
DTSTAMP:20260424T002234
CREATED:20250308T001619Z
LAST-MODIFIED:20250403T164928Z
UID:5165-1743771600-1743777000@ukesters.com
SUMMARY:Aloha Pō’alima
DESCRIPTION:Aloha Pō’alima (Aloha Friday) is an informal gathering to focus on Hawaiian music\, language\, and culture. \nPlease organize your music ahead of time using the list (once provided) below\, or you can DOWNLOAD THIS PDF file for use with electronic devices. \nSong sheets can be found on the Aloha Friday page\, or the Gig Song PDFs page. \n\nOli Aloha\nAloha Friday UKEʻsters\nTewetewe\nWaipiʻi\nHaleakala (Kekona)\nMy Tropical Bay\nWaikiki\nMy Waikiki Girl\nIʻll Remember You\nMy Yellow Ginger Lei\nKa Pua E\nMolokaʻi Sweet home\nMahina Hoku/Aloha Wau Medley\nPaniolo Country\nMele of my Tutu E\nLahainaluna\nPuamana\nMy sweet Gardenia Lei\nNoho Paipai\nNot Pau
URL:https://ukesters.com/event/aloha-poalima-28/
LOCATION:LakeHills Library Meeting Room\, 15590 Lake Hills Boulevard\, Bellevue\, WA\, 98007\, United States
ATTACH;FMTTYPE=image/jpeg:https://ukesters.com/wp-content/uploads/2022/06/AF.jpg
END:VEVENT
BEGIN:VEVENT
DTSTART;TZID=America/Los_Angeles:20250402T130000
DTEND;TZID=America/Los_Angeles:20250402T143000
DTSTAMP:20260424T002234
CREATED:20250322T195129Z
LAST-MODIFIED:20250322T195129Z
UID:5194-1743598800-1743604200@ukesters.com
SUMMARY:Song Circle
DESCRIPTION:Come prepared with a list of songs for our weekly song circle. \nThis week\, choose from the PURPLE BOOK or the GIG SONGS
URL:https://ukesters.com/event/song-circle-42/
ATTACH;FMTTYPE=image/jpeg:https://ukesters.com/wp-content/uploads/2024/11/ukuleles.jpg
END:VEVENT
BEGIN:VEVENT
DTSTART;TZID=America/Los_Angeles:20250328T130000
DTEND;TZID=America/Los_Angeles:20250328T143000
DTSTAMP:20260424T002234
CREATED:20250206T194336Z
LAST-MODIFIED:20250327T163116Z
UID:5065-1743166800-1743172200@ukesters.com
SUMMARY:Aloha Pō’alima
DESCRIPTION:Aloha Pō’alima (Aloha Friday) is an informal gathering to focus on Hawaiian music\, language\, and culture. \nThis Friday will be a celebration of the beginning of Spring\, and a pāʻina lā hanau (birthday party) for Glenn! \nFeel free to bring a snack and/or beverage to share. \n   \nPlease organize your music ahead of time using the list (once provided) below\, or you can DOWNLOAD THIS PDF file for use with electronic devices. \nSong sheets can be found on the Aloha Friday page\, or the Gig Song PDFs page. \n\nAloha Friday UKEʻsters\nIsland Style\nTewetewe\nHaleakala (Kekona)\nWaipiʻi\nRhythm of the Ocean\nMy Tropical Baby\nWaikiki Hula\nKa Uluwehi O Ke Kai (in C\, for Hula)\nBeautiful Kauaʻi\nMaikaʻi No Kauaʻi\nE Hihiwai\nPretty Red Hibiscus\nKauanoeanuhea\nE Nani E\nModel T\nMakaha Moon\nUlupalakua\nHawaii Aloha
URL:https://ukesters.com/event/aloha-poalima-26/
LOCATION:Hale ‘o Kalena\, available by request\, Bellevue\, WA\, 98008
ATTACH;FMTTYPE=image/jpeg:https://ukesters.com/wp-content/uploads/2022/06/AF.jpg
END:VEVENT
BEGIN:VEVENT
DTSTART;TZID=America/Los_Angeles:20250326T130000
DTEND;TZID=America/Los_Angeles:20250326T143000
DTSTAMP:20260424T002234
CREATED:20250206T200043Z
LAST-MODIFIED:20250206T200043Z
UID:5081-1742994000-1742999400@ukesters.com
SUMMARY:Song Circle
DESCRIPTION:Bring a list of options for participating in our song circle. \nSongs may be chosen from the TEAL BOOK\, and GIG SONGS .
URL:https://ukesters.com/event/song-circle-41/
ATTACH;FMTTYPE=image/jpeg:https://ukesters.com/wp-content/uploads/2024/11/360ukulele.jpg
END:VEVENT
END:VCALENDAR