BEGIN:VCALENDAR
VERSION:2.0
PRODID:-//Bellevue UKE&#039;sters - ECPv6.15.20//NONSGML v1.0//EN
CALSCALE:GREGORIAN
METHOD:PUBLISH
X-ORIGINAL-URL:https://ukesters.com
X-WR-CALDESC:Events for Bellevue UKE&#039;sters
REFRESH-INTERVAL;VALUE=DURATION:PT1H
X-Robots-Tag:noindex
X-PUBLISHED-TTL:PT1H
BEGIN:VTIMEZONE
TZID:UTC
BEGIN:STANDARD
TZOFFSETFROM:+0000
TZOFFSETTO:+0000
TZNAME:UTC
DTSTART:20210101T000000
END:STANDARD
END:VTIMEZONE
BEGIN:VEVENT
DTSTART;TZID=UTC:20220803T133000
DTEND;TZID=UTC:20220803T173000
DTSTAMP:20260426T002729
CREATED:20220613T200906Z
LAST-MODIFIED:20220802T205758Z
UID:1655-1659533400-1659547800@ukesters.com
SUMMARY:Potluck and Kanikapila
DESCRIPTION:There will be music\, hula and good food! Plus 1’s are welcome. \nBRING: Ukulele\, stand\, gig book\, a heavy hors d’ oeuvre\, and your drink of choice. \nBelow is our SONG SET  and schedule. For those using electronic devices\, you can download a single PDF file containing all songs in song set here. \n  \n1:30-3:00 Song Circle \n1.This Magic Moment \n2.The Garden Song (this has been modified for the way we will sing it; single song sheet can be  downloaded here) \n3.Sweet lady of Waihole \n4.Rhythm of the Ocean \n5.Octopus’s Garden \n6.Ka Uluwehi O Ke Kai \n7.Under the Boardwalk \n8.All My Loving \n9.Beautiful Kauai \n10.Ka Pua E \n11.Green Rose Hula \n12.Wahine Ilikea \n13.Puamana \n14.I’ll Remember You \n15.Somewhere Over the Rainbow/Won. World \n3:00-4:00  Food\, Drink\, Socializing \n4:00-5:00  Resume Singing for Those Inclined: \n16.Sway \n17.Count On Me \nFollowed by: \nOpen Requests from any of our books and Gig List.
URL:https://ukesters.com/event/potluck-and-kanikapila-2/
ATTACH;FMTTYPE=image/jpeg:https://ukesters.com/wp-content/uploads/2021/06/2019Luau.jpg
END:VEVENT
BEGIN:VEVENT
DTSTART;TZID=UTC:20220810T130000
DTEND;TZID=UTC:20220810T143000
DTSTAMP:20260426T002729
CREATED:20220809T031808Z
LAST-MODIFIED:20220809T031948Z
UID:1825-1660136400-1660141800@ukesters.com
SUMMARY:Song Circle
DESCRIPTION:Song Circle is an informal gathering to sing and play together. This week will also include working on songs for an upcoming gig. \nWe will start with a warm up for body and vocal cords. \nSongs list is below. Songs were compiled by email request from our Gig songs and the Redmond Sing Along Songbook \nPlease organize your music ahead of time using the list below\, or download this PDF file for use with electronic devices. \nSONGS selected from GIG LIST: \n_01 All I Have To Do is Dream \n_02 Beyond the Reef \n_03 Garden Song (Download here. It will be in set list for Botanical Gardens 8/27 ) \n_04 Green Rose Hula (C) \n_05 I’ll Never Find Another You (G) \n_06 Ka Uluwehi O Ke Kai (in C for Hula) \n_07 Pretty Blue Eyes \n_08 Puamana \n_09 Somewhere Over the Rainbow/What a W World \n_10 Wahine Ilikea \n**Special Tribute to Olivia Newton John – Summer Nights \nSONGS selected from Redmond Sing Along Book: \n_11 Bad Boon Rising \n_12 Between the Devil and the Deep Blue Sea \n_13 Hooked on a Feeling \n_14 In Spite of Ourselves \n_15 Leaving on a Jet Plane \n_16 The Night They Drove Old Dixie Down \n_17 Spanish Pipe Dream \n_18 Wagon Wheel \nClosing ..Aloha ‘Oe in C
URL:https://ukesters.com/event/song-circle-20/
LOCATION:McNeill residence\, available by request\, Kirkland\, WA\, United States
ATTACH;FMTTYPE=image/jpeg:https://ukesters.com/wp-content/uploads/2021/06/21-6-2-UKEsters-together-agains-1.jpg
END:VEVENT
BEGIN:VEVENT
DTSTART;TZID=UTC:20220817T130000
DTEND;TZID=UTC:20220817T143000
DTSTAMP:20260426T002729
CREATED:20220815T193601Z
LAST-MODIFIED:20220815T193601Z
UID:1831-1660741200-1660746600@ukesters.com
SUMMARY:Song Circle
DESCRIPTION:An informal gathering to sing and play together. This week will also include working on songs for an upcoming gig. \nWe will start with warm up for body and vocal cords. \nSongs list is below. Songs were compiled by email request from our Gig songs \, ESUPA Teal Book\, and the Redmond Sing Along Songbook \nPlease organize your music ahead of time using the list below\, or download this PDF file for use with electronic devices. \nGig Book \nBeautiful Kauai \nThe Garden Song (There is an updated version from August 12th you can download here) \nI Want to Hold Your Hand \nKa Pua E \nKa Uluwehi O Ke Kai \nOctopus’s Garden \nPuamana \nRhythm of the Ocean \nSweet Caroline \nSweet Lady of Waihole \nWaikiki \nTeal Book \nLa Vie En Rose \nMac the Knife \nRedmond Sing Along Book  \nGood Riddance (Time of Your Life) \nIf You Could Read My Mind \nThe Letter \nLittle Boxes \nMy Girl \nRamblin’ Man \nWagon Wheel \nWildflowers \nAloha ‘Oe in C
URL:https://ukesters.com/event/song-circle-21/
LOCATION:Aljoya Senior Living Community\, 2430 76th Avenue SE\, Mercer Island\, 98040\, United States
ATTACH;FMTTYPE=image/jpeg:https://ukesters.com/wp-content/uploads/2022/05/Aljoya-garden-patio.jpg
END:VEVENT
BEGIN:VEVENT
DTSTART;TZID=UTC:20220819T150000
DTEND;TZID=UTC:20220819T170000
DTSTAMP:20260426T002729
CREATED:20220609T165101Z
LAST-MODIFIED:20220818T165610Z
UID:1632-1660921200-1660928400@ukesters.com
SUMMARY:Phinney Ridge Farmers Market Gig
DESCRIPTION:The UKE’sters will be strumming and singing while people are strolling and shopping at the Friday famers market at Phinney Ridge Community Center. \nHere is the songlist in a single PDF file for download.
URL:https://ukesters.com/event/phinney-ridge-farmers-market-gig-2/
LOCATION:Phinney Ridge Farmers Market\, 6761 Phinney Ave North\, Seattle\, WA\, 98103\, United States
ATTACH;FMTTYPE=image/png:https://ukesters.com/wp-content/uploads/2022/06/Phinney.36-300x300-1.png
END:VEVENT
BEGIN:VEVENT
DTSTART;TZID=UTC:20220824T130000
DTEND;TZID=UTC:20220824T143000
DTSTAMP:20260426T002729
CREATED:20220822T203407Z
LAST-MODIFIED:20220822T203407Z
UID:1863-1661346000-1661351400@ukesters.com
SUMMARY:Song Circle
DESCRIPTION:Song Circle is an informal gathering to sing and play together. This week will also include working on songs for an upcoming gig. \nWe will start with a warm up for body and vocal cords. \nSongs list is below. \nPlease organize your music ahead of time using the list below\, or download this PDF file for use with electronic devices. \n\n\nBotanical Gardens Set List: \n1 This Magic Moment \n2 The Garden Song \n3 Sweet Lady of Waihole \n4 Rhythm of the Ocean \n5 Octopus’s Garden \n6 Ka Uluwehi O Ke Kai  (for Hula) \n7 Under the Boardwalk \n8 All My Loving \n9 Beautiful Kauai \n10 Ka Pua E \n11 Green Rose Hula \n12 Wahine Ilikea \n13 Puamana \n14 I’ll Remember You \n15 Somewhere Over the Rainbow/What a Wonderful World \n  \nRedmond Song Book: \n16. Ripple. (Intro by Phil) \n  \nTeal Book: \n17. Harvest Moon \n18. I’m Into Something Good \n19. la Vie En Rose \n20. When I’m 64
URL:https://ukesters.com/event/song-circle-22/
LOCATION:McNeill residence\, available by request\, Kirkland\, WA\, United States
ATTACH;FMTTYPE=image/jpeg:https://ukesters.com/wp-content/uploads/2021/06/21-6-2-UKEsters-together-agains-1.jpg
END:VEVENT
BEGIN:VEVENT
DTSTART;TZID=UTC:20220827T133000
DTEND;TZID=UTC:20220827T143000
DTSTAMP:20260426T002729
CREATED:20220609T165455Z
LAST-MODIFIED:20220825T202334Z
UID:1637-1661607000-1661610600@ukesters.com
SUMMARY:Bellevue Botanical Gardens Gig
DESCRIPTION:The Bellevue UKE’sters are excited to be providing a part of the music entertainment at the Bellevue Botanical Gardens “Arts in the Garden 2022” event. \nThe three day event will feature live music\, food trucks\, 24 artists\, and a wide variety of 3-D garden art available for purchase. Event entry and parking are free. \nOur set is slated for Saturday 1:30 – 2:30 near the Aaron Education Center on the grounds and will include hula dancing! \nHere is the songlist in a single PDF file for download.
URL:https://ukesters.com/event/bellevue-botanical-gardens-gig/
LOCATION:Bellevue Botanical Gardens\, 12001 Main Street\, Bellevue\, WA\, 98005\, United States
ATTACH;FMTTYPE=image/jpeg:https://ukesters.com/wp-content/uploads/2022/05/BotanicalGardenLogo.jpg
END:VEVENT
BEGIN:VEVENT
DTSTART;TZID=UTC:20220831T130000
DTEND;TZID=UTC:20220831T143000
DTSTAMP:20260426T002729
CREATED:20220826T234139Z
LAST-MODIFIED:20220829T234141Z
UID:1883-1661950800-1661956200@ukesters.com
SUMMARY:Song Circle
DESCRIPTION:Song Circle is an informal gathering to sing and play together. \nWe create a song list ahead of time by compiling requests\, and  start with a warm up for body and vocal cords. \nSongs list is below. \nPlease organize your music ahead of time using the list below\, or download this PDF file for use with electronic devices. \nGIG BOOK: \n\nBlue Hawaiian Moonlight\nE Huli Makou\nHanalei Moon\nHenehene Kou ‘Aka\nThe Hukilau Song\nHula Breeze\nI Miss You My Hawaii\nLahaina Luna\nLaupahoehoe Hula/Happy Me\nMy Little Grass Shack\nPearly Shells\n\nTEAL BOOK: \n\nAin’t Misbehavin’ p.2\nFrom Me to You p. 47\nGrandfather’s Clock p.56\nHarvest Moon p.60 – Alan suggests this awesome video: https://www.youtube.com/watch?v=ml22cp4ojHg\nI’m Into Something Good p. 81\nLa Vie En Rose p. 89\nWhen I’m 64 p. 147\nAloha ‘Oe (in key of C)\n\n 
URL:https://ukesters.com/event/song-circle-23/
LOCATION:Kitchen Shelter Lake Sammamish State Park\, 2010 N.W. Sammamish Road\, Issaquah\, 98052\, United States
ATTACH;FMTTYPE=image/jpeg:https://ukesters.com/wp-content/uploads/2022/08/KitchenShelterLkSamm.jpg
END:VEVENT
END:VCALENDAR