BEGIN:VCALENDAR
VERSION:2.0
PRODID:-//Bellevue UKE&#039;sters - ECPv6.15.20//NONSGML v1.0//EN
CALSCALE:GREGORIAN
METHOD:PUBLISH
X-WR-CALNAME:Bellevue UKE&#039;sters
X-ORIGINAL-URL:https://ukesters.com
X-WR-CALDESC:Events for Bellevue UKE&#039;sters
REFRESH-INTERVAL;VALUE=DURATION:PT1H
X-Robots-Tag:noindex
X-PUBLISHED-TTL:PT1H
BEGIN:VTIMEZONE
TZID:UTC
BEGIN:STANDARD
TZOFFSETFROM:+0000
TZOFFSETTO:+0000
TZNAME:UTC
DTSTART:20210101T000000
END:STANDARD
END:VTIMEZONE
BEGIN:VEVENT
DTSTART;TZID=UTC:20220907T130000
DTEND;TZID=UTC:20220907T143000
DTSTAMP:20260425T231152
CREATED:20220826T234301Z
LAST-MODIFIED:20220906T023205Z
UID:1889-1662555600-1662561000@ukesters.com
SUMMARY:Song Circle - Kitchen Shelter Lk Sammamish State Park
DESCRIPTION:Song Circle is an informal gathering to sing and play together. \nIf you are  unfamiliar with Lake Sammamish State Park\, check out THIS MAP \nWe create a songlist ahead of time by compiling requests\, and  start with a warm up for body and vocal cords. \nPlease organize your music ahead of time using the list below\,  or DOWNLOAD THIS PDF FILE for use with electronic devices. \nIf you would like to print out just  the list of songs\, DOWNLOAD HERE. \nGig Book \n\nYou Belong to Me (in key of F from Red book) (9/22 Gig)\nand Key of C DOWNLOAD HERE) (9/22 Gig)\nPretty Blue Eyes (9/22 Gig)\nSweet Caroline* (9/22 Gig)\nI Want to Hold Your hand(9/22 Gig)\nBye Bye Blackbird\nHele on to Kaua’i Key of A (DOWNLOAD HERE)\n\n\nShenandoah (DOWNLOAD HERE)\n\nRedmond Song Book \n\nWildflowers\nRipple\nI Remember Everything\nRuby Tuesday\nSound of Silence\nCups (When I’m Gone) https://www.youtube.com/watch?v=cmSbXsFE3l8\n\nTeal Book \n\nLove Me Tender\nThe Nearness of You in key of C (DOWNLOAD HERE)\nIsland in the Sun\nDesert Silvery Blue\nRhythm of the Falling Rain\nMr Tamborine Man\nSilver Threads and Golden Needles\nWho Put the Bomp\nAloha ‘Oe in C
URL:https://ukesters.com/event/song-circle-24/
LOCATION:Kitchen Shelter Lake Sammamish State Park\, 2010 N.W. Sammamish Road\, Issaquah\, 98052\, United States
ATTACH;FMTTYPE=image/jpeg:https://ukesters.com/wp-content/uploads/2022/08/KitchenShelterLkSamm.jpg
END:VEVENT
BEGIN:VEVENT
DTSTART;TZID=UTC:20220909T130000
DTEND;TZID=UTC:20220909T143000
DTSTAMP:20260425T231152
CREATED:20220901T170253Z
LAST-MODIFIED:20220901T170253Z
UID:1942-1662728400-1662733800@ukesters.com
SUMMARY:Aloha Pō’alima
DESCRIPTION:Aloha Pō’alima is an informal gathering to focus on Hawaiian music\, language\, and culture.
URL:https://ukesters.com/event/aloha-poalima/
LOCATION:Hale ‘o Kalena\, available by request\, Bellevue\, WA\, 98008
ATTACH;FMTTYPE=image/jpeg:https://ukesters.com/wp-content/uploads/2022/06/AF.jpg
END:VEVENT
BEGIN:VEVENT
DTSTART;TZID=UTC:20220914T130000
DTEND;TZID=UTC:20220914T143000
DTSTAMP:20260425T231152
CREATED:20220826T234411Z
LAST-MODIFIED:20220912T224525Z
UID:1891-1663160400-1663165800@ukesters.com
SUMMARY:Song Circle - McNeil Residence
DESCRIPTION:Song Circle is an informal gathering to sing and play together. \nWe create a songlist ahead of time by compiling requests\, and  start with a warm up for body and vocal cords. \nPlease organize your music ahead of time using the list below\,  or DOWNLOAD THIS PDF FILE for use with electronic devices. \nIf you would like to print out just  the list of songs\, DOWNLOAD HERE. \nGig Book \n\nBlue Bayou – 9/22 gig\nSway – 9/22 gig\nWonderful World (History) – 9/22 gig\nSweet Caroline – 9/22 gig\nYou Belong to Me in D – 9/22 gig (DOWNLOAD HERE)\nMy Yellow Ginger Lei\nPili Mau Me ‘Oe in  key of C (https://www.youtube.com/watch?v=-p-NN959OC4)\n\nTeal Book \n\nIsland in the Sun p.84\nWaltzing Matilda p.143\nI’ll Never Find Another You p.79\nRhythm of the Falling Rain p. 117\nMr Tambourine Man p.100\nSilver Threads and Golden Needles p.124\nWho Put the Bomp p.150\nOn the Road Again p.110\nThree Little Birds p.137\n\nRedmond Sing Along Song Book \n\nPut Another Log on the Fire\nThe Letter\n\nEnding Song: \n\nAloha ‘Oe in C
URL:https://ukesters.com/event/song-circle-25/
LOCATION:McNeill residence\, available by request\, Kirkland\, WA\, United States
ATTACH;FMTTYPE=image/jpeg:https://ukesters.com/wp-content/uploads/2021/06/21-6-2-UKEsters-together-agains-1.jpg
END:VEVENT
BEGIN:VEVENT
DTSTART;TZID=UTC:20220921T130000
DTEND;TZID=UTC:20220921T143000
DTSTAMP:20260425T231152
CREATED:20220826T234618Z
LAST-MODIFIED:20220917T001827Z
UID:1893-1663765200-1663770600@ukesters.com
SUMMARY:Song Circle - Kitchen Shelter Lk Sammamish State Park
DESCRIPTION:Song Circle is an informal gathering to sing and play together. \nIf you are  unfamiliar with Lake Sammamish State Park\, check out THIS MAP \nThis week we will start with a warm up for body and vocal cords\, and then run through the set of songs for the Bellevue Farmer’s Market gig. There will be two sets\, each about 40 minutes long. \nPlease organize your music ahead of time using the list below\,  or DOWNLOAD THIS PDF FILE for use with electronic devices. \nIf you would like to print out just  the list of songs\, DOWNLOAD HERE. \n  \nSet One  \n1.     Blue Skies \n2.     This Magic Moment \n3.     Down on the Corner \n4.     Rhythm of the Ocean \n5.     Strolling on the Beach at Waikiki \n6.     Octopus’s Garden \n7.     All My Loving \n8.     Blue Bayou \n9.     Sway \n10.  Pretty Blue Eyes \n11.  Can’t Help Falling in Love \n12.  I’ll Remember You \n13.  Somewhere/Wonderful World \nSet Two  \n1.     I Can See Clearly Now \n2.     Under the Boardwalk \n3.     Count on Me \n4.     Northshore Serenade \n5.     You Ku’uipo \n6.     When I’m 64 \n7.     I Want to Hold Your Hand \n8.     Sweet Caroline \n9.     You Belong to Me in D (DOWNLOAD HERE) \n10.  Wonderful World (History) \n11.  I Miss You My Hawaii \n12.  Waikiki \n13.  Somewhere/Wonderful World
URL:https://ukesters.com/event/song-circle-26/
LOCATION:Kitchen Shelter Lake Sammamish State Park\, 2010 N.W. Sammamish Road\, Issaquah\, 98052\, United States
ATTACH;FMTTYPE=image/jpeg:https://ukesters.com/wp-content/uploads/2022/08/KitchenShelterLkSamm.jpg
END:VEVENT
BEGIN:VEVENT
DTSTART;TZID=UTC:20220922T150000
DTEND;TZID=UTC:20220922T170000
DTSTAMP:20260425T231152
CREATED:20220609T165821Z
LAST-MODIFIED:20220917T001718Z
UID:1641-1663858800-1663866000@ukesters.com
SUMMARY:Bellevue Farmers Market Gig
DESCRIPTION:The UKE’sters will be strumming and singing while people are strolling and shopping at the Bellevue Farmers Market. \nWe will play 2 sets of about 40 minutes each with a break in between sets.  We will be in  a double canopy area space (quite large) near tables where shoppers can  enjoy market food and  listen to music. \nCall Time: 2:30pm   Sound Check (in place & tune): 3:00-3:15pm \nPlease organize your music ahead of time using the list below\,  or DOWNLOAD THIS PDF FILE for use with electronic devices. \nIf you would like to print out just  the list of songs\, DOWNLOAD HERE. \nSet One (3:15 – 4:00pm) \n1.     Blue Skies \n2.     This Magic Moment \n3.     Down on the Corner \n4.     Rhythm of the Ocean \n5.     Strolling on the Beach at Waikiki \n6.     Octopus’s Garden \n7.     All My Loving \n8.     Blue Bayou \n9.     Sway \n10.  Pretty Blue Eyes \n11.  Can’t Help Falling in Love \n12.  I’ll Remember You \n13.  Somewhere/Wonderful World \nSet Two (4:15 – 5:00pm) \n1.     I Can See Clearly Now \n2.     Under the Boardwalk \n3.     Count on Me \n4.     Northshore Serenade \n5.     You Ku’uipo \n6.     When I’m 64 \n7.     I Want to Hold Your Hand \n8.     Sweet Caroline \n9.     You Belong to Me in D (DOWNLOAD HERE) \n10.  Wonderful World (History) \n11.  I Miss You My Hawaii \n12.  Waikiki \n13.  Somewhere/Wonderful World
URL:https://ukesters.com/event/bellevue-farmers-market-gig/
LOCATION:Bellevue Farmers Market\, 1717 Bellevue Way NE\, Bellevue\, WA\, 98004\, United States
ATTACH;FMTTYPE=image/png:https://ukesters.com/wp-content/uploads/2022/06/BFM-Main-Logo.png
END:VEVENT
BEGIN:VEVENT
DTSTART;TZID=UTC:20220928T130000
DTEND;TZID=UTC:20220928T143000
DTSTAMP:20260425T231152
CREATED:20220826T234740Z
LAST-MODIFIED:20220926T211226Z
UID:1895-1664370000-1664375400@ukesters.com
SUMMARY:Song Circle - McNeil Residence
DESCRIPTION:Song Circle is an informal gathering to sing and play together. \nWe create a songlist ahead of time by compiling requests\, and  start with a warm up for body and vocal cords. \nWe start with a warm up for body and vocal cords. \nPlease organize your music ahead of time using the list below or DOWNLOAD THIS PDF FILE for use with electronic devices. \nIf you would like to print out just  the list of songs\, DOWNLOAD HERE. \nTeal Book \n\nWho Put the Bomp p.150\nCrazy p.25\nUkulele (Hallelujah Spoof) p.140\nButton Up Your Overcoat p.16\nFar Away Places p.44\nSurfer Girl p.129\nOn the Sunny Side of the Street p.111\nFrom Me to You p. 47\n\nRedmond Song Book \n\nRipple\nFriday I’m in Love (YouTube to learn\, or this version\, or original artist official video)\nI’m a Believer\nOh\, What a Beautiful Morning\nSinging in the Rain\nYMCA\nWild Rover\n\nGig Book \n\nLife Could Be a Dream\nRainbow Connection\nSophisticated Hula\nThe Garden Song\nDon’t Worry Be Happy\nAloha ‘Oe in C
URL:https://ukesters.com/event/song-circle-27/
LOCATION:McNeill residence\, available by request\, Kirkland\, WA\, United States
ATTACH;FMTTYPE=image/jpeg:https://ukesters.com/wp-content/uploads/2021/06/21-6-2-UKEsters-together-agains-1.jpg
END:VEVENT
BEGIN:VEVENT
DTSTART;TZID=UTC:20220930T130000
DTEND;TZID=UTC:20220930T143000
DTSTAMP:20260425T231152
CREATED:20220901T170645Z
LAST-MODIFIED:20220901T170645Z
UID:1946-1664542800-1664548200@ukesters.com
SUMMARY:Aloha Pō’alima
DESCRIPTION:Aloha Pō’alima is an informal gathering to focus on Hawaiian music\, language\, and culture.  \nSince this Friday is a fifth Friday\, we will dovetail our meeting with a wine tasting. Stay tuned for more details!
URL:https://ukesters.com/event/aloha-poalima-3/
LOCATION:Hale ‘o Kalena\, available by request\, Bellevue\, WA\, 98008
ATTACH;FMTTYPE=image/jpeg:https://ukesters.com/wp-content/uploads/2022/06/AF.jpg
END:VEVENT
END:VCALENDAR