BEGIN:VCALENDAR
VERSION:2.0
PRODID:-//Bellevue UKE&#039;sters - ECPv6.15.20//NONSGML v1.0//EN
CALSCALE:GREGORIAN
METHOD:PUBLISH
X-ORIGINAL-URL:https://ukesters.com
X-WR-CALDESC:Events for Bellevue UKE&#039;sters
REFRESH-INTERVAL;VALUE=DURATION:PT1H
X-Robots-Tag:noindex
X-PUBLISHED-TTL:PT1H
BEGIN:VTIMEZONE
TZID:UTC
BEGIN:STANDARD
TZOFFSETFROM:+0000
TZOFFSETTO:+0000
TZNAME:UTC
DTSTART:20210101T000000
END:STANDARD
END:VTIMEZONE
BEGIN:VEVENT
DTSTART;TZID=UTC:20221005T130000
DTEND;TZID=UTC:20221005T143000
DTSTAMP:20260425T215459
CREATED:20220905T184519Z
LAST-MODIFIED:20220927T231014Z
UID:1970-1664974800-1664980200@ukesters.com
SUMMARY:Song Circle - Kitchen Shelter Lk Sammamish State Park
DESCRIPTION:Song Circle is an informal gathering to sing and play together. \nIf you are  unfamiliar with Lake Sammamish State Park\, check out THIS MAP \nWe  start with a warm up for body and vocal cords. \nOctober is Recycle Music Month for UKE’sters! This week we are recycling music we played for Song Circle on May 25\, 2022. \nPlease organize your music ahead of time using the list below\,  or download THIS PDF FILE for use with electronic devices. \nGIG SONGS: \n\nBye Bye Blackbird\nHeart and Soul\nI Miss You My Hawaii\nI’ll Remember You\nKa Ulu Wehi O Kai  (C)\nNorthshore Serenade\nQuando Quando\nRhythm of the Ocean\nSway\nUwehi Ami and Slide\nWaikiki\n\nGREEN SUPA BOOK: \n\nA Summer Song  pg 11\nBurning Love  (please use this music in Key of D instead of Green Book).\nHey Good Looking  pg 45\nJumbalaya  pg 59\nKing of the Road  pg 61\nSummertime   pg 93\nUnder the Boardwalk  pg. 111\nAloha “Oe (Closing)
URL:https://ukesters.com/event/song-circle-28/
LOCATION:Kitchen Shelter Lake Sammamish State Park\, 2010 N.W. Sammamish Road\, Issaquah\, 98052\, United States
ATTACH;FMTTYPE=image/jpeg:https://ukesters.com/wp-content/uploads/2022/08/KitchenShelterLkSamm.jpg
END:VEVENT
BEGIN:VEVENT
DTSTART;TZID=UTC:20221007T130000
DTEND;TZID=UTC:20221007T143000
DTSTAMP:20260425T215459
CREATED:20220927T230519Z
LAST-MODIFIED:20221005T183103Z
UID:2123-1665147600-1665153000@ukesters.com
SUMMARY:Aloha Pō’alima
DESCRIPTION:Aloha Pō’alima is an informal gathering to focus on Hawaiian music\, language\, and culture.  \nBelow is the schedule and songs will play. Please organize your music ahead of time\, or DOWNLOAD THIS PDF file for use with electronic devices. \n  \n12:50-1:00:      01: Oli Aloha\, Welcome \n  1:00-1:45:        02: Aloha Friday\, UKEʻsters \n                            03: Mahina_Aloha Wau Medley \n                           04: Noho Paipai \n                           05: Na Pua Gardenia Hibiscus Medley \n                           06: E Kailua E \n Note we may transpose E Kailua E to F:\n Vamp: D7(II7)=G7;   G7(V7)=C7;   C(I)=F\nC(I)=F\nF(IV)=Bb\nG7(V7)=C7\nFm(iv)=Bbm\nD7(II7)=G7 \n                        07: Kauoha Mai (Keyhole Hula) \n  1:55-2:30     08: A Little Aloha_07Oct22 (https://youtu.be/R5BHWpeTvjg) \n                        09: Ulili E \n                        10: Henehene KouʻAka \n                        11: Kauanoeanuhea \n                       12: Model T \n                       13: Sophisticated Hula \n                       14: Just Hang Loose \n                       15: Hawaii Aloha
URL:https://ukesters.com/event/aloha-poalima-2/
ATTACH;FMTTYPE=image/jpeg:https://ukesters.com/wp-content/uploads/2022/06/AF.jpg
END:VEVENT
BEGIN:VEVENT
DTSTART;TZID=UTC:20221012T130000
DTEND;TZID=UTC:20221012T143000
DTSTAMP:20260425T215459
CREATED:20220905T184522Z
LAST-MODIFIED:20221008T173142Z
UID:1971-1665579600-1665585000@ukesters.com
SUMMARY:Song Circle - McNeil Residence
DESCRIPTION:Song Circle is an informal gathering to sing and play together. \nWe  start with a warm up for body and vocal cords. \nOctober is Recycle Music Month for UKE’sters! This week we are recycling music we played for Song Circle on July 20\, 2022. \nPlease organize your music ahead of time using the list below\, or DOWNLOAD THIS PDF FILE for use with electronic devices. \n**ALSO please add  (not included in PDF file above)** \n\nSONG OF CHRISTMAS by Kui Lee (if not familiar\, listen to versions by Ho’okena and / or Na Leo)\n\nGig Book     \n\nBeyond the Reef\nBye Bye Blackbird\nGreen Rose Hula (key of C)\nI Miss You My Hawaii\nI’ll Remember You\nKa Uluwehi O Ke Kai\nPuamana\nRainbow Connection\nToday\nUkulele Lady\nWahine Ilikea\nYesterdayMisc:\nOh\, Shenandoah – PDF can be DOWNLOADED HERE\n\nRedmond Book  \n\nDance Me to the End of Love\nDay-O (the Banana Boat Song)\nFriday I’m in Love\nThe Garden Song\nI Remember Everything\nRipple\nAloha ‘Oe in C
URL:https://ukesters.com/event/song-circle-29/
LOCATION:McNeill residence\, available by request\, Kirkland\, WA\, United States
ATTACH;FMTTYPE=image/jpeg:https://ukesters.com/wp-content/uploads/2021/06/21-6-2-UKEsters-together-agains-1.jpg
END:VEVENT
BEGIN:VEVENT
DTSTART;TZID=UTC:20221019T130000
DTEND;TZID=UTC:20221019T143000
DTSTAMP:20260425T215459
CREATED:20220927T225304Z
LAST-MODIFIED:20220927T231259Z
UID:2115-1666184400-1666189800@ukesters.com
SUMMARY:Song Circle - Kitchen Shelter Lk Sammamish
DESCRIPTION:Song Circle is an informal gathering to sing and play together. \nIf you are  unfamiliar with Lake Sammamish State Park\, check out THIS MAP \nWe start with a warm up for body and vocal cords. \nOctober is Recycle Music Month for UKE’sters! This week we are recycling music we played for Song Circle on September 7\, 2022 \nPlease organize your music ahead of time using the list below\,  or DOWNLOAD THIS PDF FILE for use with electronic devices. \nIf you would like to print out just  the list of songs\, DOWNLOAD HERE. \nGig Book \n\nYou Belong to Me (in key of F from Red book) (9/22 Gig)\nand Key of C DOWNLOAD HERE) (9/22 Gig)\nPretty Blue Eyes (9/22 Gig)\nSweet Caroline* (9/22 Gig)\nI Want to Hold Your hand(9/22 Gig)\nBye Bye Blackbird\nHele on to Kaua’i Key of A (DOWNLOAD HERE)\n\n\nShenandoah (DOWNLOAD HERE)\n\nRedmond Song Book \n\nWildflowers\nRipple\nI Remember Everything\nRuby Tuesday\nSound of Silence\nCups (When I’m Gone) https://www.youtube.com/watch?v=cmSbXsFE3l8\n\nTeal Book \n\nLove Me Tender\nThe Nearness of You in key of C (DOWNLOAD HERE)\nIsland in the Sun\nDesert Silvery Blue\nRhythm of the Falling Rain\nMr Tamborine Man\nSilver Threads and Golden Needles\nWho Put the Bomp\nAloha ‘Oe in C\n\n 
URL:https://ukesters.com/event/song-circle-kitchen-shelter-lk-sammamish/
LOCATION:Kitchen Shelter Lake Sammamish State Park\, 2010 N.W. Sammamish Road\, Issaquah\, 98052\, United States
ATTACH;FMTTYPE=image/jpeg:https://ukesters.com/wp-content/uploads/2022/08/KitchenShelterLkSamm.jpg
END:VEVENT
BEGIN:VEVENT
DTSTART;TZID=UTC:20221021T130000
DTEND;TZID=UTC:20221021T143000
DTSTAMP:20260425T215459
CREATED:20220927T230629Z
LAST-MODIFIED:20220927T230629Z
UID:2125-1666357200-1666362600@ukesters.com
SUMMARY:Aloha Pō’alima
DESCRIPTION:Aloha Pō’alima is an informal gathering to focus on Hawaiian music\, language\, and culture.
URL:https://ukesters.com/event/aloha-poalima-4/
ATTACH;FMTTYPE=image/jpeg:https://ukesters.com/wp-content/uploads/2022/06/AF.jpg
END:VEVENT
BEGIN:VEVENT
DTSTART;TZID=UTC:20221026T130000
DTEND;TZID=UTC:20221026T143000
DTSTAMP:20260425T215459
CREATED:20220927T225734Z
LAST-MODIFIED:20221005T171920Z
UID:2118-1666789200-1666794600@ukesters.com
SUMMARY:Song Circle - McNeil Residence
DESCRIPTION:Song Circle is an informal gathering to sing and play together. \nWe start with a warm up for body and vocal cords. \nOctober is Recycle Music Month for UKE’sters! This week we are recycling music we played for Song Circle on August 31\, 2022. \nPlease organize your music ahead of time using the list below\, or DOWNLOAD THIS PDF FILE for use with electronic devices. \nGIG BOOK: \n\nBlue Hawaiian Moonlight\nE Huli Makou\nHanalei Moon\nHenehene Kou ‘Aka\nThe Hukilau Song\nHula Breeze\nI Miss You My Hawaii\nLahaina Luna\nLaupahoehoe Hula/Happy Me\nMy Little Grass Shack\nPearly Shells\n\nTEAL BOOK: \n\nAin’t Misbehavin’ p.2\nFrom Me to You p. 47\nGrandfather’s Clock p.56\nHarvest Moon p.60 – YouTube video: https://www.youtube.com/watch?v=ml22cp4ojHg\nI’m Into Something Good p. 81\nLa Vie En Rose p. 89\nWhen I’m 64 p. 147\nAloha ‘Oe (in key of C)
URL:https://ukesters.com/event/song-circle-mcneil-residence/
LOCATION:McNeill residence\, available by request\, Kirkland\, WA\, United States
ATTACH;FMTTYPE=image/jpeg:https://ukesters.com/wp-content/uploads/2021/06/21-6-2-UKEsters-together-agains-1.jpg
END:VEVENT
END:VCALENDAR