BEGIN:VCALENDAR
VERSION:2.0
PRODID:-//Bellevue UKE&#039;sters - ECPv6.15.20//NONSGML v1.0//EN
CALSCALE:GREGORIAN
METHOD:PUBLISH
X-ORIGINAL-URL:https://ukesters.com
X-WR-CALDESC:Events for Bellevue UKE&#039;sters
REFRESH-INTERVAL;VALUE=DURATION:PT1H
X-Robots-Tag:noindex
X-PUBLISHED-TTL:PT1H
BEGIN:VTIMEZONE
TZID:UTC
BEGIN:STANDARD
TZOFFSETFROM:+0000
TZOFFSETTO:+0000
TZNAME:UTC
DTSTART:20220101T000000
END:STANDARD
END:VTIMEZONE
BEGIN:VTIMEZONE
TZID:America/Denver
BEGIN:DAYLIGHT
TZOFFSETFROM:-0700
TZOFFSETTO:-0600
TZNAME:MDT
DTSTART:20220313T090000
END:DAYLIGHT
BEGIN:STANDARD
TZOFFSETFROM:-0600
TZOFFSETTO:-0700
TZNAME:MST
DTSTART:20221106T080000
END:STANDARD
BEGIN:DAYLIGHT
TZOFFSETFROM:-0700
TZOFFSETTO:-0600
TZNAME:MDT
DTSTART:20230312T090000
END:DAYLIGHT
BEGIN:STANDARD
TZOFFSETFROM:-0600
TZOFFSETTO:-0700
TZNAME:MST
DTSTART:20231105T080000
END:STANDARD
BEGIN:DAYLIGHT
TZOFFSETFROM:-0700
TZOFFSETTO:-0600
TZNAME:MDT
DTSTART:20240310T090000
END:DAYLIGHT
BEGIN:STANDARD
TZOFFSETFROM:-0600
TZOFFSETTO:-0700
TZNAME:MST
DTSTART:20241103T080000
END:STANDARD
END:VTIMEZONE
BEGIN:VTIMEZONE
TZID:America/Los_Angeles
BEGIN:DAYLIGHT
TZOFFSETFROM:-0800
TZOFFSETTO:-0700
TZNAME:PDT
DTSTART:20220313T100000
END:DAYLIGHT
BEGIN:STANDARD
TZOFFSETFROM:-0700
TZOFFSETTO:-0800
TZNAME:PST
DTSTART:20221106T090000
END:STANDARD
BEGIN:DAYLIGHT
TZOFFSETFROM:-0800
TZOFFSETTO:-0700
TZNAME:PDT
DTSTART:20230312T100000
END:DAYLIGHT
BEGIN:STANDARD
TZOFFSETFROM:-0700
TZOFFSETTO:-0800
TZNAME:PST
DTSTART:20231105T090000
END:STANDARD
BEGIN:DAYLIGHT
TZOFFSETFROM:-0800
TZOFFSETTO:-0700
TZNAME:PDT
DTSTART:20240310T100000
END:DAYLIGHT
BEGIN:STANDARD
TZOFFSETFROM:-0700
TZOFFSETTO:-0800
TZNAME:PST
DTSTART:20241103T090000
END:STANDARD
END:VTIMEZONE
BEGIN:VEVENT
DTSTART;TZID=UTC:20230301T130000
DTEND;TZID=UTC:20230301T143000
DTSTAMP:20260425T150322
CREATED:20230221T185122Z
LAST-MODIFIED:20230227T235649Z
UID:2729-1677675600-1677681000@ukesters.com
SUMMARY:Song Circle - Rotunda Shelter Lk Sammamish State Park
DESCRIPTION:Song Circle is an informal gathering to sing and play together. \nIf you are  unfamiliar with Lake Sammamish State Park\, check out THIS MAP.   (The Rotunda is marked as “B” on the map). \nWe create a songlist ahead of time by compiling requests. \nPlease organize your music ahead of time using the list  provided below\, or you can DOWNLOAD THIS PDF for use with electronic devices. \nIf you would like to print out just  the list of songs\, DOWNLOAD THIS. \n  \nHawaiian: \n\nUlili E (gig)\nGreen Rose Hula (gig)\n\nSong Circle: \n\nHello Mary Lou (Green p.44)\nKing of the Road (Green p.61)\nBye Bye Love (Green p.24)\nSong of Old Hawaii (Green p.90)\nPennies from Heaven (Gig)\nGarden Song (Gig)\nHey Good Lookin’ (Green .45)\nHukilau (Gig)\nI Miss You My Hawaii (Gig)\nI’ll Fly Away (Gig)\nOh Lonesome Me (Green p.75)\nDa Doo Ron Ron (misc)\nAmapola in C (misc)\nAloha ‘Oe in C (Gig)
URL:https://ukesters.com/event/2729/
LOCATION:Rotunda Shelter Lake Sammamish State Park\, 2000 NW Sammamish Road\, Issaquah\, 98027\, United States
ATTACH;FMTTYPE=image/jpeg:https://ukesters.com/wp-content/uploads/2021/06/rotunda.jpg
END:VEVENT
BEGIN:VEVENT
DTSTART;TZID=UTC:20230303T130000
DTEND;TZID=UTC:20230303T143000
DTSTAMP:20260425T150322
CREATED:20230302T041145Z
LAST-MODIFIED:20230302T182433Z
UID:2748-1677848400-1677853800@ukesters.com
SUMMARY:Aloha Pō’alima (Aloha Friday)
DESCRIPTION:Aloha Pō’alima (Aloha Friday) is an informal gathering to focus on Hawaiian music\, language\, and culture. \nMusic to be used is listed below. Please organize your music ahead of time per the list\, or DOWNLOAD THIS PDF for use with electronic devices. \nMusic to play and learn: \n\nAloha Friday\, UKEʻsters\nJust hang loose\nMoloka’i slide\nMoloka’i Sweet Home (https://www.youtube.com/watch?v=rmcNtpEuOSA)\nWahine Ilikea\nE Huli Makou\nModel T\nHenehene Kou ‘Aka\n\nSong Circle style choosing from this list below: \n\nGreen Rose Hula\nUlupalakua\nUwehe\, Ami and Slide\nKa Uluwehi O Ke Kai\nWaikiki Hula\nMy Sweet Gardenia Lei\nNoho Paipai\nMahina_Aloha Wau Medley\nNa Pua Gardenia Hibiscus Medley\nE Kailua E_ F\nSweet Lady of Waiahole\nRhythm of the Ocean\nYou Ku’u Ipo\nKauanoeanuhea\nKaimana Hila\nNot Pau (in F)
URL:https://ukesters.com/event/aloha-poalima-aloha-friday/
LOCATION:Cascadia Pizza and Brewery\, 1820 130th AVE NE\, Bellevue\, WA\, 98005\, United States
ATTACH;FMTTYPE=image/jpeg:https://ukesters.com/wp-content/uploads/2022/11/CascadiaPizzaBeer.jpg
END:VEVENT
BEGIN:VEVENT
DTSTART;TZID=UTC:20230308T130000
DTEND;TZID=UTC:20230308T143000
DTSTAMP:20260425T150322
CREATED:20230221T184742Z
LAST-MODIFIED:20230307T230951Z
UID:2725-1678280400-1678285800@ukesters.com
SUMMARY:Song Circle - Silver Glen
DESCRIPTION:We will meet in  “Glen Hall”  inside the building. \nIf you have not been to Silver Glen\, scroll to bottom of this page for address and a link to google maps. \nYou may park in front of any building; however\, we are meeting in building 1750. You may also park along 152nd Avenue\, as long as you park on the Highline Middle School side. The buildings are all locked\, but you can call Lynn or Marilyn when you arrive to be buzzed in. \nNote: Landmark to LOOK FOR when turning onto 152nd Ave off of Bel Red Road: SOKHU THAI RESTAURANT \nWe create a songlist ahead of time by compiling requests. \nPlease organize your music ahead of time using the list  provided below\, or you can DOWNLOAD THIS PDF file for use with electronic devices. \nIf you would like to print out just  the list of songs\, DOWNLOAD THIS. \nHawaiian: \n\nUlili E (gig)\nGreen Rose Hula (gig)\n\nSong Circle: \n\nCan’t Help Falling in Love (gig)\nImagine (Green p. 49)\nBlue Bayou (gig)\nSweet Pea (green p. 100)\nSlow Boat to China (green p.89)\nPlay A Simple Melody (gig)\nTonight You Belong to Me (gig)\nBlue Eyes Crying in the Rain (green p.18)\nThis Land is Your Land (green p.105)\nOctopus’s Garden (gig)\nUnder the Boardwalk (gig)\nWhite Sandy Beach (green p. 117)\nAmerica the Beautiful (green p. 8)\nMy Bonnie Lies Over the Ocean (green p. 70)\nSide by Side (green p. 87)\nGood Night Irene (green p. 42)\nAloha ‘Oe in C (Gig)
URL:https://ukesters.com/event/song-circle-silver-glen-6/
LOCATION:Silver Glen\, 1750 152nd Ave NE\, Bellevue\, WA\, 98007\, United States
ATTACH;FMTTYPE=image/jpeg:https://ukesters.com/wp-content/uploads/2022/11/SilverGlen.jpg
END:VEVENT
BEGIN:VEVENT
DTSTART;TZID=UTC:20230315T130000
DTEND;TZID=UTC:20230315T143000
DTSTAMP:20260425T150322
CREATED:20230221T185456Z
LAST-MODIFIED:20230313T223336Z
UID:2733-1678885200-1678890600@ukesters.com
SUMMARY:Song Circle - Rotunda Shelter Lk Sammamish State Park
DESCRIPTION:Song Circle is an informal gathering to sing and play together. \nIf you are  unfamiliar with Lake Sammamish State Park\, check out THIS MAP.   (The Rotunda is marked as “B” on the map). \nWe create a songlist ahead of time by compiling requests. \nPlease organize your music ahead of time using the list once  provided below\, or you can DOWNLOAD THIS PDF FILE for use with electronic devices. \nIf you would like to print out just  the list of songs\, DOWNLOAD THIS. \nSongs this week are from the Green Book\, Gig List\, or St. Patrick’s Day Music (under Theme Songs) \nHawaiian: \n\nGreen Rose Hula (gig)\nKa Uluwehi O Ke Kai (gig)\n\nSong Circle: \n\nSummer Wind (green p.94)\nMy Little Grass Shack (gig)\nFolsom Prison Blues (green p.37)\nRaindrops Keep Falling on My Head (green p. 81)\nDanny Boy\nGypsy Rover\nThese are My Mountains\nRed is the Rose\nDillan Bay\nMary Ellen Carter (C) (Unfamiliar? Listen to Ferry Boat Musicians)\nMolly Malone\nWhiskey in the Jar (C)\nWild Rover (A)\nCaledonia (G)\nBrown-eyed Girl\nAloha ‘Oe in C (gig)
URL:https://ukesters.com/event/song-circle-rotunda-shelter-lk-sammamish-state-park-2/
LOCATION:Rotunda Shelter Lake Sammamish State Park\, 2000 NW Sammamish Road\, Issaquah\, 98027\, United States
ATTACH;FMTTYPE=image/jpeg:https://ukesters.com/wp-content/uploads/2021/06/rotunda.jpg
END:VEVENT
BEGIN:VEVENT
DTSTART;TZID=UTC:20230317T130000
DTEND;TZID=UTC:20230317T143000
DTSTAMP:20260425T150322
CREATED:20230302T041357Z
LAST-MODIFIED:20230316T030650Z
UID:2751-1679058000-1679063400@ukesters.com
SUMMARY:Aloha Pō’alima (Aloha Friday)
DESCRIPTION:Aloha Pō’alima (Aloha Friday) is an informal gathering to focus on Hawaiian music\, language\, and culture. \nCascadia Brewery and Pizzaria has excellent beer and pizza! Please support their generosity by purchasing something to drink or/and eat. \nMusic to be used is listed below. Please organize your music ahead of time per the list\, or DOWNLOAD THIS PDF FILE  for use with electronic devices. \nMusic to play and learn: \n\nAloha Friday\, UKEʻsters\nUlupalakua\nMoloka’i slide\nMoloka’i Sweet Home (D) and (A) (Listen to Na Leo sing it in D)\nWahine Ilikea\nHenehene Kou ‘Aka\n\nSong Circle style choosing from this list below: \n\nHele on To Kauai in A (from our Misc music)\nKoke’e\nE Huli Makou\nModel T\nUwehe\, Ami and Slide\nMy Sweet Gardenia Lei\nNoho Paipai\nGreen Rose Hula\nE Kailua E_ F\nSweet Lady of Waiahole\nRhythm of the Ocean\nYou Ku’uipo\nKu’u Home ‘O Kahalu’u\nKaimana Hila\nHanalei Moon\nNot Pau (in F)
URL:https://ukesters.com/event/aloha-poalima-aloha-friday-2/
LOCATION:Cascadia Pizza and Brewery\, 1820 130th AVE NE\, Bellevue\, WA\, 98005\, United States
ATTACH;FMTTYPE=image/jpeg:https://ukesters.com/wp-content/uploads/2022/11/CascadiaPizzaBeer.jpg
END:VEVENT
BEGIN:VEVENT
DTSTART;TZID=America/Denver:20230322T130000
DTEND;TZID=America/Denver:20230322T143000
DTSTAMP:20260425T150322
CREATED:20230221T184908Z
LAST-MODIFIED:20230321T023254Z
UID:2727-1679490000-1679495400@ukesters.com
SUMMARY:Song Circle - Silver Glen
DESCRIPTION:We will meet in  “Glen Hall”  inside the building. \nIf you have not been to Silver Glen\, scroll to bottom of this page for address and a link to google maps. \nYou may park in front of any building; however\, we are meeting in building 1750. You may also park along 152nd Avenue\, as long as you park on the Highline Middle School side. The buildings are all locked\, but you can call Lynn or Marilyn when you arrive to be buzzed in. \nNote: Landmark to LOOK FOR when turning onto 152nd Ave off of Bel Red Road: SOKHU THAI RESTAURANT \nWe create a songlist ahead of time by compiling requests. \nPlease organize your music ahead of time using the list  provided below\, or you can DOWNLOAD THIS PDF for use with electronic devices. \nIf you would like to print out just  the list of songs\, DOWNLOAD THIS. \nHawaiian: \n\nGreen Rose Hula (gig)\nKa Uluwehi O Ke Kai (gig)\n\nSong Circle: \n\nToday (green p. 109)\nPearly Shells (gig)\nPlay a Simple Melody (gig)\nI Can See Clearly Now (gig)\nFolsom Prison Blues (green p.37)\nWith a Little Help from My Friends (green p. 119)\nBlowin’ in the Wind (green p.16)\nBye Bye Love (green p. 24)\nFive Foot Two (green p. 36)\nWaikiki (gig)\nHeart and Soul (gig)\nPuamana (gig)\nBy the Light of the Silvery Moon (green p.25)\nYellow Bird (green p.120)\nAlways (green p.6)\nI Only Want to Be with You (in C – misc)\nAloha ‘Oe in C (gig)
URL:https://ukesters.com/event/song-circle-silver-glen-7/
LOCATION:Silver Glen\, 1750 152nd Ave NE\, Bellevue\, WA\, 98007\, United States
ATTACH;FMTTYPE=image/jpeg:https://ukesters.com/wp-content/uploads/2022/11/SilverGlen.jpg
END:VEVENT
BEGIN:VEVENT
DTSTART;TZID=America/Denver:20230329T130000
DTEND;TZID=America/Denver:20230329T143000
DTSTAMP:20260425T150322
CREATED:20230302T232411Z
LAST-MODIFIED:20230328T033052Z
UID:2760-1680094800-1680100200@ukesters.com
SUMMARY:Song Circle - Cascadia  Restaurant and Brewery
DESCRIPTION:Song Circle is an informal gathering to sing and play together. \nThis week we will try out a new venue! Beer and pizza available for purchase. \nWe create a songlist ahead of time by compiling requests. \nPlease organize your music ahead of time using the list provided below\, or you can download THIS PDF FILE for use with electronic devices. \nIf you would like to print out just the list of songs\, DOWNLOAD THIS. \nHawaiian: \n\nGreen Rose Hula (gig)\nKa Uluwehi O Ke Kai (gig)\n\nSong Circle: \n\nA Summer Song (green p.11)\nBeautiful Kauai (gig)\nI’ll Remember You (gig)\nI Can’t Give You Anything But Love (gig)\nLife Could Be a Dream (gig)\nSweet Someone (gig)\nSweet Pea (green p.100)\nSlow Boat to China in C (misc)\nSide by Side (green p. 87)\nAll I Have to Do is Dream (green p.4)\nBlame It on the Bossa Nova (green p.15)\nSecret Agent Man (green p. 84)\nThis Magic Moment (try to play from memory!)\nLahaina  (green p. 63)\nThat’s the Hawaiian in Me (green p. 103)\nDon’t Worry\, Be Happy (gig)\nI Only Want to Be with You (in C – misc)\nBurning Love (in D – misc)\nSummer Nights (misc)\nAloha ‘Oe in C (gig)
URL:https://ukesters.com/event/song-circle-cascadia-restaurant-and-brewery/
LOCATION:Cascadia Pizza and Brewery\, 1820 130th AVE NE\, Bellevue\, WA\, 98005\, United States
ATTACH;FMTTYPE=image/jpeg:https://ukesters.com/wp-content/uploads/2022/11/CascadiaPizzaBeer.jpg
END:VEVENT
BEGIN:VEVENT
DTSTART;TZID=America/Los_Angeles:20230331T150000
DTEND;TZID=America/Los_Angeles:20230331T163000
DTSTAMP:20260425T150322
CREATED:20230309T230336Z
LAST-MODIFIED:20230330T000247Z
UID:2768-1680274800-1680280200@ukesters.com
SUMMARY:Aloha Pō’alima (Aloha Friday)
DESCRIPTION:Aloha Pō’alima (Aloha Friday) is an informal gathering to focus on Hawaiian music\, language\, and culture. \nThis month we are enjoying “5th Friday” at William Grassie Wine Estates in Duvall (address below). \nLATER START TIME  = 2:45pm  (the tasting room opens at 3:00pm). \nTasting room manager Jordana says this: \n” I’d be happy to give your group their first glass on us\, then 20% off bottles in house or to-go. We won’t be able to do tastings for that large of a group bit of course if they want a little taste or two to decide what to have that’s always fine!” \nThere is also a choice of 2 charcuterie plates that we can purchase to share. \nClick to see/download the WINE TASTING MENU. \nRSVP will be requested so venue can set up for us.  More details about the session will be posted when known. \nMusic to be used is  listed below. Please organize your music ahead of time per the list\, or  DOWNLOAD THIS PDF file for use with electronic devices. \nMusic to play: \n\nAloha Friday\, UKEʻsters\nRhythm of the Ocean\nMoloka’i slide\nMoloka’i Sweet Home (key of D) 18MAR23\nWahine Ilikea\nHenehene Kou ‘Aka\nUlupalakua\n\nSong Circle style choosing from this list below: \n\nE Huli Makou\nE Kailua E_ F\nGreen Rose Hula\nHanalei Moon\nHele on To Kauai (A – misc)\nKa Uluwehi O Ke Kai\nKaimana Hila\nKauanoeanuhea\nKoke’e\nKu’u Home ‘O Kahalu’u\nModel T\nMy Little Grass Shack\nMy Sweet Gardenia Lei\nNoho Paipai\nNot Pau (in F)\nSweet Lady of Waiahole\nUwehe\, Ami and Slide\nYou Ku’u Ipo
URL:https://ukesters.com/event/aloha-poalima-aloha-friday-3/
LOCATION:Willam Grassie Wine Estates\, 15705 Main Street NE\, Duvall\, WA\, 98019\, United States
ATTACH;FMTTYPE=image/jpeg:https://ukesters.com/wp-content/uploads/2023/03/SmallLogoWmGrWine.jpg
END:VEVENT
END:VCALENDAR