BEGIN:VCALENDAR
VERSION:2.0
PRODID:-//Bellevue UKE&#039;sters - ECPv6.15.20//NONSGML v1.0//EN
CALSCALE:GREGORIAN
METHOD:PUBLISH
X-WR-CALNAME:Bellevue UKE&#039;sters
X-ORIGINAL-URL:https://ukesters.com
X-WR-CALDESC:Events for Bellevue UKE&#039;sters
REFRESH-INTERVAL;VALUE=DURATION:PT1H
X-Robots-Tag:noindex
X-PUBLISHED-TTL:PT1H
BEGIN:VTIMEZONE
TZID:America/Los_Angeles
BEGIN:DAYLIGHT
TZOFFSETFROM:-0800
TZOFFSETTO:-0700
TZNAME:PDT
DTSTART:20220313T100000
END:DAYLIGHT
BEGIN:STANDARD
TZOFFSETFROM:-0700
TZOFFSETTO:-0800
TZNAME:PST
DTSTART:20221106T090000
END:STANDARD
BEGIN:DAYLIGHT
TZOFFSETFROM:-0800
TZOFFSETTO:-0700
TZNAME:PDT
DTSTART:20230312T100000
END:DAYLIGHT
BEGIN:STANDARD
TZOFFSETFROM:-0700
TZOFFSETTO:-0800
TZNAME:PST
DTSTART:20231105T090000
END:STANDARD
BEGIN:DAYLIGHT
TZOFFSETFROM:-0800
TZOFFSETTO:-0700
TZNAME:PDT
DTSTART:20240310T100000
END:DAYLIGHT
BEGIN:STANDARD
TZOFFSETFROM:-0700
TZOFFSETTO:-0800
TZNAME:PST
DTSTART:20241103T090000
END:STANDARD
END:VTIMEZONE
BEGIN:VTIMEZONE
TZID:America/Denver
BEGIN:DAYLIGHT
TZOFFSETFROM:-0700
TZOFFSETTO:-0600
TZNAME:MDT
DTSTART:20220313T090000
END:DAYLIGHT
BEGIN:STANDARD
TZOFFSETFROM:-0600
TZOFFSETTO:-0700
TZNAME:MST
DTSTART:20221106T080000
END:STANDARD
BEGIN:DAYLIGHT
TZOFFSETFROM:-0700
TZOFFSETTO:-0600
TZNAME:MDT
DTSTART:20230312T090000
END:DAYLIGHT
BEGIN:STANDARD
TZOFFSETFROM:-0600
TZOFFSETTO:-0700
TZNAME:MST
DTSTART:20231105T080000
END:STANDARD
BEGIN:DAYLIGHT
TZOFFSETFROM:-0700
TZOFFSETTO:-0600
TZNAME:MDT
DTSTART:20240310T090000
END:DAYLIGHT
BEGIN:STANDARD
TZOFFSETFROM:-0600
TZOFFSETTO:-0700
TZNAME:MST
DTSTART:20241103T080000
END:STANDARD
END:VTIMEZONE
BEGIN:VEVENT
DTSTART;TZID=America/Los_Angeles:20230331T150000
DTEND;TZID=America/Los_Angeles:20230331T163000
DTSTAMP:20260425T134046
CREATED:20230309T230336Z
LAST-MODIFIED:20230330T000247Z
UID:2768-1680274800-1680280200@ukesters.com
SUMMARY:Aloha Pō’alima (Aloha Friday)
DESCRIPTION:Aloha Pō’alima (Aloha Friday) is an informal gathering to focus on Hawaiian music\, language\, and culture. \nThis month we are enjoying “5th Friday” at William Grassie Wine Estates in Duvall (address below). \nLATER START TIME  = 2:45pm  (the tasting room opens at 3:00pm). \nTasting room manager Jordana says this: \n” I’d be happy to give your group their first glass on us\, then 20% off bottles in house or to-go. We won’t be able to do tastings for that large of a group bit of course if they want a little taste or two to decide what to have that’s always fine!” \nThere is also a choice of 2 charcuterie plates that we can purchase to share. \nClick to see/download the WINE TASTING MENU. \nRSVP will be requested so venue can set up for us.  More details about the session will be posted when known. \nMusic to be used is  listed below. Please organize your music ahead of time per the list\, or  DOWNLOAD THIS PDF file for use with electronic devices. \nMusic to play: \n\nAloha Friday\, UKEʻsters\nRhythm of the Ocean\nMoloka’i slide\nMoloka’i Sweet Home (key of D) 18MAR23\nWahine Ilikea\nHenehene Kou ‘Aka\nUlupalakua\n\nSong Circle style choosing from this list below: \n\nE Huli Makou\nE Kailua E_ F\nGreen Rose Hula\nHanalei Moon\nHele on To Kauai (A – misc)\nKa Uluwehi O Ke Kai\nKaimana Hila\nKauanoeanuhea\nKoke’e\nKu’u Home ‘O Kahalu’u\nModel T\nMy Little Grass Shack\nMy Sweet Gardenia Lei\nNoho Paipai\nNot Pau (in F)\nSweet Lady of Waiahole\nUwehe\, Ami and Slide\nYou Ku’u Ipo
URL:https://ukesters.com/event/aloha-poalima-aloha-friday-3/
LOCATION:Willam Grassie Wine Estates\, 15705 Main Street NE\, Duvall\, WA\, 98019\, United States
ATTACH;FMTTYPE=image/jpeg:https://ukesters.com/wp-content/uploads/2023/03/SmallLogoWmGrWine.jpg
END:VEVENT
BEGIN:VEVENT
DTSTART;TZID=America/Los_Angeles:20230405T130000
DTEND;TZID=America/Los_Angeles:20230405T143000
DTSTAMP:20260425T134046
CREATED:20230320T174932Z
LAST-MODIFIED:20230404T212153Z
UID:2839-1680699600-1680705000@ukesters.com
SUMMARY:Song Circle - Rotunda Shelter Lk. Sammamish State Park
DESCRIPTION:Song Circle is an informal gathering to sing and play together. \nWe create a songlist ahead of time by compiling requests. \nPlease organize your music ahead of time using the list provided below\, or you can download THIS PDF FILE for use with electronic devices. \nIf you would like to print out just the list of songs\, DOWNLOAD THIS. \n\nHawaiian: \n\nUlili E (gig)\nKa Uluwehi O Ke Kai (gig)\n\nSong Circle: \n\nDown by the Riverside (Teal p. 35)\nFour Strong Winds (Purple)\nLast Thing on My Mind (Purple)\nAll I Want is You (Misc) [Unfamiliar? Listen to this YouTube]\nDiana (Teal p. 30)\nGlory of Love (Teal p. 53)\nSwing on a Star (Purple)\nRing of Fire (Purple)\nCan’t Take My Eyes Off of You (Purple)\nDrop Baby Drop (Teal p. 38)\nBetween the Devil and the Deep Blue Sea (Purple)\nThe Wellerman (Purple)\nI Remember Everything (Purple)\nTequila Sunrise (Teal p. 133)\nPretty Woman (Purple)\nPeaceful Easy Feeling (Purple)\nWagon Wheel (Purple)\nIt’s a Heartache (Purple)\nAloha ‘Oe in C (gig)
URL:https://ukesters.com/event/song-circle-rotunda-shelter-lk-sammamish-state-park-3/
LOCATION:Rotunda Shelter Lake Sammamish State Park\, 2000 NW Sammamish Road\, Issaquah\, 98027\, United States
ATTACH;FMTTYPE=image/jpeg:https://ukesters.com/wp-content/uploads/2021/06/rotunda.jpg
END:VEVENT
BEGIN:VEVENT
DTSTART;TZID=America/Denver:20230407T130000
DTEND;TZID=America/Denver:20230407T143000
DTSTAMP:20260425T134046
CREATED:20230405T161356Z
LAST-MODIFIED:20230406T025100Z
UID:2885-1680872400-1680877800@ukesters.com
SUMMARY:Aloha Pō’alima - Cascadia Restaurant & Brewery
DESCRIPTION:Aloha Pō’alima (Aloha Friday) is an informal gathering to focus on Hawaiian music\, language\, and culture. \nCascadia Restaurant and Brewery  is a great host and has excellent beer and pizza! Please support their generosity by purchasing something to drink or/and eat. \nSongs for this session are listed below. Please organize your music ahead of time per the list\, or DOWNLOAD THIS PDF file for use with electronic devices. \n \n12:50-1:00:                               01: Oli Aloha\, Welcome \n                                                  02: Aloha Friday\, UKEʻsters \n1:00-1:50 \n                                                03 Mahina O Hoku_Aloha Wau Medley \n                                                04:Waikiki Hula \n                                                05:  Green Rose Hula \n                                                06: E Kailua E_ F \n                                                07: Iʻll Remember You \n   2:00-2:30                             08: Ka Uluwehi O Ke Kai \n                                                09: Na Pua Gardenia Hibiscus Medley \n                                                10: KHBC \n                                                11: E Nani E \n                                                12: Sweet Lady of Waiahole \n                                                13:You Kuʻu Ipo \n                                                 14: Henehene Kou ʻAka \n                                                 15: Kauanoeanuhea \n                                                 16: Model T \n                                                 17: Not Pau \n                                                 18: Hawaii Aloha
URL:https://ukesters.com/event/aloha-poalima-10/
LOCATION:Cascadia Pizza and Brewery\, 1820 130th AVE NE\, Bellevue\, WA\, 98005\, United States
ATTACH;FMTTYPE=image/jpeg:https://ukesters.com/wp-content/uploads/2022/11/CascadiaPizzaBeer.jpg
END:VEVENT
BEGIN:VEVENT
DTSTART;TZID=America/Denver:20230412T130000
DTEND;TZID=America/Denver:20230412T143000
DTSTAMP:20260425T134046
CREATED:20230327T032529Z
LAST-MODIFIED:20230411T161340Z
UID:2851-1681304400-1681309800@ukesters.com
SUMMARY:Song Circle - Silver Glen
DESCRIPTION:We will meet in  “Glen Hall”  inside the building. \nIf you have not been to Silver Glen\, scroll to bottom of this page for address and a link to google maps. \nYou may park in front of any building; however\, we are meeting in building 1750. You may also park along 152nd Avenue\, as long as you park on the Highline Middle School side. The buildings are all locked\, but you can call Lynn or Marilyn when you arrive to be buzzed in. \nNote: Landmark to LOOK FOR when turning onto 152nd Ave off of Bel Red Road: SOKHU THAI RESTAURANT \nWe create a songlist ahead of time by compiling requests. \nPlease organize your music ahead of time using the list once provided below\, or you can download THIS PDF for use with electronic devices. \nIf you would like to print out just the list of songs\, DOWNLOAD THIS. \n  \nHawaiian: \n\nSweet Lady of Waiahole (gig)\nUlili E (gig)\nHenehene Kou Aka (gig)\nKa Uluwehi O Ke Kai (gig)\n\nSong Circle: \n\nDance Me to the End of Love (purple)\nLittle Boxes (purple)\nFrom Me to You (teal)\nSea of Love (teal)\nIt’s a Heartache (purple)\nCups (purple)\nHallelujah (purple)\nBus Stop (teal)\nThe Boxer in F (Misc)\nThis Magic Moment (gig) (to practice from memory)\nLast Kiss (teal)\nThese Boots are Made for Walking (teal)\nFriend of the Devil (purple) (unfamiliar? Listen to Aldreen Uke underground)\nFour Strong Winds (purple)\nAloha ‘Oe in C (gig)
URL:https://ukesters.com/event/song-circle-silver-glen-8/
LOCATION:Silver Glen\, 1750 152nd Ave NE\, Bellevue\, WA\, 98007\, United States
ATTACH;FMTTYPE=image/jpeg:https://ukesters.com/wp-content/uploads/2022/11/SilverGlen.jpg
END:VEVENT
BEGIN:VEVENT
DTSTART;TZID=America/Denver:20230419T130000
DTEND;TZID=America/Denver:20230419T143000
DTSTAMP:20260425T134046
CREATED:20230331T182702Z
LAST-MODIFIED:20230418T173635Z
UID:2871-1681909200-1681914600@ukesters.com
SUMMARY:Song Circle - Rotunda Shelter Lk Sammamish State Park
DESCRIPTION:Song Circle is an informal gathering to sing and play together. \nIf you are  unfamiliar with Lake Sammamish State Park\, check out THIS MAP.   (The Rotunda is marked as “B” on the map). \nWe create a songlist ahead of time by compiling requests. \nPlease organize your music ahead of time using the list provided below\, or you can DOWNLOAD THIS PDF  file for use with electronic devices. \nIf you would like to print out just the list of songs\, DOWNLOAD THIS. \nHawaiian: \n\nSweet Lady of Waiahole (gig)\nUlili E (gig)\nHenehene Kou Aka (gig)\nKa Uluwehi O Ke Kai (gig)\n\nSong Circle: \n\nBlowing in the Wind (purple)\nThis Land is Your Land (purple)\nI’m Into Something Good (teal)\nDown by the Riverside (teal)\nHave You Ever Seen the Rain (purple)\nCrocodile Rock (purple)\nI will Love You (MISC) **NEW (unfamiliar? Listen to Trent Wagler)\nStreets of Laredo (solo by Phil)\nCome Monday (purple)\nNearness of You (F) (MISC)\nThe Water is Wide (G) (MISC – from purple book)\nLahaina (A) (MISC)\nOn the Sunny Side of the Street (teal)\nAll of Me (teal)\nJolene (teal)\nElenore (teal)\nAloha ‘Oe in C (gig)
URL:https://ukesters.com/event/song-circle-rotunda-shelter-lk-sammamish-state-park-4/
LOCATION:Rotunda Shelter Lake Sammamish State Park\, 2000 NW Sammamish Road\, Issaquah\, 98027\, United States
ATTACH;FMTTYPE=image/jpeg:https://ukesters.com/wp-content/uploads/2021/06/rotunda.jpg
END:VEVENT
BEGIN:VEVENT
DTSTART;TZID=America/Denver:20230421T130000
DTEND;TZID=America/Denver:20230421T143000
DTSTAMP:20260425T134046
CREATED:20230405T161716Z
LAST-MODIFIED:20230420T023945Z
UID:2887-1682082000-1682087400@ukesters.com
SUMMARY:Aloha Pō’alima - Cascadia Restaurant and Brewery
DESCRIPTION:Aloha Pō’alima (Aloha Friday) is an informal gathering to focus on Hawaiian music\, language\, and culture. \nCascadia Restaurant and Brewery  is a great host and has excellent beer and pizza! Please support their generosity by purchasing something to drink or/and eat. \nSongs for this session are listed below. Please organize your music ahead of time\, or DOWNLOAD THIS PDF for use with electronic devices. \n \n12:50-1:00: \n\nOli Aloha\, Welcome\nAloha Friday\, UKEʻsters\nJam da Island (G)\n\n1:00-1:50: \n\nMahina O Hoku_Aloha Wau Medley\nWaikiki Hula\nGreen Rose Hula\nE Kailua E (F)\nWaikiki\n\n2:00-2:30: \n\nKa Uluwehi O Ke Kai\nNa Pua Gardenia Hibiscus Medley\nKHBC\nE Nani E\nSweet Lady of Waiahole\nRythym of the Ocean\nHenehene Kou ʻAka\nKauanoeanuhea\nModel T\nNot Pau (F)\nHawaii Aloha\n\n 
URL:https://ukesters.com/event/aloha-poalima-cascadia-brewery-pizzaria/
LOCATION:Cascadia Pizza and Brewery\, 1820 130th AVE NE\, Bellevue\, WA\, 98005\, United States
ATTACH;FMTTYPE=image/jpeg:https://ukesters.com/wp-content/uploads/2022/11/CascadiaPizzaBeer.jpg
END:VEVENT
BEGIN:VEVENT
DTSTART;TZID=America/Denver:20230426T130000
DTEND;TZID=America/Denver:20230426T143000
DTSTAMP:20260425T134046
CREATED:20230331T183134Z
LAST-MODIFIED:20230425T224408Z
UID:2873-1682514000-1682519400@ukesters.com
SUMMARY:Song Circle & Open Mic - Silver Glen
DESCRIPTION:We will meet in  “Glen Hall”  inside the building. \nIf you have not been to Silver Glen\, scroll to bottom of this page for address and a link to google maps. \nYou may park in front of any building; however\, we are meeting in building 1750. You may also park along 152nd Avenue\, as long as you park on the Highline Middle School side. The buildings are all locked\, but you can call Lynn or Marilyn when you arrive to be buzzed in. \nNote: Landmark to LOOK FOR when turning onto 152nd Ave off of Bel Red Road: SOKHU THAI RESTAURANT \n***Last meeting in the month is OPEN MIC!!*** \n\nSign up ahead of time\nPrepare a song\, ANY song of your choice.\nit can be sung OR be an instrumental.\nIt can be a solo\, duet\, trio etc.\nThe instrument needn’t be an uke.\n\nFor Song Circle we create a song list ahead of time by compiling requests. \nPlease organize your music ahead of time using the list once provided below\, or you can DOWNLOAD THIS PDF FILE for use with electronic devices. \nIf you would like to print out just the list of songs\, DOWNLOAD THIS. \nHawaiian: \n\nJam da island (G) (Aloha Friday)\nMolokai Sweet Home (D) (Aloha Friday)\nE Kailua E (F) (Aloha Friday)\nWaikiki Hula (Aloha Friday)\n\nSong Circle: \n\nOh\, Shenandoah (Misc)\nLahaina (A) (Misc)\nThe Nearness of You (F) (Misc)\nWooly Bully (Misc)\nElmer’s Tune (Teal p 42)\nFriday I’m in Love (Purple)\nUnder the Boardwalk (Purple)\nHoney Pie (Teal p 69)\nCrazy (Teal p 25)\nAloha ‘Oe in C (Gig)\n\nOur Schedule on an OPEN MIC Day: \n1:00-1:20  Hawaiian \n1:20-1:50  Song Circle \n1:50-2:00  Break \n2:00-2:30  Open Mic
URL:https://ukesters.com/event/song-circle-silver-glen-9/
LOCATION:Silver Glen\, 1750 152nd Ave NE\, Bellevue\, WA\, 98007\, United States
ATTACH;FMTTYPE=image/jpeg:https://ukesters.com/wp-content/uploads/2022/11/SilverGlen.jpg
END:VEVENT
END:VCALENDAR