BEGIN:VCALENDAR
VERSION:2.0
PRODID:-//Bellevue UKE&#039;sters - ECPv6.15.20//NONSGML v1.0//EN
CALSCALE:GREGORIAN
METHOD:PUBLISH
X-WR-CALNAME:Bellevue UKE&#039;sters
X-ORIGINAL-URL:https://ukesters.com
X-WR-CALDESC:Events for Bellevue UKE&#039;sters
REFRESH-INTERVAL;VALUE=DURATION:PT1H
X-Robots-Tag:noindex
X-PUBLISHED-TTL:PT1H
BEGIN:VTIMEZONE
TZID:America/Denver
BEGIN:DAYLIGHT
TZOFFSETFROM:-0700
TZOFFSETTO:-0600
TZNAME:MDT
DTSTART:20220313T090000
END:DAYLIGHT
BEGIN:STANDARD
TZOFFSETFROM:-0600
TZOFFSETTO:-0700
TZNAME:MST
DTSTART:20221106T080000
END:STANDARD
BEGIN:DAYLIGHT
TZOFFSETFROM:-0700
TZOFFSETTO:-0600
TZNAME:MDT
DTSTART:20230312T090000
END:DAYLIGHT
BEGIN:STANDARD
TZOFFSETFROM:-0600
TZOFFSETTO:-0700
TZNAME:MST
DTSTART:20231105T080000
END:STANDARD
BEGIN:DAYLIGHT
TZOFFSETFROM:-0700
TZOFFSETTO:-0600
TZNAME:MDT
DTSTART:20240310T090000
END:DAYLIGHT
BEGIN:STANDARD
TZOFFSETFROM:-0600
TZOFFSETTO:-0700
TZNAME:MST
DTSTART:20241103T080000
END:STANDARD
END:VTIMEZONE
BEGIN:VEVENT
DTSTART;TZID=America/Denver:20230503T130000
DTEND;TZID=America/Denver:20230503T143000
DTSTAMP:20260425T121910
CREATED:20230420T024537Z
LAST-MODIFIED:20230502T181547Z
UID:2962-1683118800-1683124200@ukesters.com
SUMMARY:Song Circle - Rotunda Shelter Lk. Sammamish St. Park
DESCRIPTION:Song Circle is an informal gathering to sing and play together. \nIf you are  unfamiliar with Lake Sammamish State Park\, check out THIS MAP.   (The Rotunda is marked as “B” on the map). \nWe create a songlist ahead of time by compiling requests. \nPlease organize your music ahead of time using the list once provided below\, or you can DOWNLOAD THIS FILE for use with electronic devices. \nIf you would like to print out just the list of songs\, DOWNLOAD THIS PDF. \n  \nHawaiian: \n\nJam da island (G) (Aloha Friday)\nMolokai Sweet Home (D) (Aloha Friday)\nE Kailua E (F) (Aloha Friday)\nWaikiki Hula (Aloha Friday)\n\nSong Circle: \n\nSixteen Tons (Red 2005-07 p. 192)\nGarden Song (Gig List)\nJamaica Farewell (Gig List)\nI Will Love You (Misc.)\nYou Ku’uipo (Gig List)\nZip a Dee Doo Dah (Red p. 234)\nSinging Bamboo (Red p. 191)\nHele on to Hawaii (A) (Misc.)\nNearness of You (C) (Misc.)\nI’ll See You In My Dreams (Misc.)    https://www.youtube.com/watch?v=CTWI28r5-ag\nStuck in the Middle with You (Misc)  https://www.youtube.com/watch?v=ln7Vn_WKkWU\nMy Waikiki Girl (A) New Key (Misc.)\nRunaway (Red p. 182)\nKainoa (Red p. 111)\nNowhere Man (Red p. 148)\nAloha Oe in C (Gig list)
URL:https://ukesters.com/event/song-circle-rotunda-shelter-lk-sammamish-st-park/
LOCATION:Rotunda Shelter Lake Sammamish State Park\, 2000 NW Sammamish Road\, Issaquah\, 98027\, United States
ATTACH;FMTTYPE=image/jpeg:https://ukesters.com/wp-content/uploads/2021/06/rotunda.jpg
END:VEVENT
BEGIN:VEVENT
DTSTART;TZID=America/Denver:20230505T140000
DTEND;TZID=America/Denver:20230505T160000
DTSTAMP:20260425T121910
CREATED:20230415T173738Z
LAST-MODIFIED:20230503T231517Z
UID:2930-1683295200-1683302400@ukesters.com
SUMMARY:Aloha Pō’alima - Wm. Grassie  Wine Estates
DESCRIPTION:Aloha Pō’alima (Aloha Friday) is an informal gathering to focus on Hawaiian music\, language\, and culture. \nThis Friday we are visiting  William Grassie Wine Estates in Duvall (address below). \nNOTE: later start time: 2:00pm – Arrive at 2pm and order your wine. Be ready to play at 2:30! \nMusic list is below.  (Music can be found under  Aloha Friday or  Gig Song PDFs.) \nPlease organize your music ahead of time per the list below\, or DOWNLOAD PDF FILE  for use with electronic devices. \nIf you would like to print out just the list of songs\, DOWNLOAD THIS PDF \n20230503 – Aloha Friday Song List \n \n  \n\nAloha Friday\, UKEʻsters\nJam da Island (G)\nMoloka’i Slide\nWahine Ilikea\nMoloka’i Sweet Home\nE Hihiwai\nRhythm of the Ocean\nStrolling on the Beach at Waikiki\nWaikiki\nWaikiki Hula\nE Kailua E (F)\n\n(Let’s take a break) \n\nNoho Paipai\nUlili E\nSweet Lady of Waiahole\nLahaina Luna\nPua Mana\nHele on to Kaua’i (A\, modulate to C)\nHanalei Moon\nKa Uluwehi O Ke Kai\nE Nani E\nNa Pua Gardenia Hibiscus Medley (short version)\nNot Pau (F)
URL:https://ukesters.com/event/aloha-poalima-wm-grassie-wine-estates/
LOCATION:Willam Grassie Wine Estates\, 15705 Main Street NE\, Duvall\, WA\, 98019\, United States
ATTACH;FMTTYPE=image/jpeg:https://ukesters.com/wp-content/uploads/2023/03/SmallLogoWmGrWine.jpg
END:VEVENT
BEGIN:VEVENT
DTSTART;TZID=America/Denver:20230510T130000
DTEND;TZID=America/Denver:20230510T143000
DTSTAMP:20260425T121910
CREATED:20230420T024203Z
LAST-MODIFIED:20230508T185916Z
UID:2958-1683723600-1683729000@ukesters.com
SUMMARY:Song Circle - Silver Glen
DESCRIPTION:We will meet in  “Glen Hall”  inside the building. \nIf you have not been to Silver Glen\, scroll to bottom of this page for address and a link to google maps. \nYou may park in front of any building; however\, we are meeting in building 1750. You may also park along 152nd Avenue\, as long as you park on the Highline Middle School side. The buildings are all locked\, but you can call Lynn or Marilyn when you arrive to be buzzed in. \nNote: Landmark to LOOK FOR when turning onto 152nd Ave off of Bel Red Road: SOKHU THAI RESTAURANT \nWe create a songlist ahead of time by compiling requests. \nPlease organize your music ahead of time using the list once provided below\, or you can DOWNLOAD THIS PDF FILE for use with electronic devices. \nIf you would like to print out just the list of songs\, DOWNLOAD THIS. \nHawaiian: \n\nJam da island (G) (Aloha Friday)\nGreen Rose Hula\nUlili E\n\nSong Circle: \n\nHanalei Moon (Gig) to practice memorizing\nSeptember in the Rain (red p. 186)\nMore (red p. 138)\nBeyond the Reef (gig)\nAll I Do is Dream of You (red p. 11)\nHeart and Soul/Blue Moon Medley (gig)\nRhythm of the Ocean (gig)\nGeorgy Girl (red p. 61)\nEaster Parade (red p. 53)\nFor You a Lei (gig)\nWhen I’m 64 (gig)\nStuck in the Middle with You (misc)\nAloha ‘Oe in C (gig)
URL:https://ukesters.com/event/song-circle-silver-glen-10/
LOCATION:Silver Glen\, 1750 152nd Ave NE\, Bellevue\, WA\, 98007\, United States
ATTACH;FMTTYPE=image/jpeg:https://ukesters.com/wp-content/uploads/2022/11/SilverGlen.jpg
END:VEVENT
BEGIN:VEVENT
DTSTART;TZID=America/Denver:20230517T130000
DTEND;TZID=America/Denver:20230517T143000
DTSTAMP:20260425T121910
CREATED:20230420T024730Z
LAST-MODIFIED:20230516T175627Z
UID:2964-1684328400-1684333800@ukesters.com
SUMMARY:Song Circle - Rotunda Shelter Lk. Sammamish St. Park
DESCRIPTION:Song Circle is an informal gathering to sing and play together. \nIf you are  unfamiliar with Lake Sammamish State Park\, check out THIS MAP.   (The Rotunda is marked as “B” on the map). \nWe create a songlist ahead of time by compiling requests. \nPlease organize your music ahead of time using the list once provided below\, or you can DOWNLOAD THIS PDF FILE for use with electronic devices. \nIf you would like to print out just the list of songs\, DOWNLOAD THIS. \nHawaiian: \n\nGreen Rose Hula\nUlili E\nWaikiki Hula\n\nSong Circle: \n\nWalk Right In (Misc songs)\nAll I Want is You (in G) (MIsc songs) [Play along with this to practice: https://youtu.be/DiRdeIbXs6Q]\nRipple (in C) (Misc songs)\nHonolulu I’m Coming Back Again (Red Book)\n[Check out the DaPuna Bruddas here\, https://youtu.be/CHjTQxJzOe8]\nWhite Sandy Beach (Gig)\nHawaiian Wedding Son (Red Book)\nPennies from Heaven (Gig)\nHenehene Kou Aka (Gig)\nWhen You’re Smiling (Gig)\nBack in the Saddle (Red Book)\nMaui Superman (Maui\, Hawaiian Sup’pa Man) (Red Book)\nGreat Pretender (Red Book)\nKa Uluwehi o Ke Kai\, key of C for hula (Gig)\nUnder the Boardwalk (Gig)\nAloha ‘Oe in C (Gig)
URL:https://ukesters.com/event/song-circle-rotunda-shelter-lk-sammamish-st-park-2/
LOCATION:Rotunda Shelter Lake Sammamish State Park\, 2000 NW Sammamish Road\, Issaquah\, 98027\, United States
ATTACH;FMTTYPE=image/jpeg:https://ukesters.com/wp-content/uploads/2021/06/rotunda.jpg
END:VEVENT
BEGIN:VEVENT
DTSTART;TZID=America/Denver:20230519T130000
DTEND;TZID=America/Denver:20230519T143000
DTSTAMP:20260425T121910
CREATED:20230502T042629Z
LAST-MODIFIED:20230519T045219Z
UID:2998-1684501200-1684506600@ukesters.com
SUMMARY:Aloha Pō’alima – Cascadia Restaurant & Brewery
DESCRIPTION:Aloha Pō’alima (Aloha Friday) is an informal gathering to focus on Hawaiian music\, language\, and culture. \nCascadia Restaurant and Brewery  is a great host and has excellent beer and pizza! Please support their generosity by purchasing something to drink or/and eat. \nSong list is posted below. Please organize your music ahead of time per the list\, or DOWNLOAD THIS PDF FILE for use with electronic devices. \nIf you want to print out just the list of songs\, DOWNLOAD THIS. \n\nAloha Friday\, UKEʻsters\nHenehene Kou Aka\nE Kailua E (F)\nMoloka’i Sweet Home\nMahina O Hoku_Aloha Wau Medley\nNorth Shore Serenade\nHula Breeze\n\nLet’s take a break \n\nE Nani E\nHele on to Kaua’i (A\, modulate to C)\nPili Mau Me ‘Oe (Terry including Key of C and Key of F)\nKa Uluwehi O Ke Kai (in C for hula)\nNa Pua Gardenia Hibiscus Medley (short version)\nModel T\nSweet Lady of Waiahole\nLahaina Luna\nUwehe\, Ami\, and Slide\nWahine Ilikea\nNot Pau (F)\n\n 
URL:https://ukesters.com/event/aloha-poalima-cascadia-restaurant-brewery/
LOCATION:Cascadia Pizza and Brewery\, 1820 130th AVE NE\, Bellevue\, WA\, 98005\, United States
ATTACH;FMTTYPE=image/jpeg:https://ukesters.com/wp-content/uploads/2022/11/CascadiaPizzaBeer.jpg
END:VEVENT
BEGIN:VEVENT
DTSTART;TZID=America/Denver:20230524T130000
DTEND;TZID=America/Denver:20230524T143000
DTSTAMP:20260425T121910
CREATED:20230420T024313Z
LAST-MODIFIED:20230523T222527Z
UID:2960-1684933200-1684938600@ukesters.com
SUMMARY:Song Circle - Silver Glen
DESCRIPTION:We will meet in  “Glen Hall”  inside the building. \nIf you have not been to Silver Glen\, scroll to bottom of this page for address and a link to google maps. \nYou may park in front of any building; however\, we are meeting in building 1750. You may also park along 152nd Avenue\, as long as you park on the Highline Middle School side. The buildings are all locked\, but you can call Lynn or Marilyn when you arrive to be buzzed in. \nNote: Landmark to LOOK FOR when turning onto 152nd Ave off of Bel Red Road: SOKHU THAI RESTAURANT \nWe create a songlist ahead of time by compiling requests. \nPlease organize your music ahead of time using the list once provided below\, or you can DOWNLOAD THIS PDF FILE for use with electronic devices. \nIf you would like to print out just the list of songs\, DOWNLOAD THIS. \nHawaiian: \n\nJam da Island (in G)\nMolokai’i Sweet Home (in D)\nE Kailua E (in F)\nWaikiki Hula\n\nSong Circle: \n\nBad Moon Rising (Gig)\nPuamana (Gig)\nMy Yellow Ginger Lei (Gig)\nRainbow Connection (Gig)\nDream a Little Dream of Me (Gig)\nI’ll Fly Away (Gig\, key of C)\n(I Wonder Why) You’re Just In Love (Red)\nL-O-V-E (Red)\nAloha Week Hula (Red\, p14)\nIt’s Only a Paper Moon (Red\, p102)\nLaupahoehoe Hula/Happy Me (Gig)\nBeyond the Reef (Gig)\nPretty Woman (Red\, p166)\nMay Day is Lei Day in Hawaii (Red\, p132)\nAloha ‘Oe in C (Gig)
URL:https://ukesters.com/event/song-circle-silver-glen-11/
LOCATION:Silver Glen\, 1750 152nd Ave NE\, Bellevue\, WA\, 98007\, United States
ATTACH;FMTTYPE=image/jpeg:https://ukesters.com/wp-content/uploads/2022/11/SilverGlen.jpg
END:VEVENT
BEGIN:VEVENT
DTSTART;TZID=America/Denver:20230531T130000
DTEND;TZID=America/Denver:20230531T143000
DTSTAMP:20260425T121910
CREATED:20230502T043054Z
LAST-MODIFIED:20230529T033043Z
UID:3000-1685538000-1685543400@ukesters.com
SUMMARY:Song Circle – Cascadia Restaurant and Brewery
DESCRIPTION:Song Circle is an informal gathering to sing and play together. \nCascadia Restaurant and Brewery is a great host and has excellent beer and pizza! Please support their generosity by purchasing something to drink or/and eat. \nWe create a songlist ahead of time by compiling requests. \nPlease organize your music ahead of time using the list once provided below\, or you can DOWNLOAD THIS PDF file for use with electronic devices. \nIf you would like to print out just the list of songs\, DOWNLOAD THIS. \nHawaiian: \n\nMolokai’i Sweet Home (in D)\nWaikiki Hula\nE Kailua E (in F)\n\nSong Circle: \n\nHanalei Moon (gig – to learn)\nWouldn’t It Be Loverly (in G) (misc)\nAll My Lovin (gig)\nWith A Little Help From My Friends (misc)\nBlue Bayou (gig)\nDon’t Fence Me In (Red p.48)\nBlowin’ in the Wind (in Red\, but using Green p.16)\nPlay a Simple Melody (gig)\nTwenty-Six Miles (in D) (misc)\nWalk Right In (misc)\nMargaritaville (Red p.129)\nSixteen Tons (Red p. 192)\nThe Garden Song (gig)\nI Will Love You (misc)\nI’ll See You In My Dreams (misc) https://www.youtube.com/watch?v=CTWI28r5-ag\nAloha ‘Oe (in C) (gig)
URL:https://ukesters.com/event/song-circle-cascadia-restaurant-and-brewery-2/
LOCATION:Cascadia Pizza and Brewery\, 1820 130th AVE NE\, Bellevue\, WA\, 98005\, United States
ATTACH;FMTTYPE=image/jpeg:https://ukesters.com/wp-content/uploads/2022/11/CascadiaPizzaBeer.jpg
END:VEVENT
END:VCALENDAR