BEGIN:VCALENDAR
VERSION:2.0
PRODID:-//Bellevue UKE&#039;sters - ECPv6.15.20//NONSGML v1.0//EN
CALSCALE:GREGORIAN
METHOD:PUBLISH
X-ORIGINAL-URL:https://ukesters.com
X-WR-CALDESC:Events for Bellevue UKE&#039;sters
REFRESH-INTERVAL;VALUE=DURATION:PT1H
X-Robots-Tag:noindex
X-PUBLISHED-TTL:PT1H
BEGIN:VTIMEZONE
TZID:America/Denver
BEGIN:DAYLIGHT
TZOFFSETFROM:-0700
TZOFFSETTO:-0600
TZNAME:MDT
DTSTART:20220313T090000
END:DAYLIGHT
BEGIN:STANDARD
TZOFFSETFROM:-0600
TZOFFSETTO:-0700
TZNAME:MST
DTSTART:20221106T080000
END:STANDARD
BEGIN:DAYLIGHT
TZOFFSETFROM:-0700
TZOFFSETTO:-0600
TZNAME:MDT
DTSTART:20230312T090000
END:DAYLIGHT
BEGIN:STANDARD
TZOFFSETFROM:-0600
TZOFFSETTO:-0700
TZNAME:MST
DTSTART:20231105T080000
END:STANDARD
BEGIN:DAYLIGHT
TZOFFSETFROM:-0700
TZOFFSETTO:-0600
TZNAME:MDT
DTSTART:20240310T090000
END:DAYLIGHT
BEGIN:STANDARD
TZOFFSETFROM:-0600
TZOFFSETTO:-0700
TZNAME:MST
DTSTART:20241103T080000
END:STANDARD
END:VTIMEZONE
BEGIN:VEVENT
DTSTART;TZID=America/Denver:20230602T130000
DTEND;TZID=America/Denver:20230602T143000
DTSTAMP:20260425T110600
CREATED:20230523T222819Z
LAST-MODIFIED:20230526T212340Z
UID:3070-1685710800-1685716200@ukesters.com
SUMMARY:Aloha Pō’alima - Cascadia Restaurant & Brewery
DESCRIPTION:Aloha Pō’alima (Aloha Friday) is an informal gathering to focus on Hawaiian music\, language\, and culture. \nThe song list is provided below. Please organize your music ahead of time\, or DOWNLOAD THIS PDF FILE for use on electronic devices. \n \nIf you want to print out just the list of songs\, DOWNLOAD THIS. \n\nAloha Friday\, UKEʻsters\nJam da Island (G)\nE Kailua E (F)\nWaikiki Hula\nWaikiki\nE Hihiwai\nRhythm of the Ocean\nKu’u Home O Kahalu’u\nMoloka’i Sweet Home (D)\nPua ‘Olena\nPua Tuberose\n\nLet’s take a break \n\nNoho Paipai\nUlili E\nSweet Lady of Waiahole\nLahaina Luna\nPuaMana\nBeautiful Kaua’i\nHanalei Moon\nKa Uluwehi O Ke Kai (in C for hula)\nE Nani E\nModel T\nNot Pau (F)
URL:https://ukesters.com/event/aloha-poalima-11/
ATTACH;FMTTYPE=image/jpeg:https://ukesters.com/wp-content/uploads/2022/11/CascadiaPizzaBeer.jpg
END:VEVENT
BEGIN:VEVENT
DTSTART;TZID=America/Denver:20230607T130000
DTEND;TZID=America/Denver:20230607T143000
DTSTAMP:20260425T110600
CREATED:20230603T043432Z
LAST-MODIFIED:20230606T043642Z
UID:3090-1686142800-1686148200@ukesters.com
SUMMARY:Song Circle - McNeill Residence
DESCRIPTION:Song Circle is an informal gathering to sing and play together. \nWe create a songlist ahead of time by compiling requests. \nPlease organize your music ahead of time using the list once provided below\, or you can DOWNLOAD THIS PDF file for use with electronic devices. \nIf you would like to print out just the list of songs\, DOWNLOAD THIS. \n  \nHawaiian: \n\nE Kailua E (in F)\nWaikiki Hula\nKaimana Hila\n\nSong Circle: \n\nDo You Hear the People Sing? (purple) https://www.youtube.com/watch?v=47E2tfK5QAg and/or\nhttps://youtu.be/MbSU_yhhAvE\nTiny Bubbles (green p.108)\nWest Seattle Girls (green p.113)\nAmapola in C (misc)\nHarvest Moon (purple)\nHonolulu Baby (green p.46) https://www.youtube.com/watch?v=1TvWUpOplKk\nI Will Love You (misc)\nBetween the Devil and the Deep Blue Sea (purple)\nDrift Away (purple)\nCrawdad Hole (purple)\nRamblin’ Man (purple)\nDriving My Life Away (purple)\nHello Mary Lou (green p.44)\nDon’t Think Twice (purple)\nFields of Gold (purple)\nAloha Oe in C (gig)
URL:https://ukesters.com/event/song-circle-mcneill-residence/
LOCATION:McNeill residence\, available by request\, Kirkland\, WA\, United States
ATTACH;FMTTYPE=image/jpeg:https://ukesters.com/wp-content/uploads/2021/06/21-6-2-UKEsters-together-agains-1.jpg
END:VEVENT
BEGIN:VEVENT
DTSTART;TZID=America/Denver:20230614T130000
DTEND;TZID=America/Denver:20230614T143000
DTSTAMP:20260425T110600
CREATED:20230603T043716Z
LAST-MODIFIED:20230614T020739Z
UID:3093-1686747600-1686753000@ukesters.com
SUMMARY:Song Circle - Rotunda Shelter Lk. Sammamish State Park
DESCRIPTION:Song Circle is an informal gathering to sing and play together. \nIf you are unfamiliar with Lake Sammamish State Park\, check out THIS MAP.  (The Rotunda is marked as “B” on the map). \nWe create a songlist ahead of time by compiling requests. \nPlease organize your music ahead of time using the list once provided below\, or you can DOWNLOAD THIS PDF FILE with electronic devices. \nIf you would like to print out just the list of songs\, DOWNLOAD THIS. \n\nHawaiian: \n\nKaimana Hila  (https://youtu.be/JQ1-UUeK5zM)\nWaikiki Hula\nE Kailua E (in F)\n\nSong Circle: \n\nThat’s the Hawaiian in Me (green p. 103)\nBetween the Devil and the Deep Blue Sea (purple)\nDrift Away (purple)\nWho’s Sorry Now? in key of C (misc)\nDanny’s Song (purple)\nBrown Eyed Girl (purple)\nSummer Nights (misc)\nWooly Bully (misc) – Bring Your Kazoo!\nI Believe in Music (purple)\nI Will (misc)\nSide by Side (green p.87)\nFreight Train (purple)\nKing of the Road (green)\nGhost Riders in the Sky (purple)\nAll I Have to Do is Dream (green p.4)\nAloha Oe in C (gig)
URL:https://ukesters.com/event/song-circle-rotunda-shelter-lk-sammamish-state-park-5/
LOCATION:Rotunda Shelter Lake Sammamish State Park\, 2000 NW Sammamish Road\, Issaquah\, 98027\, United States
ATTACH;FMTTYPE=image/jpeg:https://ukesters.com/wp-content/uploads/2021/06/rotunda.jpg
END:VEVENT
BEGIN:VEVENT
DTSTART;TZID=America/Denver:20230616T130000
DTEND;TZID=America/Denver:20230616T143000
DTSTAMP:20260425T110600
CREATED:20230523T222934Z
LAST-MODIFIED:20230614T231702Z
UID:3072-1686920400-1686925800@ukesters.com
SUMMARY:Aloha Pō’alima - Cascadia Restaurant & Brewery
DESCRIPTION:Aloha Pō’alima (Aloha Friday) is an informal gathering to focus on Hawaiian music\, language\, and culture. \nPlease org \nanize your music a \nhead of time using the list (once provided) below\, or you can DOWNLOAD THIS PDF FILE for use with electronic devices. \nIf you would like to print out just the list of songs\, DOWNLOAD THIS. \nNOTE: song titles with “**” have been updated or had notes added since the  last Aloha Friday \n\nOli Aloha\nAloha Friday\, UKEʻsters\nJam da Island (G)\nE Kailua E (F)**\nWaikiki Hula\nWaikiki\nKaimana Hila**\nE Hihiwai\nRhythm of the Ocean\nKu’u Home O Kahalu’u\nMoloka’i Sweet Home (D)\n\nLet’s take a break \n\nPua ‘Olena\nPua Tuberose\nSweet Someone\nNoho Paipai**\nSweet Lady of Waiahole\nHenehene Kou ‘Aka\nAhulili\nKauanoeanuhea\nGreen Rose Hula\nModel T\nNot Pau (F)
URL:https://ukesters.com/event/aloha-poalima-12/
ATTACH;FMTTYPE=image/jpeg:https://ukesters.com/wp-content/uploads/2022/11/CascadiaPizzaBeer.jpg
END:VEVENT
BEGIN:VEVENT
DTSTART;TZID=America/Denver:20230621T130000
DTEND;TZID=America/Denver:20230621T143000
DTSTAMP:20260425T110600
CREATED:20230603T044122Z
LAST-MODIFIED:20230620T191852Z
UID:3097-1687352400-1687357800@ukesters.com
SUMMARY:Song Circle - McNeill Residence
DESCRIPTION:Song Circle is an informal gathering to sing and play together. \nWe create a songlist ahead of time by compiling requests. \nPlease organize your music ahead of time using the list once provided below\, or you can DOWNLOAD THIS PDF for use with electronic devices. \nIf you would like to print out just the list of songs\, DOWNLOAD THIS. \n\nHawaiian: \n\nKaimana Hila https://youtu.be/JQ1-UUeK5zM\nWaikiki Hula\nE Kailua E (in F)\n\nSong Circle: \n\nA Summer Song (Green)\nLook What They’ve Done to My Song (Purple)\nCat Came Back (Purple)\nCount on Me (Purple)\nWagon Wheel (Purple)\nMe and Bobby McGee (Misc) [Kris Kristofferson version]\nSoft Spot (Purple) [Gary Nicholson version]\nSpanish Pipedream( Purple)\nWatching the River Run (Misc.)\nAloha Oe in C (Gig)
URL:https://ukesters.com/event/song-circle-mcneill-residence-2/
LOCATION:McNeill residence\, available by request\, Kirkland\, WA\, United States
ATTACH;FMTTYPE=image/jpeg:https://ukesters.com/wp-content/uploads/2021/06/21-6-2-UKEsters-together-agains-1.jpg
END:VEVENT
BEGIN:VEVENT
DTSTART;TZID=America/Denver:20230628T130000
DTEND;TZID=America/Denver:20230628T143000
DTSTAMP:20260425T110600
CREATED:20230603T043906Z
LAST-MODIFIED:20230627T183945Z
UID:3095-1687957200-1687962600@ukesters.com
SUMMARY:Song Circle - Rotunda Shelter Lk. Sammamish State Park
DESCRIPTION:Song Circle is an informal gathering to sing and play together. \nIf you are unfamiliar with Lake Sammamish State Park\, check out THIS MAP.  (The Rotunda is marked as “B” on the map). \nWe create a songlist ahead of time by compiling requests. \nPlease organize your music ahead of time using the list once provided below\, or you can DOWNLOAD THIS PDF file for use with electronic devices. \nIf you would like to print out just the list of songs\, DOWNLOAD THIS. \n\nHawaiian: \n\nE Kailua E (in F)\nKaimana Hila https://youtu.be/JQ1-UUeK5zM\nGreen Rose Hula (in C)\n\nSong Circle: \n\nSweet Baby James (Purple book)\nThe Letter (Purple book)\nRuby Tuesday (Purple book)\nFive Foot Two (Green)\n(Notes from Alan : The # of beats for each of the 12 chords in the Intro are as follows: 4\,4\,2\,2\,1\,4\,4\,4\,2\,2\,2\,2.) We can review before playing).\nJumbalaya (Green)\nPennies from Heaven (Gig)\nI Just Want to Dance with You (Purple book)\nSummertime Blues (Purple book)\nBorn To Be Wild (Purple book)\nLast Thing On My Mind (Purple book)\nI Remember Everything (Purple book)\nSloop John B (Purple book)\nYellow Bird (Green book)\nSugar Sugar (Misc) https://www.youtube.com/watch?v=Om5O6GL7cLY\nAloha Oe in C (Gig)
URL:https://ukesters.com/event/song-circle-rotunda-shelter-lk-sammamish-state-park-6/
LOCATION:Rotunda Shelter Lake Sammamish State Park\, 2000 NW Sammamish Road\, Issaquah\, 98027\, United States
ATTACH;FMTTYPE=image/jpeg:https://ukesters.com/wp-content/uploads/2021/06/rotunda.jpg
END:VEVENT
BEGIN:VEVENT
DTSTART;TZID=America/Denver:20230630T140000
DTEND;TZID=America/Denver:20230630T153000
DTSTAMP:20260425T110600
CREATED:20230415T173934Z
LAST-MODIFIED:20230626T203151Z
UID:2933-1688133600-1688139000@ukesters.com
SUMMARY:Aloha Pō’alima - Wm. Grassie Wine Estates
DESCRIPTION:Aloha Pō’alima (Aloha Friday) is an informal gathering to focus on Hawaiian music\, language\, and culture. \nThis Friday we are visiting  William Grassie Wine Estates in Duvall (address below). \nBelow is the song list. Please organize your music ahead of time per the list below. If using an electronic device\, you can DOWNLOAD THIS PDF FILE containing all the songs. \nIf you want to print out only the list of songs\, you can DOWNLOAD THIS. \n\nOli Aloha\nAloha Friday\, UKEʻsters\nJam da Island (G)\nE Kailua E (F)\nWaikiki Hula\nWaikiki\nKaimana Hila\nE Hihiwai\nRhythm of the Ocean\nKu’u Home O Kahalu’u\nMoloka’i Sweet Home (D)\n\nLet’s take a break \n\nPua ‘Olena\nPua Tuberose\nSweet Someone\nNoho Paipai\nSweet Lady of Waiahole\nHenehene Kou ‘Aka\nAhulili\nKauanoeanuhea\nGreen Rose Hula\nModel T\nNot Pau (F)\n\n 
URL:https://ukesters.com/event/aloha-poalima-wm-grassie-wine-estates-2/
LOCATION:Willam Grassie Wine Estates\, 15705 Main Street NE\, Duvall\, WA\, 98019\, United States
ATTACH;FMTTYPE=image/jpeg:https://ukesters.com/wp-content/uploads/2023/03/SmallLogoWmGrWine.jpg
END:VEVENT
END:VCALENDAR