BEGIN:VCALENDAR
VERSION:2.0
PRODID:-//Bellevue UKE&#039;sters - ECPv6.15.20//NONSGML v1.0//EN
CALSCALE:GREGORIAN
METHOD:PUBLISH
X-WR-CALNAME:Bellevue UKE&#039;sters
X-ORIGINAL-URL:https://ukesters.com
X-WR-CALDESC:Events for Bellevue UKE&#039;sters
REFRESH-INTERVAL;VALUE=DURATION:PT1H
X-Robots-Tag:noindex
X-PUBLISHED-TTL:PT1H
BEGIN:VTIMEZONE
TZID:America/Los_Angeles
BEGIN:DAYLIGHT
TZOFFSETFROM:-0800
TZOFFSETTO:-0700
TZNAME:PDT
DTSTART:20230312T100000
END:DAYLIGHT
BEGIN:STANDARD
TZOFFSETFROM:-0700
TZOFFSETTO:-0800
TZNAME:PST
DTSTART:20231105T090000
END:STANDARD
BEGIN:DAYLIGHT
TZOFFSETFROM:-0800
TZOFFSETTO:-0700
TZNAME:PDT
DTSTART:20240310T100000
END:DAYLIGHT
BEGIN:STANDARD
TZOFFSETFROM:-0700
TZOFFSETTO:-0800
TZNAME:PST
DTSTART:20241103T090000
END:STANDARD
BEGIN:DAYLIGHT
TZOFFSETFROM:-0800
TZOFFSETTO:-0700
TZNAME:PDT
DTSTART:20250309T100000
END:DAYLIGHT
BEGIN:STANDARD
TZOFFSETFROM:-0700
TZOFFSETTO:-0800
TZNAME:PST
DTSTART:20251102T090000
END:STANDARD
END:VTIMEZONE
BEGIN:VEVENT
DTSTART;TZID=America/Los_Angeles:20240103T130000
DTEND;TZID=America/Los_Angeles:20240103T143000
DTSTAMP:20260425T012451
CREATED:20231125T233238Z
LAST-MODIFIED:20231125T233238Z
UID:3900-1704286800-1704292200@ukesters.com
SUMMARY:No Song Circle
DESCRIPTION:Happy New Year!
URL:https://ukesters.com/event/no-song-circle-7/
END:VEVENT
BEGIN:VEVENT
DTSTART;TZID=America/Los_Angeles:20240105T130000
DTEND;TZID=America/Los_Angeles:20240105T143000
DTSTAMP:20260425T012451
CREATED:20231121T234829Z
LAST-MODIFIED:20240103T192105Z
UID:3887-1704459600-1704465000@ukesters.com
SUMMARY:Aloha Pō’alima - Hale 'o Kalena
DESCRIPTION:Aloha Pō’alima (Aloha Friday) is an informal gathering to focus on Hawaiian music\, language\, and culture. \nPlease organize your music ahead of time using the list  below\, or you can  DOWNLOAD THIS PDF file we will provide here for use with electronic devices. \nSong sheets can be found on the Aloha Friday page\, or the Gig Song PDFs page. \nIf you want to print out just the list of songs\, DOWNLOAD THIS. \n\nAloha Friday UKEsters\nIsland Style\nSpread a Little Aloha (G)\nMokihana Medley\nKamalani\nKuhio Bay\nHanalei Moon\nPretty Red Hibiscus\nMy Sweet Gardenia Lei\n\nBREAK TIME \n\nJam Da Island (G)\nWaikiki\nKa Uluwehi O Ke Kai (C)\nBlue Hawaiian Moonlight\nMahine Hoku O Wau Medley\nKauoha Mai (Key Hole Hula)\nNoho Paipai\nHe Hawai’i Au\nNot Pau (F)
URL:https://ukesters.com/event/aloha-poalima-hale-o-kalena-8/
LOCATION:Hale ‘o Kalena\, available by request\, Bellevue\, WA\, 98008
ATTACH;FMTTYPE=image/jpeg:https://ukesters.com/wp-content/uploads/2022/06/AF.jpg
END:VEVENT
BEGIN:VEVENT
DTSTART;TZID=America/Los_Angeles:20240110T130000
DTEND;TZID=America/Los_Angeles:20240110T143000
DTSTAMP:20260425T012451
CREATED:20231121T234703Z
LAST-MODIFIED:20231208T212915Z
UID:3885-1704891600-1704897000@ukesters.com
SUMMARY:Song Circle - Silver Glen
DESCRIPTION:Song Circle is an informal gathering to sing and play together. \nIf you have not been to Silver Glen\, scroll to bottom of this page for address and a link to google maps. \nYou may park in front of any building; however\, we are meeting in building 1750. You may also park along 152nd Avenue\, as long as you park on the Highline Middle School side. The buildings are all locked\, but someone will be there (or instructions at the door) so you can be buzzed in. \nNote: Landmark to LOOK FOR when turning onto 152nd Ave off of Bel Red Road: SOKHU THAI RESTAURANT. \nThis week will be a true song circle! We will go around the circle and each person can pick a song (or not – one can pass). Songs may be chosen from the  GIG SONGS and MISC SONGS. \nCome prepared with a list of your favorites!
URL:https://ukesters.com/event/song-circle-silver-glen-19/
LOCATION:Silver Glen\, 1750 152nd Ave NE\, Bellevue\, WA\, 98007\, United States
ATTACH;FMTTYPE=image/jpeg:https://ukesters.com/wp-content/uploads/2022/11/SilverGlen.jpg
END:VEVENT
BEGIN:VEVENT
DTSTART;TZID=America/Los_Angeles:20240117T130000
DTEND;TZID=America/Los_Angeles:20240117T143000
DTSTAMP:20260425T012451
CREATED:20231208T212741Z
LAST-MODIFIED:20231208T212741Z
UID:3917-1705496400-1705501800@ukesters.com
SUMMARY:Song Circle - Silver Glen
DESCRIPTION:Song Circle is an informal gathering to sing and play together. \nIf you have not been to Silver Glen\, scroll to bottom of this page for address and a link to google maps. \nYou may park in front of any building; however\, we are meeting in building 1750. You may also park along 152nd Avenue\, as long as you park on the Highline Middle School side. The buildings are all locked\, but someone will be there (or instructions at the door) so you can be buzzed in. \nNote: Landmark to LOOK FOR when turning onto 152nd Ave off of Bel Red Road: SOKHU THAI RESTAURANT \n\nThis week will be a true song circle! We will go around the circle and each person can pick a song (or not – one can pass).  Songs may be chosen from the TEAL BOOK\, and GIG SONGS . \nCome prepared with a list of your favorites!
URL:https://ukesters.com/event/song-circle-silver-glen-20/
LOCATION:Silver Glen\, 1750 152nd Ave NE\, Bellevue\, WA\, 98007\, United States
ATTACH;FMTTYPE=image/jpeg:https://ukesters.com/wp-content/uploads/2022/11/SilverGlen.jpg
END:VEVENT
BEGIN:VEVENT
DTSTART;TZID=America/Los_Angeles:20240119T130000
DTEND;TZID=America/Los_Angeles:20240119T143000
DTSTAMP:20260425T012451
CREATED:20231208T212130Z
LAST-MODIFIED:20240117T194037Z
UID:3915-1705669200-1705674600@ukesters.com
SUMMARY:Aloha Pō’alima - Hale 'o Kalena
DESCRIPTION:Aloha Pō’alima (Aloha Friday) is an informal gathering to focus on Hawaiian music\, language\, and culture. \nPlease organize your music ahead of time using the list once provided below\, or you can  DOWNLOAD THIS PDF FILE for use with electronic devices. \nIf you want to print out just the list of songs\, DOWNLOAD THIS. \n\n\nAloha Friday UKEsters\nIsland Style\nSpread a Little Aloha (G)\nKuhio Bay\nMokihana Medley\nKamalani\nE Hihiwai\nKa Pua E\nPretty Red Hibiscus\nMy Sweet Gardenia Lei\n\nBREAK TIME \n\nKu’u Home O Kahalu’u\nE Nani E\nNorth Shore Serenade\nBlue Hawaii (G)\nMahina ‘O Hoku / Aloha Wau Iā ‘Oe Medley\nKauoha Mai (Key Hole Hula)\nNoho Paipai\nHe Hawai’i Au\nNot Pau (F)
URL:https://ukesters.com/event/aloha-poalima-hale-o-kalena-9/
LOCATION:Hale ‘o Kalena\, available by request\, Bellevue\, WA\, 98008
ATTACH;FMTTYPE=image/jpeg:https://ukesters.com/wp-content/uploads/2022/06/AF.jpg
END:VEVENT
BEGIN:VEVENT
DTSTART;TZID=America/Los_Angeles:20240124T130000
DTEND;TZID=America/Los_Angeles:20240124T143000
DTSTAMP:20260425T012451
CREATED:20231208T213111Z
LAST-MODIFIED:20240104T183414Z
UID:3921-1706101200-1706106600@ukesters.com
SUMMARY:Song Circle - Silver Glen
DESCRIPTION:Song Circle is an informal gathering to sing and play together. \nIf you have not been to Silver Glen\, scroll to bottom of this page for address and a link to google maps. \nYou may park in front of any building; however\, we are meeting in building 1750. You may also park along 152nd Avenue\, as long as you park on the Highline Middle School side. The buildings are all locked\, but someone will be there (or instructions at the door) so you can be buzzed in. \nNote: Landmark to LOOK FOR when turning onto 152nd Ave off of Bel Red Road: SOKHU THAI RESTAURANT \nThis week will be a true song circle! We will go around the circle and each person can pick a song (or not – one can pass). \nSongs may be chosen from the  GIG SONGS and PURPLE BOOK. \nCome prepared with a list of your  favorites!
URL:https://ukesters.com/event/song-circle-silver-glen-21/
LOCATION:Silver Glen\, 1750 152nd Ave NE\, Bellevue\, WA\, 98007\, United States
ATTACH;FMTTYPE=image/jpeg:https://ukesters.com/wp-content/uploads/2022/11/SilverGlen.jpg
END:VEVENT
BEGIN:VEVENT
DTSTART;TZID=America/Los_Angeles:20240131T130000
DTEND;TZID=America/Los_Angeles:20240131T143000
DTSTAMP:20260425T012451
CREATED:20231208T213239Z
LAST-MODIFIED:20240104T183629Z
UID:3923-1706706000-1706711400@ukesters.com
SUMMARY:Song Circle - Silver Glen
DESCRIPTION:Song Circle is an informal gathering to sing and play together. \nIf you have not been to Silver Glen\, scroll to bottom of this page for address and a link to google maps. \nYou may park in front of any building; however\, we are meeting in building 1750. You may also park along 152nd Avenue\, as long as you park on the Highline Middle School side. The buildings are all locked\, but someone will be there (or instructions at the door) so you can be buzzed in. \nNote: Landmark to LOOK FOR when turning onto 152nd Ave off of Bel Red Road: SOKHU THAI RESTAURANT \nThis week for song circle we will be using the  GIG SONGS and GREEN  BOOK. \nCome prepared with a list of your  favorites! \n 
URL:https://ukesters.com/event/song-circle-silver-glen-22/
LOCATION:Silver Glen\, 1750 152nd Ave NE\, Bellevue\, WA\, 98007\, United States
ATTACH;FMTTYPE=image/jpeg:https://ukesters.com/wp-content/uploads/2022/11/SilverGlen.jpg
END:VEVENT
END:VCALENDAR