BEGIN:VCALENDAR
VERSION:2.0
PRODID:-//Bellevue UKE&#039;sters - ECPv6.15.20//NONSGML v1.0//EN
CALSCALE:GREGORIAN
METHOD:PUBLISH
X-ORIGINAL-URL:https://ukesters.com
X-WR-CALDESC:Events for Bellevue UKE&#039;sters
REFRESH-INTERVAL;VALUE=DURATION:PT1H
X-Robots-Tag:noindex
X-PUBLISHED-TTL:PT1H
BEGIN:VTIMEZONE
TZID:America/Los_Angeles
BEGIN:DAYLIGHT
TZOFFSETFROM:-0800
TZOFFSETTO:-0700
TZNAME:PDT
DTSTART:20230312T100000
END:DAYLIGHT
BEGIN:STANDARD
TZOFFSETFROM:-0700
TZOFFSETTO:-0800
TZNAME:PST
DTSTART:20231105T090000
END:STANDARD
BEGIN:DAYLIGHT
TZOFFSETFROM:-0800
TZOFFSETTO:-0700
TZNAME:PDT
DTSTART:20240310T100000
END:DAYLIGHT
BEGIN:STANDARD
TZOFFSETFROM:-0700
TZOFFSETTO:-0800
TZNAME:PST
DTSTART:20241103T090000
END:STANDARD
BEGIN:DAYLIGHT
TZOFFSETFROM:-0800
TZOFFSETTO:-0700
TZNAME:PDT
DTSTART:20250309T100000
END:DAYLIGHT
BEGIN:STANDARD
TZOFFSETFROM:-0700
TZOFFSETTO:-0800
TZNAME:PST
DTSTART:20251102T090000
END:STANDARD
END:VTIMEZONE
BEGIN:VEVENT
DTSTART;TZID=America/Los_Angeles:20240301T130000
DTEND;TZID=America/Los_Angeles:20240301T143000
DTSTAMP:20260424T225028
CREATED:20240123T233406Z
LAST-MODIFIED:20240224T170153Z
UID:4033-1709298000-1709303400@ukesters.com
SUMMARY:Aloha Pō’alima - Hale 'o Kalena
DESCRIPTION:Aloha Pō’alima (Aloha Friday) is an informal gathering to focus on Hawaiian music\, language\, and culture. \nPlease organize your music ahead of time using the list  provided below\, or you can  DOWNLOAD THIS PDF file for use with electronic devices. \nSong sheets can be found on the Aloha Friday page\, or the Gig Song PDFs page. \nIf you want to print out just the list of songs\, DOWNLOAD THIS. \n\n\nOli Aloha\nAloha Friday UKEsters\nIsland Style\nJam Da Island\nMokihana Medley\nPaniolo Country\nKuhio Bay\nMakaha Moon\nPretty Red Hibiscus\nE Hihiwai\n\nBREAK TIME \n\nNorthshore Serenade\nPuamana\nLahaina Luna\nIn Your Hawaiian Way\nMahina ‘O Hoku / Aloha Wau Iā ‘Oe Medley\nAhulili\nUlupalakua\nNoho Paipai\nNot Pau
URL:https://ukesters.com/event/aloha-poalima-hale-o-kalena-11/
LOCATION:Hale ‘o Kalena\, available by request\, Bellevue\, WA\, 98008
ATTACH;FMTTYPE=image/jpeg:https://ukesters.com/wp-content/uploads/2022/06/AF.jpg
END:VEVENT
BEGIN:VEVENT
DTSTART;TZID=America/Los_Angeles:20240306T130000
DTEND;TZID=America/Los_Angeles:20240306T143000
DTSTAMP:20260424T225028
CREATED:20240219T185923Z
LAST-MODIFIED:20240219T185923Z
UID:4138-1709730000-1709735400@ukesters.com
SUMMARY:Song Circle - Silver Glen
DESCRIPTION:Song Circle is an informal gathering to sing and play together. \nIf you have not been to Silver Glen\, scroll to bottom of this page for address and a link to google maps. \nYou may park in front of any building; however\, we are meeting in building 1750. You may also park along 152nd Avenue\, as long as you park on the Highline Middle School side. The buildings are all locked\, but someone will be there (or instructions at the door) so you can be buzzed in. \nNote: Landmark to LOOK FOR when turning onto 152nd Ave off of Bel Red Road: SOKHU THAI RESTAURANT \n\nSongs may be chosen from the  GIG SONGS and PURPLE BOOK. \nCome prepared with a list of your  favorites!
URL:https://ukesters.com/event/song-circle-silver-glen-27/
LOCATION:Silver Glen\, 1750 152nd Ave NE\, Bellevue\, WA\, 98007\, United States
ATTACH;FMTTYPE=image/jpeg:https://ukesters.com/wp-content/uploads/2022/11/SilverGlen.jpg
END:VEVENT
BEGIN:VEVENT
DTSTART;TZID=America/Los_Angeles:20240309T190000
DTEND;TZID=America/Los_Angeles:20240309T210000
DTSTAMP:20260424T225028
CREATED:20240217T041645Z
LAST-MODIFIED:20240217T180205Z
UID:4125-1710010800-1710018000@ukesters.com
SUMMARY:Lōkahi 2024
DESCRIPTION:An evening of hula\, music and togetherness at the Shorecrest Performing Arts Center featuring. Organized by our friends at Hula O Lehualani\, also featuring Kūpono and  Neal Chin. \nLōkahi = unity\, agreement\, accord\, unison\, harmony \nGeneral seating. To purchase tickets\, follow this link: BUY TICKETS
URL:https://ukesters.com/event/lokahi-2024/
LOCATION:Shorecrest Peforming Arts Center\, 15343 - 25th Ave. NE\, Shoreline\, WA\, 98155\, United States
ATTACH;FMTTYPE=image/jpeg:https://ukesters.com/wp-content/uploads/2024/02/Kokahi.jpg
END:VEVENT
BEGIN:VEVENT
DTSTART;TZID=America/Los_Angeles:20240313T130000
DTEND;TZID=America/Los_Angeles:20240313T143000
DTSTAMP:20260424T225028
CREATED:20240219T190203Z
LAST-MODIFIED:20240219T190203Z
UID:4140-1710334800-1710340200@ukesters.com
SUMMARY:Song Circle - Silver Glen
DESCRIPTION:Song Circle is an informal gathering to sing and play together. \nIf you have not been to Silver Glen\, scroll to bottom of this page for address and a link to google maps. \nYou may park in front of any building; however\, we are meeting in building 1750. You may also park along 152nd Avenue\, as long as you park on the Highline Middle School side. The buildings are all locked\, but someone will be there (or instructions at the door) so you can be buzzed in. \nNote: Landmark to LOOK FOR when turning onto 152nd Ave off of Bel Red Road: SOKHU THAI RESTAURANT \n\nThis week for song circle we will be using the  GIG SONGS and GREEN  BOOK. \nCome prepared with a list of your  favorites!
URL:https://ukesters.com/event/song-circle-silver-glen-28/
LOCATION:Silver Glen\, 1750 152nd Ave NE\, Bellevue\, WA\, 98007\, United States
ATTACH;FMTTYPE=image/jpeg:https://ukesters.com/wp-content/uploads/2022/11/SilverGlen.jpg
END:VEVENT
BEGIN:VEVENT
DTSTART;TZID=America/Los_Angeles:20240315T130000
DTEND;TZID=America/Los_Angeles:20240315T143000
DTSTAMP:20260424T225028
CREATED:20240210T234101Z
LAST-MODIFIED:20240314T021450Z
UID:4108-1710507600-1710513000@ukesters.com
SUMMARY:Aloha Pō’alima - Silver Glen
DESCRIPTION:Aloha Pō’alima (Aloha Friday) is an informal gathering to focus on Hawaiian music\, language\, and culture. \nGlenn is out of town this week\, but in his absence we will carry on at this familiar location (thank you Ken!) \nPlease organize your music ahead of time using the list below\, or you can DOWNLOAD THIS PDF file for use with electronic devices. \nIf you want to print out just the list of songs\, DOWNLOAD THIS. \nSong sheets can be found on the Aloha Friday page\, or the Gig Song PDFs page. \n\nAloha Friday UKEsters\nIsland Style\nUwehe Ami Slide\nPaniolo Country\nUlupalakua\nKuhio Bay\nMakaha Moon\nI Miss You My Hawai’i\nWaikiki Hula (D)\nKaimana Hila (D)\n\nBREAK TIME \n\nHenehena Kou Aka\nModel T\nPuamana\nHele on to Kaua’i (A)\nE Kailua E (F)\nNorthshore Serenade\nStrolling on the Beach at Waikiki\nWhite Sandy Beach\nNot Pau (F)
URL:https://ukesters.com/event/aloha-poalima-silver-glen/
LOCATION:Silver Glen\, 1750 152nd Ave NE\, Bellevue\, WA\, 98007\, United States
ATTACH;FMTTYPE=image/jpeg:https://ukesters.com/wp-content/uploads/2022/06/AF.jpg
END:VEVENT
BEGIN:VEVENT
DTSTART;TZID=America/Los_Angeles:20240320T130000
DTEND;TZID=America/Los_Angeles:20240320T143000
DTSTAMP:20260424T225028
CREATED:20240219T191403Z
LAST-MODIFIED:20240219T191403Z
UID:4143-1710939600-1710945000@ukesters.com
SUMMARY:Song Circle - Silver Glen
DESCRIPTION:Song Circle is an informal gathering to sing and play together. \nIf you have not been to Silver Glen\, scroll to bottom of this page for address and a link to google maps. \nYou may park in front of any building; however\, we are meeting in building 1750. You may also park along 152nd Avenue\, as long as you park on the Highline Middle School side. The buildings are all locked\, but someone will be there (or instructions at the door) so you can be buzzed in. \nNote: Landmark to LOOK FOR when turning onto 152nd Ave off of Bel Red Road: SOKHU THAI RESTAURANT \nThis week songs may be chosen from the RED BOOK\, and/or  GIG SONGS.  \nCome prepared with a list of your favorites!
URL:https://ukesters.com/event/song-circle-silver-glen-29/
LOCATION:Silver Glen\, 1750 152nd Ave NE\, Bellevue\, WA\, 98007\, United States
ATTACH;FMTTYPE=image/jpeg:https://ukesters.com/wp-content/uploads/2022/11/SilverGlen.jpg
END:VEVENT
BEGIN:VEVENT
DTSTART;TZID=America/Los_Angeles:20240327T130000
DTEND;TZID=America/Los_Angeles:20240327T143000
DTSTAMP:20260424T225028
CREATED:20240321T192215Z
LAST-MODIFIED:20240321T192215Z
UID:4200-1711544400-1711549800@ukesters.com
SUMMARY:Song Circle - Silver Glen
DESCRIPTION:Song Circle is an informal gathering to sing and play together. \nIf you have not been to Silver Glen\, scroll to bottom of this page for address and a link to google maps. \nYou may park in front of any building; however\, we are meeting in building 1750. You may also park along 152nd Avenue\, as long as you park on the Highline Middle School side. The buildings are all locked\, but someone will be there (or instructions at the door) so you can be buzzed in. \nNote: Landmark to LOOK FOR when turning onto 152nd Ave off of Bel Red Road: SOKHU THAI RESTAURANT \nThis week song circle songs may be chosen from the  GIG SONGS and MISC SONGS. \nCome prepared with a list of your favorites!
URL:https://ukesters.com/event/song-circle-silver-glen-30/
LOCATION:Silver Glen\, 1750 152nd Ave NE\, Bellevue\, WA\, 98007\, United States
ATTACH;FMTTYPE=image/jpeg:https://ukesters.com/wp-content/uploads/2022/11/SilverGlen.jpg
END:VEVENT
BEGIN:VEVENT
DTSTART;TZID=America/Los_Angeles:20240329T130000
DTEND;TZID=America/Los_Angeles:20240329T143000
DTSTAMP:20260424T225028
CREATED:20240219T191937Z
LAST-MODIFIED:20240327T174354Z
UID:4146-1711717200-1711722600@ukesters.com
SUMMARY:Aloha Pō’alima - Hale 'o Kalena
DESCRIPTION:Aloha Pō’alima (Aloha Friday) is an informal gathering to focus on Hawaiian music\, language\, and culture. \n\nWe will be celebrating FIFTH FRIDAY and  the LAST FRIDAY of Winter! (And perhaps someone’s birthday) \nFeel free to bring a snack and/or beverage to share to help make our time extra special. \n \n\n  \n  \n  \n  \n  \n  \n  \n  \n  \n\nPlease organize your music ahead of time using the list  below\, or you can  DOWNLOAD THIS PDF file for use with electronic devices. \nSong sheets can be found on the Aloha Friday page\, or the Gig Song PDFs page. \nIf you want to print out just the list of songs\, DOWNLOAD THIS. \n\nAloha Friday UKEsters\nIsland Style\nMakaha Moon\nI Miss You My Hawai’i\nSweet Someone\nKuhio Bay\nNorthshore Serenade\nKa Pua E\nMy Yellow Ginger Lei\nWaikiki\n\nBREAK TIME \n\nBeautiful Kaua’i\nKoke’e\nMoloka’i Sweet Home\nE Hihiwai\nWahine Ilikea\nUlupalakua\nSweet Lady of Waiahole\nNoho Paipai\nKa Uluwehi O Ke Kai\nSpread A Little Aloha (G)\nNot Pau
URL:https://ukesters.com/event/aloha-poalima-hale-o-kalena-12/
LOCATION:Hale ‘o Kalena\, available by request\, Bellevue\, WA\, 98008
ATTACH;FMTTYPE=image/jpeg:https://ukesters.com/wp-content/uploads/2022/06/AF.jpg
END:VEVENT
END:VCALENDAR