BEGIN:VCALENDAR
VERSION:2.0
PRODID:-//Bellevue UKE&#039;sters - ECPv6.15.20//NONSGML v1.0//EN
CALSCALE:GREGORIAN
METHOD:PUBLISH
X-ORIGINAL-URL:https://ukesters.com
X-WR-CALDESC:Events for Bellevue UKE&#039;sters
REFRESH-INTERVAL;VALUE=DURATION:PT1H
X-Robots-Tag:noindex
X-PUBLISHED-TTL:PT1H
BEGIN:VTIMEZONE
TZID:America/Los_Angeles
BEGIN:DAYLIGHT
TZOFFSETFROM:-0800
TZOFFSETTO:-0700
TZNAME:PDT
DTSTART:20230312T100000
END:DAYLIGHT
BEGIN:STANDARD
TZOFFSETFROM:-0700
TZOFFSETTO:-0800
TZNAME:PST
DTSTART:20231105T090000
END:STANDARD
BEGIN:DAYLIGHT
TZOFFSETFROM:-0800
TZOFFSETTO:-0700
TZNAME:PDT
DTSTART:20240310T100000
END:DAYLIGHT
BEGIN:STANDARD
TZOFFSETFROM:-0700
TZOFFSETTO:-0800
TZNAME:PST
DTSTART:20241103T090000
END:STANDARD
BEGIN:DAYLIGHT
TZOFFSETFROM:-0800
TZOFFSETTO:-0700
TZNAME:PDT
DTSTART:20250309T100000
END:DAYLIGHT
BEGIN:STANDARD
TZOFFSETFROM:-0700
TZOFFSETTO:-0800
TZNAME:PST
DTSTART:20251102T090000
END:STANDARD
END:VTIMEZONE
BEGIN:VEVENT
DTSTART;TZID=America/Los_Angeles:20240403T130000
DTEND;TZID=America/Los_Angeles:20240403T143000
DTSTAMP:20260424T214112
CREATED:20240321T200856Z
LAST-MODIFIED:20240321T200856Z
UID:4204-1712149200-1712154600@ukesters.com
SUMMARY:Song Circle - Silver Glen
DESCRIPTION:Song Circle is an informal gathering to sing and play together. \nIf you have not been to Silver Glen\, scroll to bottom of this page for address and a link to google maps. \nYou may park in front of any building; however\, we are meeting in building 1750. You may also park along 152nd Avenue\, as long as you park on the Highline Middle School side. The buildings are all locked\, but someone will be there (or instructions at the door) so you can be buzzed in. \nNote: Landmark to LOOK FOR when turning onto 152nd Ave off of Bel Red Road: SOKHU THAI RESTAURANT \nThis week  song circle songs may be chosen from the TEAL BOOK\, and GIG SONGS . \nCome prepared with a list of your favorites!
URL:https://ukesters.com/event/song-circle-silver-glen-31/
LOCATION:Silver Glen\, 1750 152nd Ave NE\, Bellevue\, WA\, 98007\, United States
ATTACH;FMTTYPE=image/jpeg:https://ukesters.com/wp-content/uploads/2022/11/SilverGlen.jpg
END:VEVENT
BEGIN:VEVENT
DTSTART;TZID=America/Los_Angeles:20240405T130000
DTEND;TZID=America/Los_Angeles:20240405T143000
DTSTAMP:20260424T214112
CREATED:20240403T184001Z
LAST-MODIFIED:20240403T225812Z
UID:4235-1712322000-1712327400@ukesters.com
SUMMARY:Aloha Pō’alima - Hale 'o Kalena
DESCRIPTION:Aloha Pō’alima (Aloha Friday) is an informal gathering to focus on Hawaiian music\, language\, and culture. \nPlease organize your music ahead of time using the list  provided below\, or you can DOWNLOAD THIS PDF file for use with electronic devices. \nSong sheets can be found on the Aloha Friday page\, or the Gig Song PDFs page. \nIf you want to print out just the list of songs\, DOWNLOAD THIS. \n\n  \n\nOli Aloha\nAloha Friday UKEsters\nIsland Style\nJam Da Island\nMokihana Medley\nPaniolo Country\nKuhio Bay\nMakaha Moon\nPretty Red Hibiscus\n\nBREAK TIME \n\nE Hihiwai\nRhythm of the Ocean\nE Ku’u Morning Dew (G)\nHanalei Moon\nPua Tuberose\nMahina ‘O Hoku / Aloha Wau Ia ‘Oe Medley\nAhulili\nKa Uluwehi O Ke Kai\nNoho Paipai\nNot Pau
URL:https://ukesters.com/event/aloha-poalima-hale-o-kalena-13/
LOCATION:Hale ‘o Kalena\, available by request\, Bellevue\, WA\, 98008
ATTACH;FMTTYPE=image/jpeg:https://ukesters.com/wp-content/uploads/2022/06/AF.jpg
END:VEVENT
BEGIN:VEVENT
DTSTART;TZID=America/Los_Angeles:20240410T130000
DTEND;TZID=America/Los_Angeles:20240410T143000
DTSTAMP:20260424T214112
CREATED:20240321T201234Z
LAST-MODIFIED:20240321T201234Z
UID:4209-1712754000-1712759400@ukesters.com
SUMMARY:Song Circle - Silver Glen
DESCRIPTION:Song Circle is an informal gathering to sing and play together. \nIf you have not been to Silver Glen\, scroll to bottom of this page for address and a link to google maps. \nYou may park in front of any building; however\, we are meeting in building 1750. You may also park along 152nd Avenue\, as long as you park on the Highline Middle School side. The buildings are all locked\, but someone will be there (or instructions at the door) so you can be buzzed in. \nNote: Landmark to LOOK FOR when turning onto 152nd Ave off of Bel Red Road: SOKHU THAI RESTAURANT \n\nSongs may be chosen from the  GIG SONGS and PURPLE BOOK. \nCome prepared with a list of your  favorites!
URL:https://ukesters.com/event/song-circle-silver-glen-33/
LOCATION:Silver Glen\, 1750 152nd Ave NE\, Bellevue\, WA\, 98007\, United States
ATTACH;FMTTYPE=image/jpeg:https://ukesters.com/wp-content/uploads/2022/11/SilverGlen.jpg
END:VEVENT
BEGIN:VEVENT
DTSTART;TZID=America/Los_Angeles:20240417T130000
DTEND;TZID=America/Los_Angeles:20240417T143000
DTSTAMP:20260424T214112
CREATED:20240321T201729Z
LAST-MODIFIED:20240321T201729Z
UID:4213-1713358800-1713364200@ukesters.com
SUMMARY:Song Circle - Silver Glen
DESCRIPTION:Song Circle is an informal gathering to sing and play together. \nIf you have not been to Silver Glen\, scroll to bottom of this page for address and a link to google maps. \nYou may park in front of any building; however\, we are meeting in building 1750. You may also park along 152nd Avenue\, as long as you park on the Highline Middle School side. The buildings are all locked\, but someone will be there (or instructions at the door) so you can be buzzed in. \nNote: Landmark to LOOK FOR when turning onto 152nd Ave off of Bel Red Road: SOKHU THAI RESTAURANT \n\nThis week for song circle we will be using the  GIG SONGS and GREEN  BOOK. \nCome prepared with a list of your  favorites!
URL:https://ukesters.com/event/song-circle-silver-glen-35/
LOCATION:Silver Glen\, 1750 152nd Ave NE\, Bellevue\, WA\, 98007\, United States
ATTACH;FMTTYPE=image/jpeg:https://ukesters.com/wp-content/uploads/2022/11/SilverGlen.jpg
END:VEVENT
BEGIN:VEVENT
DTSTART;TZID=America/Los_Angeles:20240419T130000
DTEND;TZID=America/Los_Angeles:20240419T143000
DTSTAMP:20260424T214112
CREATED:20240403T184234Z
LAST-MODIFIED:20240416T211553Z
UID:4237-1713531600-1713537000@ukesters.com
SUMMARY:Aloha Pō’alima - Hale 'o Kalena
DESCRIPTION:Aloha Pō’alima (Aloha Friday) is an informal gathering to focus on Hawaiian music\, language\, and culture. \nPlease organize your music ahead of time using the list provided below\, or you can DOWNLOAD THIS PDF file for use with electronic devices. \nSong sheets can be found on the Aloha Friday page\, or the Gig Song PDFs page. \nIf you want to print out just the list of songs\, DOWNLOAD THIS.  \n\nAloha Friday UKEsters\nIsland Style\nMakaha Moon\nMokihana Medley\nPili Mau Me ‘Oe (F/G)\nKuhio Bay\nKauanoeanuhea\nWhite Sandy Beach (for hula)\nPretty Red Hibiscus\nUlili E\nStrolling on the Beach at Waikiki\n\nBREAK TIME \n\nKoke’e\nModel T\nE Hihiwai\nWahine Ilikea\nKHBC\nSweet Lady of Waiahole\nNoho Paipai\nHawai’i Aloha\nNot Pau
URL:https://ukesters.com/event/aloha-poalima-hale-o-kalena-14/
LOCATION:Hale ‘o Kalena\, available by request\, Bellevue\, WA\, 98008
ATTACH;FMTTYPE=image/jpeg:https://ukesters.com/wp-content/uploads/2022/06/AF.jpg
END:VEVENT
BEGIN:VEVENT
DTSTART;TZID=America/Los_Angeles:20240424T130000
DTEND;TZID=America/Los_Angeles:20240424T143000
DTSTAMP:20260424T214112
CREATED:20240321T202128Z
LAST-MODIFIED:20240321T202128Z
UID:4217-1713963600-1713969000@ukesters.com
SUMMARY:Song Circle - Silver Glen
DESCRIPTION:Song Circle is an informal gathering to sing and play together. \nIf you have not been to Silver Glen\, scroll to bottom of this page for address and a link to google maps. \nYou may park in front of any building; however\, we are meeting in building 1750. You may also park along 152nd Avenue\, as long as you park on the Highline Middle School side. The buildings are all locked\, but someone will be there (or instructions at the door) so you can be buzzed in. \nNote: Landmark to LOOK FOR when turning onto 152nd Ave off of Bel Red Road: SOKHU THAI RESTAURANT \nThis week songs may be chosen from the RED BOOK\, and/or  GIG SONGS.  \nCome prepared with a list of your favorites!
URL:https://ukesters.com/event/song-circle-silver-glen-37/
LOCATION:Silver Glen\, 1750 152nd Ave NE\, Bellevue\, WA\, 98007\, United States
ATTACH;FMTTYPE=image/jpeg:https://ukesters.com/wp-content/uploads/2022/11/SilverGlen.jpg
END:VEVENT
END:VCALENDAR