BEGIN:VCALENDAR
VERSION:2.0
PRODID:-//Bellevue UKE&#039;sters - ECPv6.15.20//NONSGML v1.0//EN
CALSCALE:GREGORIAN
METHOD:PUBLISH
X-WR-CALNAME:Bellevue UKE&#039;sters
X-ORIGINAL-URL:https://ukesters.com
X-WR-CALDESC:Events for Bellevue UKE&#039;sters
REFRESH-INTERVAL;VALUE=DURATION:PT1H
X-Robots-Tag:noindex
X-PUBLISHED-TTL:PT1H
BEGIN:VTIMEZONE
TZID:America/Los_Angeles
BEGIN:DAYLIGHT
TZOFFSETFROM:-0800
TZOFFSETTO:-0700
TZNAME:PDT
DTSTART:20230312T100000
END:DAYLIGHT
BEGIN:STANDARD
TZOFFSETFROM:-0700
TZOFFSETTO:-0800
TZNAME:PST
DTSTART:20231105T090000
END:STANDARD
BEGIN:DAYLIGHT
TZOFFSETFROM:-0800
TZOFFSETTO:-0700
TZNAME:PDT
DTSTART:20240310T100000
END:DAYLIGHT
BEGIN:STANDARD
TZOFFSETFROM:-0700
TZOFFSETTO:-0800
TZNAME:PST
DTSTART:20241103T090000
END:STANDARD
BEGIN:DAYLIGHT
TZOFFSETFROM:-0800
TZOFFSETTO:-0700
TZNAME:PDT
DTSTART:20250309T100000
END:DAYLIGHT
BEGIN:STANDARD
TZOFFSETFROM:-0700
TZOFFSETTO:-0800
TZNAME:PST
DTSTART:20251102T090000
END:STANDARD
END:VTIMEZONE
BEGIN:VEVENT
DTSTART;TZID=America/Los_Angeles:20240501T130000
DTEND;TZID=America/Los_Angeles:20240501T143000
DTSTAMP:20260424T202720
CREATED:20240321T202337Z
LAST-MODIFIED:20240427T230534Z
UID:4219-1714568400-1714573800@ukesters.com
SUMMARY:Song Circle - Silver Glen
DESCRIPTION:Song Circle is an informal gathering to sing and play together. \nIf you have not been to Silver Glen\, scroll to bottom of this page for address and a link to google maps. \nYou may park in front of any building; however\, we are meeting in building 1750. You may also park along 152nd Avenue\, as long as you park on the Highline Middle School side. The buildings are all locked\, but someone will be there (or instructions at the door) so you can be buzzed in. \nNote: Landmark to LOOK FOR when turning onto 152nd Ave off of Bel Red Road: SOKHU THAI RESTAURANT \nThis week song circle songs may be chosen from the  GIG SONGS and MISC SONGS. Come prepared with a list of your favorites! \nPLEASE NOTE: \nAt the top of the hour\, we will begin by playing these 6 songs in preparation for May 29th performance at Silver Glen. Have songs where you can find them on your device (or paper people have a copy) \n\nEverybody Loves a Lover (Red Supa 2005-07) pg. 55\nAt the Hop (Teal Esupa 2018) pg. 9\nWho Put the Bomp  (Gig Book)\nLion Sleeps Tonight (Gig Book)\nAin’t She Sweet (Gig Book)\nPretty Woman (Gig Book)\n\nAfter these songs\, we will proceed with our Song Circle: Miscellaneous and Gig Books.
URL:https://ukesters.com/event/song-circle-silver-glen-38/
LOCATION:Silver Glen\, 1750 152nd Ave NE\, Bellevue\, WA\, 98007\, United States
ATTACH;FMTTYPE=image/jpeg:https://ukesters.com/wp-content/uploads/2022/11/SilverGlen.jpg
END:VEVENT
BEGIN:VEVENT
DTSTART;TZID=America/Los_Angeles:20240503T130000
DTEND;TZID=America/Los_Angeles:20240503T143000
DTSTAMP:20260424T202720
CREATED:20240502T023018Z
LAST-MODIFIED:20240502T023018Z
UID:4290-1714741200-1714746600@ukesters.com
SUMMARY:Aloha Pō’alima - Hale 'o Kalena
DESCRIPTION:Aloha Pō’alima (Aloha Friday) is an informal gathering to focus on Hawaiian music\, language\, and culture. \nPlease organize your music ahead of time using the list provided below\, or you can DOWNLOAD THIS PDF file for use with electronic devices. \nSong sheets can be found on the Aloha Friday page\, or the Gig Song PDFs page. \nIf you want to print out just the list of songs\, DOWNLOAD THIS.  \n\nOli Aloha\nAloha Friday UKEsters\nIsland Style\nMokihana Medley\nMele of My Tutu E\nPaniolo Country\nMakee ‘Ailana\nKuhio Bay\nMakaha Moon\nE Hihiwai\n\nBREAK TIME \n\nJam Da Island (G)\nE Ku’u Morning Dew (G)\nSweet Someone\nPua Tuberose\nMahina ‘O Hoku / Aloha Wau Ia ‘Oe Medley\nIn Your Hawaiian Way\nKa Uluwehi O Ke Kai\nYou Ku’uipo\nNoho Paipai\nNot Pau
URL:https://ukesters.com/event/aloha-poalima-hale-o-kalena-15/
LOCATION:Hale ‘o Kalena\, available by request\, Bellevue\, WA\, 98008
ATTACH;FMTTYPE=image/jpeg:https://ukesters.com/wp-content/uploads/2022/06/AF.jpg
END:VEVENT
BEGIN:VEVENT
DTSTART;TZID=America/Los_Angeles:20240508T130000
DTEND;TZID=America/Los_Angeles:20240508T143000
DTSTAMP:20260424T202720
CREATED:20240321T201031Z
LAST-MODIFIED:20240321T201031Z
UID:4207-1715173200-1715178600@ukesters.com
SUMMARY:Song Circle - Silver Glen
DESCRIPTION:Song Circle is an informal gathering to sing and play together. \nIf you have not been to Silver Glen\, scroll to bottom of this page for address and a link to google maps. \nYou may park in front of any building; however\, we are meeting in building 1750. You may also park along 152nd Avenue\, as long as you park on the Highline Middle School side. The buildings are all locked\, but someone will be there (or instructions at the door) so you can be buzzed in. \nNote: Landmark to LOOK FOR when turning onto 152nd Ave off of Bel Red Road: SOKHU THAI RESTAURANT \nThis week  song circle songs may be chosen from the TEAL BOOK\, and GIG SONGS . \nCome prepared with a list of your favorites!
URL:https://ukesters.com/event/song-circle-silver-glen-32/
LOCATION:Silver Glen\, 1750 152nd Ave NE\, Bellevue\, WA\, 98007\, United States
ATTACH;FMTTYPE=image/jpeg:https://ukesters.com/wp-content/uploads/2022/11/SilverGlen.jpg
END:VEVENT
BEGIN:VEVENT
DTSTART;TZID=America/Los_Angeles:20240515T130000
DTEND;TZID=America/Los_Angeles:20240515T143000
DTSTAMP:20260424T202720
CREATED:20240321T201357Z
LAST-MODIFIED:20240510T225921Z
UID:4211-1715778000-1715783400@ukesters.com
SUMMARY:Song Circle - Silver Glen
DESCRIPTION:Song Circle is an informal gathering to sing and play together. \nIf you have not been to Silver Glen\, scroll to bottom of this page for address and a link to google maps. \nYou may park in front of any building; however\, we are meeting in building 1750. You may also park along 152nd Avenue\, as long as you park on the Highline Middle School side. The buildings are all locked\, but someone will be there (or instructions at the door) so you can be buzzed in. \nNote: Landmark to LOOK FOR when turning onto 152nd Ave off of Bel Red Road: SOKHU THAI RESTAURANT \n\nSongs may be chosen from the  GIG SONGS and PURPLE BOOK. \nCome prepared with a list of your  favorites! \nPLEASE NOTE: \nAt the top of the hour\, we will begin by playing these 6 songs in preparation for May 29th performance at Silver Glen. Have songs where you can find them on your device (or paper people have a copy) \n\nAin’t She Sweet\nEverybody Loves a Lover\nLion Sleeps Tonight\nPretty Woman\nSomwhere Over the Rainbow/Wonderful World\nWho Put the Bomp
URL:https://ukesters.com/event/song-circle-silver-glen-34/
LOCATION:Silver Glen\, 1750 152nd Ave NE\, Bellevue\, WA\, 98007\, United States
ATTACH;FMTTYPE=image/jpeg:https://ukesters.com/wp-content/uploads/2022/11/SilverGlen.jpg
END:VEVENT
BEGIN:VEVENT
DTSTART;TZID=America/Los_Angeles:20240517T130000
DTEND;TZID=America/Los_Angeles:20240517T143000
DTSTAMP:20260424T202720
CREATED:20240510T224708Z
LAST-MODIFIED:20240515T225531Z
UID:4313-1715950800-1715956200@ukesters.com
SUMMARY:Aloha Pō’alima - Hale 'o Kalena
DESCRIPTION:Aloha Pō’alima (Aloha Friday) is an informal gathering to focus on Hawaiian music\, language\, and culture. \nPlease organize your music ahead of time using the list provided below\, or you can DOWNLOAD THIS PDF file provided here for use with electronic devices. \nSong sheets can be found on the Aloha Friday page\, or the Gig Song PDFs page. \nIf you want to print out just the list of songs\, DOWNLOAD THIS.\n \n  \n\nAloha Friday UKEsters\nIsland Style\nMokihana Medley\nMele of My Tutu E\nPaniolo Country\nMakee Ailana\nKuhio Bay\nKu’u Home O Kahalu’u\nE Hihiwai (A)\nPua Olena\n\nBREAK TIME \n\nE Ku’u Morning Dew (G)\nKauoha Mai (Keyhole Hula)\nPua Tuberose\nNorthshore Serenade\nBlue Hawaiian Moonlight\nMalie’s Song (A)\nHe Hawaii Au\nNoho Paipai\nNot Pau
URL:https://ukesters.com/event/aloha-poalima-hale-o-kalena-16/
LOCATION:Hale ‘o Kalena\, available by request\, Bellevue\, WA\, 98008
ATTACH;FMTTYPE=image/jpeg:https://ukesters.com/wp-content/uploads/2022/06/AF.jpg
END:VEVENT
BEGIN:VEVENT
DTSTART;TZID=America/Los_Angeles:20240522T130000
DTEND;TZID=America/Los_Angeles:20240522T143000
DTSTAMP:20260424T202720
CREATED:20240321T201851Z
LAST-MODIFIED:20240517T024502Z
UID:4215-1716382800-1716388200@ukesters.com
SUMMARY:Song Circle - Silver Glen
DESCRIPTION:Song Circle is an informal gathering to sing and play together. \nIf you have not been to Silver Glen\, scroll to bottom of this page for address and a link to google maps. You may park in front of any building; however\, we are meeting in building 1750. You may also park along 152nd Avenue\, as long as you park on the Highline Middle School side. The buildings are all locked\, but someone will be there (or instructions at the door) so you can be buzzed in. \nNote: Landmark to LOOK FOR when turning onto 152nd Ave off of Bel Red Road: SOKHU THAI RESTAURANT \n\n***   ***   ***   ***   ******   ***   ***   ***   *** \nPLEASE NOTE: \nAt the top of the hour\, we will begin by playing through the set list for the May 29th performance at Silver Glen. This is our last rehearsal! \nIf you use paper copies\, please have songs ready per this SET LIST. If you are using an electronic device\, DOWNLOAD THIS PDF to use. \nThree songs have been modified with notes or changes for use JUST FOR THIS performance – links to those songs are provided below: \nThe Hukilau Song \nPearly Shells \nSomewhere Over the Rainbow/Wonderful World \n\n***   ***   ***   ***   ***   ***   ***   ***   ***   ***   *** \nDepending on how much time is left\, song circle will proceed using the  GIG SONGS and GREEN  BOOK. \nCome prepared with a list of your  favorites!
URL:https://ukesters.com/event/song-circle-silver-glen-36/
LOCATION:Silver Glen\, 1750 152nd Ave NE\, Bellevue\, WA\, 98007\, United States
ATTACH;FMTTYPE=image/jpeg:https://ukesters.com/wp-content/uploads/2022/11/SilverGlen.jpg
END:VEVENT
BEGIN:VEVENT
DTSTART;TZID=America/Los_Angeles:20240529T130000
DTEND;TZID=America/Los_Angeles:20240529T150000
DTSTAMP:20260424T202720
CREATED:20240427T225937Z
LAST-MODIFIED:20240525T200655Z
UID:4272-1716987600-1716994800@ukesters.com
SUMMARY:Song Circle & Performance - Silver Glen
DESCRIPTION:This week we will invite residents of Silver Glen to sit in and sing along! \nNOTE: We will gather at 1:00pm as usual\, but our “performance” will be from 2:00 to 3:00pm. \nThis session is a performance to THANK SILVER GLEN for allowing us to gather in the facility every Wednesday. \nPLEASE NOTE: \nAt 1:00 pm we will take our places on stage and run through a few songs. We expect residents to start trickling in any time after 1:30. \nIf you use paper copies\, please have songs ready per this SET LIST. If you are using an electronic device\, DOWNLOAD THIS PDF to use. \nThe notes on three songs have CHANGED since last week – links to those songs are provided below: \nThe Hukilau Song \nPearly Shells \nEverybody Loves a Lover \nPlus a typo was corrected on My Little Grass Shack \n 
URL:https://ukesters.com/event/song-circle-silver-glen-39/
LOCATION:Silver Glen\, 1750 152nd Ave NE\, Bellevue\, WA\, 98007\, United States
ATTACH;FMTTYPE=image/jpeg:https://ukesters.com/wp-content/uploads/2022/11/SilverGlen.jpg
END:VEVENT
BEGIN:VEVENT
DTSTART;TZID=America/Los_Angeles:20240531T130000
DTEND;TZID=America/Los_Angeles:20240531T143000
DTSTAMP:20260424T202720
CREATED:20240510T225125Z
LAST-MODIFIED:20240530T152014Z
UID:4315-1717160400-1717165800@ukesters.com
SUMMARY:Aloha Pō’alima - Hale 'o Kalena
DESCRIPTION:Aloha Pō’alima (Aloha Friday) is an informal gathering to focus on Hawaiian music\, language\, and culture. \nWe will be celebrating FIFTH FRIDAY! \nFeel free to bring a snack and/or beverage to share to help make our time extra special. \n \n  \nPlease organize your music ahead of time using the list provided below\, or you can DOWNLOAD THIS PDF file that we will provide here for use with electronic devices. \nSong sheets can be found on the Aloha Friday page\, or the Gig Song PDFs page. \nIf you want to print out just the list of songs\, DOWNLOAD THIS. \nHapa Haʻole Aloha Pōʻalima! \n\nAloha Friday UKEʻsters\nIsland Style\nUwehe Ami & Slide\nMele of My Tutu E\nPaniolo County\nPretty Red Hibiscus\nMy Sweet Gardenia Lei\nKu’u Home O Kahalu’u\nKa Pua E\nLahaina Luna\nI’ll Remember You\n\nBREAK TIME \n\nIn Your Hawaiian Way\nHanalei Moon\nNorthshore Serenade\nBlue Hawaiian Moonlight\nBlue Hawaii (G)\nMy Yellow Ginger Lei\nYou Ku’u Ipo\nNot Pau
URL:https://ukesters.com/event/aloha-poalima-hale-o-kalena-17/
LOCATION:Hale ‘o Kalena\, available by request\, Bellevue\, WA\, 98008
ATTACH;FMTTYPE=image/jpeg:https://ukesters.com/wp-content/uploads/2022/06/AF.jpg
END:VEVENT
END:VCALENDAR