BEGIN:VCALENDAR
VERSION:2.0
PRODID:-//Bellevue UKE&#039;sters - ECPv6.15.20//NONSGML v1.0//EN
CALSCALE:GREGORIAN
METHOD:PUBLISH
X-ORIGINAL-URL:https://ukesters.com
X-WR-CALDESC:Events for Bellevue UKE&#039;sters
REFRESH-INTERVAL;VALUE=DURATION:PT1H
X-Robots-Tag:noindex
X-PUBLISHED-TTL:PT1H
BEGIN:VTIMEZONE
TZID:America/Los_Angeles
BEGIN:DAYLIGHT
TZOFFSETFROM:-0800
TZOFFSETTO:-0700
TZNAME:PDT
DTSTART:20230312T100000
END:DAYLIGHT
BEGIN:STANDARD
TZOFFSETFROM:-0700
TZOFFSETTO:-0800
TZNAME:PST
DTSTART:20231105T090000
END:STANDARD
BEGIN:DAYLIGHT
TZOFFSETFROM:-0800
TZOFFSETTO:-0700
TZNAME:PDT
DTSTART:20240310T100000
END:DAYLIGHT
BEGIN:STANDARD
TZOFFSETFROM:-0700
TZOFFSETTO:-0800
TZNAME:PST
DTSTART:20241103T090000
END:STANDARD
BEGIN:DAYLIGHT
TZOFFSETFROM:-0800
TZOFFSETTO:-0700
TZNAME:PDT
DTSTART:20250309T100000
END:DAYLIGHT
BEGIN:STANDARD
TZOFFSETFROM:-0700
TZOFFSETTO:-0800
TZNAME:PST
DTSTART:20251102T090000
END:STANDARD
END:VTIMEZONE
BEGIN:VEVENT
DTSTART;TZID=America/Los_Angeles:20240802T130000
DTEND;TZID=America/Los_Angeles:20240802T143000
DTSTAMP:20260424T164120
CREATED:20240706T183601Z
LAST-MODIFIED:20240731T232400Z
UID:4454-1722603600-1722609000@ukesters.com
SUMMARY:Aloha Pō’alima - Hale 'o Kalena
DESCRIPTION:Aloha Pō’alima (Aloha Friday) is an informal gathering to focus on Hawaiian music\, language\, and culture. \nPlease organize your music ahead of time using the list provided below\, or you can DOWNLOAD THIS PDF file for use with electronic devices. \nSong sheets can be found on the Aloha Friday page\, or the Gig Song PDFs page. \nIf you want to print out just the list of songs\, DOWNLOAD THIS. \n\nOli Aloha\nAloha Friday UKEʻsters\nSpread A Little Aloha\nMakee ‘Ailana\nHaleakala\nMaika’i No Kaua’i\nKuhio Bay\nMokihana Medley\nKu’u Home O Kahalu’u\nKoke’e\nStrolling on the Beach at Waikiki\n\nBREAK TIME \n\nE Kailua E\nE Hihiwai\nSurf\nMakaha Moon\nKamalani\nKauoha Mai (Keyhole hula)\nMy Yellow Ginger Lei\nNoho Paipai\nNot Pau
URL:https://ukesters.com/event/aloha-poalima-hale-o-kalena-22/
LOCATION:Hale ‘o Kalena\, available by request\, Bellevue\, WA\, 98008
ATTACH;FMTTYPE=image/jpeg:https://ukesters.com/wp-content/uploads/2022/06/AF.jpg
END:VEVENT
BEGIN:VEVENT
DTSTART;TZID=America/Los_Angeles:20240807T130000
DTEND;TZID=America/Los_Angeles:20240807T143000
DTSTAMP:20260424T164120
CREATED:20240711T203026Z
LAST-MODIFIED:20240803T214645Z
UID:4471-1723035600-1723041000@ukesters.com
SUMMARY:Song Circle - Silver Glen
DESCRIPTION:Song Circle is an informal gathering to sing and play together. \nIf you have not been to Silver Glen\, scroll to bottom of this page for address and a link to google maps. You may park in front of any building; however\, we are meeting in building 1750. You may also park along 152nd Avenue\, as long as you park on the Highline Middle School side. The buildings are all locked\, but someone will be there (or instructions at the door) so you can be buzzed in. \nNote: Landmark to LOOK FOR when turning onto 152nd Ave off of Bel Red Road: SOKHU THAI RESTAURANT \n\nThis month we continue to refresh gig songs in preparation for Bellevue Farmers Market gig. \nTo practice the songs we have selected for this gig\, We have compiled all the possibilities into a single file\, that you can DOWNLOAD HERE  \nIf you are using paper music\, and only want to print out the list of songs\, DOWNLOAD THIS. \nAfter that\, depending on how much time is left\, song circle will proceed using  the  PURPLE BOOK and/or  GIG SONGS.  \nCome prepared with a list of your  favorites!
URL:https://ukesters.com/event/4471/
LOCATION:Silver Glen\, 1750 152nd Ave NE\, Bellevue\, WA\, 98007\, United States
ATTACH;FMTTYPE=image/jpeg:https://ukesters.com/wp-content/uploads/2022/11/SilverGlen.jpg
END:VEVENT
BEGIN:VEVENT
DTSTART;TZID=America/Los_Angeles:20240814T130000
DTEND;TZID=America/Los_Angeles:20240814T143000
DTSTAMP:20260424T164120
CREATED:20240711T203236Z
LAST-MODIFIED:20240812T174945Z
UID:4473-1723640400-1723645800@ukesters.com
SUMMARY:Song Circle - Silver Glen
DESCRIPTION:Song Circle is an informal gathering to sing and play together. \nIf you have not been to Silver Glen\, scroll to bottom of this page for address and a link to google maps. You may park in front of any building; however\, we are meeting in building 1750. You may also park along 152nd Avenue\, as long as you park on the Highline Middle School side. The buildings are all locked\, but someone will be there (or instructions at the door) so you can be buzzed in. \nNote: Landmark to LOOK FOR when turning onto 152nd Ave off of Bel Red Road: SOKHU THAI RESTAURANT \n\nThis month we continue to refresh gig songs in preparation for Bellevue Farmers Market gig. \nTo practice the songs we have selected for this gig\, We have compiled all the possibilities into a single file (this is same file as last week)\, that you can DOWNLOAD HERE  \nIf you are using paper music\, and only want to print out the list of songs\, DOWNLOAD THIS. \nAfter that\, depending on how much time is left\, song circle will proceed using the GREEN BOOK and/or  GIG SONGS.  \nCome prepared with a list of your  favorites!
URL:https://ukesters.com/event/song-circle-silver-glen-49/
LOCATION:Silver Glen\, 1750 152nd Ave NE\, Bellevue\, WA\, 98007\, United States
ATTACH;FMTTYPE=image/jpeg:https://ukesters.com/wp-content/uploads/2022/11/SilverGlen.jpg
END:VEVENT
BEGIN:VEVENT
DTSTART;TZID=America/Los_Angeles:20240816T130000
DTEND;TZID=America/Los_Angeles:20240816T143000
DTSTAMP:20260424T164120
CREATED:20240706T183731Z
LAST-MODIFIED:20240814T151354Z
UID:4456-1723813200-1723818600@ukesters.com
SUMMARY:Aloha Pō’alima - Hale 'o Kalena
DESCRIPTION:Aloha Pō’alima (Aloha Friday) is an informal gathering to focus on Hawaiian music\, language\, and culture. \nPlease organize your music ahead of time using the list provided below\, or you can DOWNLOAD THIS PDF FILE for use with electronic devices. \nSong sheets can be found on the Aloha Friday page\, or the Gig Song PDFs page. \nIf you want to print out just the list of songs\, DOWNLOAD THIS. \n\nAloha Friday UKEʻsters\nIsland Style\nMaika’i No Kaua’i\nMakee ‘Ailana\nHaleakala\nKuhio Bay\nMakaha Moon\nUwehe Ami and Slide\nMahina ‘O Hoku Aloha Wau Medley\nE Hihiwai\n\nBREAK TIME \n\nIn a Little Hula Heaven\nNorthshore Serenade\nHenehene Kou ‘Aka\nMoloka’i Sweet Home\nE Nani E\nKauoha Mai (Keyhole hula)\nNoho Paipai\nMy Yellow Ginger Lei\nHawai’i Aloha\nNot Pau
URL:https://ukesters.com/event/aloha-poalima-hale-o-kalena-23/
LOCATION:Hale ‘o Kalena\, available by request\, Bellevue\, WA\, 98008
ATTACH;FMTTYPE=image/jpeg:https://ukesters.com/wp-content/uploads/2022/06/AF.jpg
END:VEVENT
BEGIN:VEVENT
DTSTART;TZID=America/Los_Angeles:20240821T130000
DTEND;TZID=America/Los_Angeles:20240821T143000
DTSTAMP:20260424T164120
CREATED:20240627T153227Z
LAST-MODIFIED:20240821T034237Z
UID:4425-1724245200-1724250600@ukesters.com
SUMMARY:Song Circle  - Silver Glenn (regular time)
DESCRIPTION:Aljoya Happy Hour was CANCELLED due to inclement weather. \nPLEASE  NOTE: We will be back at Silver Glen at our REGULAR TIME (1:00-2:30pm) \nWe will continue to refresh gig songs in preparation for Bellevue Farmers Market gig. \nA NEW PRACTICE PDF is going to be used  – you can DOWNLOAD IT HERE  \nIf you are using paper music\, and only want to print out the list of songs\, DOWNLOAD THIS. \nAfter that\, depending on how much time is left\, we will continue with a regular song circle. \nSong circle tunes can be chosen from the RED BOOK\, and/or  GIG SONGS.
URL:https://ukesters.com/event/song-circle-happy-hour-aljoya/
LOCATION:Silver Glen\, 1750 152nd Ave NE\, Bellevue\, WA\, 98007\, United States
ATTACH;FMTTYPE=image/jpeg:https://ukesters.com/wp-content/uploads/2022/11/SilverGlen.jpg
END:VEVENT
BEGIN:VEVENT
DTSTART;TZID=America/Los_Angeles:20240828T130000
DTEND;TZID=America/Los_Angeles:20240828T143000
DTSTAMP:20260424T164120
CREATED:20240706T182906Z
LAST-MODIFIED:20240826T030847Z
UID:4448-1724850000-1724855400@ukesters.com
SUMMARY:Song Circle - Silver Glen
DESCRIPTION:Song Circle is an informal gathering to sing and play together. \nIf you have not been to Silver Glen\, scroll to bottom of this page for address and a link to google maps. You may park in front of any building; however\, we are meeting in building 1750. You may also park along 152nd Avenue\, as long as you park on the Highline Middle School side. The buildings are all locked\, but someone will be there (or instructions at the door) so you can be buzzed in. \nNote: Landmark to LOOK FOR when turning onto 152nd Ave off of Bel Red Road: SOKHU THAI RESTAURANT \n\nThis month we continue to refresh gig songs in preparation for Bellevue Farmers Market gig. \nANOTHER NEW PRACTICE PDF has been created – it can be DOWNLOADED HERE. \nAfter that\, depending on how much time is left\, song circle will proceed using  MISC SONGS  and/or  GIG SONGS.  \nCome prepared with a list of your  favorites!
URL:https://ukesters.com/event/song-circle-silver-glen-47/
LOCATION:Silver Glen\, 1750 152nd Ave NE\, Bellevue\, WA\, 98007\, United States
ATTACH;FMTTYPE=image/jpeg:https://ukesters.com/wp-content/uploads/2022/11/SilverGlen.jpg
END:VEVENT
BEGIN:VEVENT
DTSTART;TZID=America/Los_Angeles:20240830T130000
DTEND;TZID=America/Los_Angeles:20240830T143000
DTSTAMP:20260424T164120
CREATED:20240711T204027Z
LAST-MODIFIED:20240828T022517Z
UID:4478-1725022800-1725028200@ukesters.com
SUMMARY:Aloha Pō’alima - Hale 'o Kalena
DESCRIPTION:Aloha Pō’alima (Aloha Friday) is an informal gathering to focus on Hawaiian music\, language\, and culture. \nJoin us this week for Hapa Haole Fifth Friday! Feel free to being a snack or beverage to share. \n \nOrganize your music ahead of time using the list provided below\, or you can DOWNLOAD THIS PDF file we will provide here for use with electronic devices. \nSong sheets can be found on the Aloha Friday page\, or the Gig Song PDFs page. \nIf you want to print out just the list of songs\, DOWNLOAD THIS. \n\nAloha Friday UKEʻsters\nIsland Style\nUwehe\, Ami and Slide\nMele of my Tutu E\nPaniolo Country\nPretty Red Hibiscus\nMy Sweet Gardenia Lei\nJam Da Island\nKu’u Home ’O Kahalu’u\nKa Pua E\n\nBREAK TIME \n\nLahaina Luna\nI’ll Remember You\nIn Your Hawaiian Way\nHanalei Moon\nNorthshore Serenade\nBlue Hawaiian Moonlight\nMakaha Moon\nMy Yellow Ginger Lei\nNot Pau
URL:https://ukesters.com/event/aloha-poalima-hale-o-kalena-24/
LOCATION:Hale ‘o Kalena\, available by request\, Bellevue\, WA\, 98008
ATTACH;FMTTYPE=image/jpeg:https://ukesters.com/wp-content/uploads/2022/06/AF.jpg
END:VEVENT
END:VCALENDAR