BEGIN:VCALENDAR
VERSION:2.0
PRODID:-//Bellevue UKE&#039;sters - ECPv6.15.20//NONSGML v1.0//EN
CALSCALE:GREGORIAN
METHOD:PUBLISH
X-WR-CALNAME:Bellevue UKE&#039;sters
X-ORIGINAL-URL:https://ukesters.com
X-WR-CALDESC:Events for Bellevue UKE&#039;sters
REFRESH-INTERVAL;VALUE=DURATION:PT1H
X-Robots-Tag:noindex
X-PUBLISHED-TTL:PT1H
BEGIN:VTIMEZONE
TZID:America/Los_Angeles
BEGIN:DAYLIGHT
TZOFFSETFROM:-0800
TZOFFSETTO:-0700
TZNAME:PDT
DTSTART:20230312T100000
END:DAYLIGHT
BEGIN:STANDARD
TZOFFSETFROM:-0700
TZOFFSETTO:-0800
TZNAME:PST
DTSTART:20231105T090000
END:STANDARD
BEGIN:DAYLIGHT
TZOFFSETFROM:-0800
TZOFFSETTO:-0700
TZNAME:PDT
DTSTART:20240310T100000
END:DAYLIGHT
BEGIN:STANDARD
TZOFFSETFROM:-0700
TZOFFSETTO:-0800
TZNAME:PST
DTSTART:20241103T090000
END:STANDARD
BEGIN:DAYLIGHT
TZOFFSETFROM:-0800
TZOFFSETTO:-0700
TZNAME:PDT
DTSTART:20250309T100000
END:DAYLIGHT
BEGIN:STANDARD
TZOFFSETFROM:-0700
TZOFFSETTO:-0800
TZNAME:PST
DTSTART:20251102T090000
END:STANDARD
END:VTIMEZONE
BEGIN:VEVENT
DTSTART;TZID=America/Los_Angeles:20240904T130000
DTEND;TZID=America/Los_Angeles:20240904T143000
DTSTAMP:20260424T153201
CREATED:20240826T184725Z
LAST-MODIFIED:20240829T154907Z
UID:4567-1725454800-1725460200@ukesters.com
SUMMARY:Song Circle - Silver Glen
DESCRIPTION:Song Circle is an informal gathering to sing and play together. \nIf you have not been to Silver Glen\, scroll to bottom of this page for address and a link to google maps. \nWe are meeting in building 1750. You may park along 152nd Avenue\, as long as you park on the Highline Middle School side\, or in front of any building in the complex. The buildings are all locked\, but someone will be there (or instructions at the door) so you can be buzzed in. \nNote: Landmark to LOOK FOR when turning onto 152nd Ave off of Bel Red Road: SOKHU THAI RESTAURANT \nWe continue practicing for upcoming gigs. First we will go through the Newcastle Days set\, and a few of the Bellevue Farmers Market songs. \nFor the PDF to use with electronic devices for Newcastle Days\, DOWNLOAD THIS. \nFor the PDF to use wth electronic devices for Bellevue Farmer’s Market\, DOWNLOAD THIS \nIf you want to print out just the song lists for the gigs\, here they are: Newcastle Days  and Bellevue Farmer’s Market \nAfter that\, if time we will do a song circle.  Songs may be chosen from the TEAL BOOK\, and GIG SONGS . \n\n\n\n\n\n\n\n\n 
URL:https://ukesters.com/event/song-circle-silver-glen-50/
LOCATION:Silver Glen\, 1750 152nd Ave NE\, Bellevue\, WA\, 98007\, United States
ATTACH;FMTTYPE=image/jpeg:https://ukesters.com/wp-content/uploads/2022/11/SilverGlen.jpg
END:VEVENT
BEGIN:VEVENT
DTSTART;TZID=America/Los_Angeles:20240906T130000
DTEND;TZID=America/Los_Angeles:20240906T143000
DTSTAMP:20260424T153201
CREATED:20240826T224936Z
LAST-MODIFIED:20240905T215654Z
UID:4571-1725627600-1725633000@ukesters.com
SUMMARY:Aloha Pō’alima - Hale 'o Kalena
DESCRIPTION:Aloha Pō’alima (Aloha Friday) is an informal gathering to focus on Hawaiian music\, language\, and culture. \nPlease organize your music ahead of time using the list below\, or you can DOWNLOAD THIS PDF file for use with electronic devices. \nSong sheets can be found on the Aloha Friday page\, or the Gig Song PDFs page. \nIf you want to print out just the list of songs\, DOWNLOAD THIS. \n\nOli Aloha\nAloha Friday UKEʻsters\nTewetewe (Sep)\nMakee ‘Ailana\nHaleakala (2024June)\nMaikaʻi No Kauaʻi (Aug)\nKuhio Bay (NOTE: new version that has a modulation)\nMokihana Medley\nWaikiki Hula\nKokeʻe\nGreen Rose Hula (A)\n\nBREAK TIME \n\nE Kailua E\nE Hihiwai\nMele Tutu E\nMakaha Moon\nKamalani\nAhulili\nUlili E\nNoho Paipai\nNot Pau\n\n 
URL:https://ukesters.com/event/aloha-poalima-hale-o-kalena-25/
LOCATION:Hale ‘o Kalena\, available by request\, Bellevue\, WA\, 98008
ATTACH;FMTTYPE=image/jpeg:https://ukesters.com/wp-content/uploads/2022/06/AF.jpg
END:VEVENT
BEGIN:VEVENT
DTSTART;TZID=America/Los_Angeles:20240907T140000
DTEND;TZID=America/Los_Angeles:20240907T160000
DTSTAMP:20260424T153201
CREATED:20240823T230244Z
LAST-MODIFIED:20240905T144405Z
UID:4545-1725717600-1725724800@ukesters.com
SUMMARY:Newcastle Days - Gig
DESCRIPTION:Come join us to help Newcastle celebrate NEWCASTLE DAYS!\n\nPlace: Lake Boren Park 13058 SE 84th Way\, Newcastle\, WA 98056\n\nDate: September 7\, 2024\n\nCall Time and Place: 2:25 behind the stage. It should be very easy to find.\n\nAdditional details about event can be found on the NEWCASTLE DAYS website.\n\n\n\n\n\n\nPlease organize your  music ahead of time using the list below. \nOr\, you can DOWNLOAD THIS UPDATED PDF to use with electronic devices.. \nIf you want to print out a copy of the set list\, download this. \nGig Set: \n\nThis Magic Moment\nMy Girl\nPretty Woman\nThe Letter\nUnder the Boardwalk\nOctopus’ Garden\nCount on Me\nDon’t Worry Be Happy\nRainbow Connection\nSomewhere Over the Rainbow/Wonderful World\n\nExtra (if needed): \n\nPearly Shells\nHukilau Song\nHanalei Moon\n\n  \n  \nAttire: Bright colors or Aloha shirts \nCheck-in time for entire group at the tent (left of stage): 2:35pm \nPerformance time: 3:00 – 3:45 (includes set-up) \nChanging tent for personal items will be located right of the stage. \nParking in a lot behind the Park and on the street. The main lot is for ADA and drop-offs. \nWe will have to plan and rehearse our set up so everyone knows where to go on stage. The park will have chairs available.
URL:https://ukesters.com/event/newcastle-days-gig/
LOCATION:Lake Boren Park\, 13058 SE 84th Way\, Newcastle\, WA\, 98056
ATTACH;FMTTYPE=image/jpeg:https://ukesters.com/wp-content/uploads/2024/08/NewcastleDays.jpg
END:VEVENT
BEGIN:VEVENT
DTSTART;TZID=America/Los_Angeles:20240911T130000
DTEND;TZID=America/Los_Angeles:20240911T143000
DTSTAMP:20260424T153201
CREATED:20240827T173122Z
LAST-MODIFIED:20240905T235150Z
UID:4584-1726059600-1726065000@ukesters.com
SUMMARY:Gig Practice - Silver Glen
DESCRIPTION:If you have not been to Silver Glen\, scroll to bottom of this page for address and a link to google maps. \nWe are meeting in building 1750. You may park along 152nd Avenue\, as long as you park on the Highline Middle School side\, or in front of any building in the complex. The buildings are all locked\, but someone will be there (or instructions at the door) so you can be buzzed in. \nNote: Landmark to LOOK FOR when turning onto 152nd Ave off of Bel Red Road: SOKHU THAI RESTAURANT \nIn the interest of upcoming gigs this session will be practice for the Bellevue Farmer’s Market. No song circle today. \nPlease organize your music per the set list\, which you can DOWNLOAD HERE. \nA single PDF of the set list for use with electronic devices can be DOWNLOADED HERE (it’s the same PDF we used on 9/4\, so maybe you already have it). \nSee you there! \n 
URL:https://ukesters.com/event/gig-practice-silver-glen/
LOCATION:Silver Glen\, 1750 152nd Ave NE\, Bellevue\, WA\, 98007\, United States
ATTACH;FMTTYPE=image/jpeg:https://ukesters.com/wp-content/uploads/2022/11/SilverGlen.jpg
END:VEVENT
BEGIN:VEVENT
DTSTART;TZID=America/Los_Angeles:20240918T130000
DTEND;TZID=America/Los_Angeles:20240918T143000
DTSTAMP:20260424T153201
CREATED:20240827T173757Z
LAST-MODIFIED:20240914T175058Z
UID:4587-1726664400-1726669800@ukesters.com
SUMMARY:Song Circle - Silver Glen
DESCRIPTION:Song Circle is an informal gathering to sing and play together. \nIf you have not been to Silver Glen\, scroll to bottom of this page for address and a link to google maps. \nWe are meeting in building 1750. You may park along 152nd Avenue\, as long as you park on the Highline Middle School side. The buildings are all locked\, but someone will be there (or instructions at the door) so you can be buzzed in. \nNote: Landmark to LOOK FOR when turning onto 152nd Ave off of Bel Red Road: SOKHU THAI RESTAURANT \nThis session will be practice for the Bellevue Farmer’s Market\, and review the gig seating list. \nPlease organize your music per the set list\, which you can  DOWNLOAD HERE. \nA single PDF of the set list for use with electronic devices can be DOWNLOADED HERE. \n 
URL:https://ukesters.com/event/song-circle-silver-glen-51/
LOCATION:Silver Glen\, 1750 152nd Ave NE\, Bellevue\, WA\, 98007\, United States
ATTACH;FMTTYPE=image/jpeg:https://ukesters.com/wp-content/uploads/2022/11/SilverGlen.jpg
END:VEVENT
BEGIN:VEVENT
DTSTART;TZID=America/Los_Angeles:20240919T150000
DTEND;TZID=America/Los_Angeles:20240919T170000
DTSTAMP:20260424T153201
CREATED:20240525T201243Z
LAST-MODIFIED:20240919T154351Z
UID:4358-1726758000-1726765200@ukesters.com
SUMMARY:Bellevue Farmer's Market (Gig)
DESCRIPTION:The UKE’sters will be strumming and singing while people are strolling and shopping at the Bellevue Farmers Market. \nPlease arrive by 2:30pm.  The market opens at 3pm. We will play between 3:00 and 5:00pm. Wear colorful attire! \nIf you are going to be seated during the performance\, please bring a chair. \nFree Parking on premise. (First Presbyterian Church of Bellevue\, address provided below). \nPlease organize your music per the set list\, which you can  DOWNLOAD HERE. \nA single PDF of the set list for use with electronic devices can be DOWNLOADED HERE.
URL:https://ukesters.com/event/bellevue-farmers-market-gig-3/
LOCATION:Bellevue Farmers Market\, 1717 Bellevue Way NE\, Bellevue\, WA\, 98004\, United States
ATTACH;FMTTYPE=image/png:https://ukesters.com/wp-content/uploads/2022/06/BFM-Main-Logo.png
END:VEVENT
BEGIN:VEVENT
DTSTART;TZID=America/Los_Angeles:20240920T130000
DTEND;TZID=America/Los_Angeles:20240920T143000
DTSTAMP:20260424T153201
CREATED:20240826T225114Z
LAST-MODIFIED:20240920T153218Z
UID:4575-1726837200-1726842600@ukesters.com
SUMMARY:Aloha Pō’alima - Hale 'o Kalena
DESCRIPTION:Aloha Pō’alima (Aloha Friday) is an informal gathering to focus on Hawaiian music\, language\, and culture. \nPlease organize your music ahead of time using the list below\, or you can DOWNLOAD THIS PDF FILE for use with electronic devices. \nSong sheets can be found on the Aloha Friday page\, or the Gig Song PDFs page. \nIf you want to print out just the list of songs\, DOWNLOAD THIS. \nPLEASE NOTE: NEW VERSIONS OF SONGS ARE SHOWN IN BOLD FONT BELOW. \n\nAloha Friday UKEʻsters\nTewetewe (17SEP24)\nMakee ‘Ailana\nHaleakalā (19SEP24)\nMaikaʻi No Kauaʻi (6SEP24)\nKuhio Bay (with F-G-A modulation 12SEP24)\nMokihana Medley\nWaikiki Hula\nUwehe Ami & Slide\nHenehene Kou ‘Aka\nE Kailua E\n\nBREAK TIME \n\nI Miss You My Hawai’i\nMele Tutu E\nMakaha Moon\nPaniolo Country\nHula Breeze\nJust Hange Loose\nNoho Paipai\nI’ll Remember You\nNot Pau
URL:https://ukesters.com/event/aloha-poalima-hale-o-kalena-26/
LOCATION:Hale ‘o Kalena\, available by request\, Bellevue\, WA\, 98008
ATTACH;FMTTYPE=image/jpeg:https://ukesters.com/wp-content/uploads/2022/06/AF.jpg
END:VEVENT
BEGIN:VEVENT
DTSTART;TZID=America/Los_Angeles:20240925T130000
DTEND;TZID=America/Los_Angeles:20240925T143000
DTSTAMP:20260424T153201
CREATED:20240827T174628Z
LAST-MODIFIED:20240914T180314Z
UID:4591-1727269200-1727274600@ukesters.com
SUMMARY:Song Circle - Silver Glen
DESCRIPTION:Song Circle is an informal gathering to sing and play together. \nIf you have not been to Silver Glen\, scroll to bottom of this page for address and a link to google maps. \nWe are meeting in building 1750. You may park along 152nd Avenue\, as long as you park on the Highline Middle School side. The buildings are all locked\, but someone will be there (or instructions at the door) so you can be buzzed in. \nNote: Landmark to LOOK FOR when turning onto 152nd Ave off of Bel Red Road: SOKHU THAI RESTAURANT \nThis week songs can be picked from  the PURPLE BOOK or the GIG SONGS  \nCome prepared with a list of your favorites!
URL:https://ukesters.com/event/song-circle-silver-glen-52/
LOCATION:Silver Glen\, 1750 152nd Ave NE\, Bellevue\, WA\, 98007\, United States
ATTACH;FMTTYPE=image/jpeg:https://ukesters.com/wp-content/uploads/2022/11/SilverGlen.jpg
END:VEVENT
END:VCALENDAR