BEGIN:VCALENDAR
VERSION:2.0
PRODID:-//Bellevue UKE&#039;sters - ECPv6.15.20//NONSGML v1.0//EN
CALSCALE:GREGORIAN
METHOD:PUBLISH
X-ORIGINAL-URL:https://ukesters.com
X-WR-CALDESC:Events for Bellevue UKE&#039;sters
REFRESH-INTERVAL;VALUE=DURATION:PT1H
X-Robots-Tag:noindex
X-PUBLISHED-TTL:PT1H
BEGIN:VTIMEZONE
TZID:America/Los_Angeles
BEGIN:DAYLIGHT
TZOFFSETFROM:-0800
TZOFFSETTO:-0700
TZNAME:PDT
DTSTART:20230312T100000
END:DAYLIGHT
BEGIN:STANDARD
TZOFFSETFROM:-0700
TZOFFSETTO:-0800
TZNAME:PST
DTSTART:20231105T090000
END:STANDARD
BEGIN:DAYLIGHT
TZOFFSETFROM:-0800
TZOFFSETTO:-0700
TZNAME:PDT
DTSTART:20240310T100000
END:DAYLIGHT
BEGIN:STANDARD
TZOFFSETFROM:-0700
TZOFFSETTO:-0800
TZNAME:PST
DTSTART:20241103T090000
END:STANDARD
BEGIN:DAYLIGHT
TZOFFSETFROM:-0800
TZOFFSETTO:-0700
TZNAME:PDT
DTSTART:20250309T100000
END:DAYLIGHT
BEGIN:STANDARD
TZOFFSETFROM:-0700
TZOFFSETTO:-0800
TZNAME:PST
DTSTART:20251102T090000
END:STANDARD
END:VTIMEZONE
BEGIN:VEVENT
DTSTART;TZID=America/Los_Angeles:20241002T130000
DTEND;TZID=America/Los_Angeles:20241002T143000
DTSTAMP:20260424T141550
CREATED:20240914T180045Z
LAST-MODIFIED:20240927T170657Z
UID:4649-1727874000-1727879400@ukesters.com
SUMMARY:Song Circle - Silver Glen
DESCRIPTION:Song Circle is an informal gathering to sing and play together. \nIf you have not been to Silver Glen\, scroll to bottom of this page for address and a link to google maps. \nWe are meeting in building 1750. You may park along 152nd Avenue\, as long as you park on the Highline Middle School side. The buildings are all locked\, but someone will be there (or instructions at the door) so you can be buzzed in. \nNote: Landmark to LOOK FOR when turning onto 152nd Ave off of Bel Red Road: SOKHU THAI RESTAURANT \nPrior to song circle we will review a few of our gig songs to keep them polished. \nAfter that\, song circle will proceed using the GREEN BOOK or the GIG SONGS  \nPlease look through the music and bring the titles of your choice.
URL:https://ukesters.com/event/song-circle-silver-glen-53/
LOCATION:Silver Glen\, 1750 152nd Ave NE\, Bellevue\, WA\, 98007\, United States
ATTACH;FMTTYPE=image/jpeg:https://ukesters.com/wp-content/uploads/2022/11/SilverGlen.jpg
END:VEVENT
BEGIN:VEVENT
DTSTART;TZID=America/Los_Angeles:20241009T130000
DTEND;TZID=America/Los_Angeles:20241009T143000
DTSTAMP:20260424T141550
CREATED:20240914T212219Z
LAST-MODIFIED:20240927T170926Z
UID:4653-1728478800-1728484200@ukesters.com
SUMMARY:Song Circle - Silver Glen
DESCRIPTION:Song Circle is an informal gathering to sing and play together. \nIf you have not been to Silver Glen\, scroll to bottom of this page for address and a link to google maps. \nWe are meeting in building 1750. You may park along 152nd Avenue\, as long as you park on the Highline Middle School side. The buildings are all locked\, but someone will be there (or instructions at the door) so you can be buzzed in. \nNote: Landmark to LOOK FOR when turning onto 152nd Ave off of Bel Red Road: SOKHU THAI RESTAURANT \nWe will review a few selected gig songs prior to song circle to ensure they stay polished. \nAfter that\, songs for song circle can be picked from  the RED BOOK\, and/or  GIG SONGS.  \nCome prepared with a list of your favorites
URL:https://ukesters.com/event/song-circle-silver-glen-54/
LOCATION:Silver Glen\, 1750 152nd Ave NE\, Bellevue\, WA\, 98007\, United States
ATTACH;FMTTYPE=image/jpeg:https://ukesters.com/wp-content/uploads/2022/11/SilverGlen.jpg
END:VEVENT
BEGIN:VEVENT
DTSTART;TZID=America/Los_Angeles:20241016T130000
DTEND;TZID=America/Los_Angeles:20241016T143000
DTSTAMP:20260424T141550
CREATED:20240914T212904Z
LAST-MODIFIED:20240927T171043Z
UID:4655-1729083600-1729089000@ukesters.com
SUMMARY:Song Circle - Silver Glen
DESCRIPTION:Song Circle is an informal gathering to sing and play together. \nIf you have not been to Silver Glen\, scroll to bottom of this page for address and a link to google maps. \nWe are meeting in building 1750. You may park along 152nd Avenue\, as long as you park on the Highline Middle School side. The buildings are all locked\, but someone will be there (or instructions at the door) so you can be buzzed in. \nNote: Landmark to LOOK FOR when turning onto 152nd Ave off of Bel Red Road: SOKHU THAI RESTAURANT \nBefore we start song circle\, we will run through a few selected gig songs (these will be announced via email). \nAfter that\, songs for song circle may be chosen from the MISC SONGS or  GIG SONGS  \nCome prepared with a list of your favorites!
URL:https://ukesters.com/event/4655/
LOCATION:Silver Glen\, 1750 152nd Ave NE\, Bellevue\, WA\, 98007\, United States
ATTACH;FMTTYPE=image/jpeg:https://ukesters.com/wp-content/uploads/2022/11/SilverGlen.jpg
END:VEVENT
BEGIN:VEVENT
DTSTART;TZID=America/Los_Angeles:20241023T130000
DTEND;TZID=America/Los_Angeles:20241023T143000
DTSTAMP:20260424T141550
CREATED:20240914T213542Z
LAST-MODIFIED:20240927T171204Z
UID:4659-1729688400-1729693800@ukesters.com
SUMMARY:Song Circle - Silver Glen
DESCRIPTION:Song Circle is an informal gathering to sing and play together. \nIf you have not been to Silver Glen\, scroll to bottom of this page for address and a link to google maps. \nWe are meeting in building 1750. You may park along 152nd Avenue\, as long as you park on the Highline Middle School side. The buildings are all locked\, but someone will be there (or instructions at the door) so you can be buzzed in. \nNote: Landmark to LOOK FOR when turning onto 152nd Ave off of Bel Red Road: SOKHU THAI RESTAURANT \nWe will run through a few selected gig songs before song circle. \nAfter that songs may be chosen from the TEAL BOOK\, or  GIG SONGS  \nCome prepared with a list of your favorites!
URL:https://ukesters.com/event/song-circle-silver-glen-55/
LOCATION:Silver Glen\, 1750 152nd Ave NE\, Bellevue\, WA\, 98007\, United States
ATTACH;FMTTYPE=image/jpeg:https://ukesters.com/wp-content/uploads/2022/11/SilverGlen.jpg
END:VEVENT
BEGIN:VEVENT
DTSTART;TZID=America/Los_Angeles:20241030T130000
DTEND;TZID=America/Los_Angeles:20241030T143000
DTSTAMP:20260424T141550
CREATED:20240927T170530Z
LAST-MODIFIED:20240927T170530Z
UID:4699-1730293200-1730298600@ukesters.com
SUMMARY:Song Circle - Silver Glen
DESCRIPTION:Song Circle is an informal gathering to sing and play together. \nIf you have not been to Silver Glen\, scroll to bottom of this page for address and a link to google maps. \nWe are meeting in building 1750. You may park along 152nd Avenue\, as long as you park on the Highline Middle School side. The buildings are all locked\, but someone will be there (or instructions at the door) so you can be buzzed in. \nNote: Landmark to LOOK FOR when turning onto 152nd Ave off of Bel Red Road: SOKHU THAI RESTAURANT \nPrior to song circle we will review a few gig songs to ensure they stay fresh! \nFollowing that\,  song circle will use HALLOWEEN SONGS (to be sent via email) or the GIG SONGS  \nPlease look through the music and bring the titles of your choice.
URL:https://ukesters.com/event/song-circle-silver-glen-56/
LOCATION:Silver Glen\, 1750 152nd Ave NE\, Bellevue\, WA\, 98007\, United States
ATTACH;FMTTYPE=image/jpeg:https://ukesters.com/wp-content/uploads/2022/11/SilverGlen.jpg
END:VEVENT
END:VCALENDAR